BEGIN:VCALENDAR
VERSION:2.0
PRODID:-//Shaar Shalom Synagogue - ECPv6.15.20//NONSGML v1.0//EN
CALSCALE:GREGORIAN
METHOD:PUBLISH
X-ORIGINAL-URL:https://theshaar.ca
X-WR-CALDESC:Events for Shaar Shalom Synagogue
REFRESH-INTERVAL;VALUE=DURATION:PT1H
X-Robots-Tag:noindex
X-PUBLISHED-TTL:PT1H
BEGIN:VTIMEZONE
TZID:America/Halifax
BEGIN:DAYLIGHT
TZOFFSETFROM:-0400
TZOFFSETTO:-0300
TZNAME:ADT
DTSTART:20160313T060000
END:DAYLIGHT
BEGIN:STANDARD
TZOFFSETFROM:-0300
TZOFFSETTO:-0400
TZNAME:AST
DTSTART:20161106T050000
END:STANDARD
BEGIN:DAYLIGHT
TZOFFSETFROM:-0400
TZOFFSETTO:-0300
TZNAME:ADT
DTSTART:20170312T060000
END:DAYLIGHT
BEGIN:STANDARD
TZOFFSETFROM:-0300
TZOFFSETTO:-0400
TZNAME:AST
DTSTART:20171105T050000
END:STANDARD
BEGIN:DAYLIGHT
TZOFFSETFROM:-0400
TZOFFSETTO:-0300
TZNAME:ADT
DTSTART:20180311T060000
END:DAYLIGHT
BEGIN:STANDARD
TZOFFSETFROM:-0300
TZOFFSETTO:-0400
TZNAME:AST
DTSTART:20181104T050000
END:STANDARD
END:VTIMEZONE
BEGIN:VEVENT
DTSTART;TZID=America/Halifax:20170511T200000
DTEND;TZID=America/Halifax:20170511T220000
DTSTAMP:20260425T232836
CREATED:20170330T001331Z
LAST-MODIFIED:20170330T001331Z
UID:2563-1494532800-1494540000@theshaar.ca
SUMMARY:Old Stock: A Refugee Love Story
DESCRIPTION:“Old Stock: A Refugee Love Story”\nwritten by Hannah Moscovitch\, Ben Caplan\, and Christian Barry & directed by Christian Barry \nAbout the Production\n2b theatre company\, a local Halifax company\, joins forces with 2 young Jewish adults living in Halifax: klezmer-folk sensation Ben Caplan and Dora Award-winning local playwright Hannah Moscovitch to tell a Canadian Jewish refugee story that hits close to home. \nThis genre-bending music-theatre hybrid is inspired by the real-life story of Moscovitch’s great-grandparents\, both Romanian Jews\, immigrating to Canada in the early twentieth century. Ben Caplan plays the mysterious emcee in this examination of the refugee experience\, viewed through the historical lens of Jewish immigrants a hundred years ago. And it’s also a love story. The show will take the form of a humourously dark folktale woven together with a high-energy concert. \nFor this night only of the show’s run\, there will be a talk-back after the production featuring the show’s producers and a local Jewish newcomer\, comparing and contrasting the Jewish immigration experiences of past and present.  \nTicketing Details\nEarly bird tickets are $25 and will be available until April 1st\, at which point General Admission tickets will be $30. The AJC has arranged a 20% group ticket discount on top of these prices for the night of May 11th\, available by promo code only. Please email nrosenfeld@theajc.ns.ca to obtain this code. \nOnce you have this code\, tickets can be purchased online at: http://www.tickethalifax.com/events/42156692/old-stock-a-refugee-love-story \nUnderwaged tickets are available to anyone with limited disposable income\, including (but not limited to) students\, arts workers\, and seniors on fixed incomes. 
URL:https://theshaar.ca/event/old-stock-refugee-love-story/
LOCATION:The Waiting Room\, 6060 Almon Street\, Halifax\, NS\, Canada
CATEGORIES:Special Events
ATTACH;FMTTYPE=image/jpeg:/wp-content/uploads/2017/03/Old-Stock-A-Refugee-Love-Story.jpg
GEO:44.6564308;-63.5998898
X-APPLE-STRUCTURED-LOCATION;VALUE=URI;X-ADDRESS=The Waiting Room 6060 Almon Street Halifax NS Canada;X-APPLE-RADIUS=500;X-TITLE=6060 Almon Street:geo:-63.5998898,44.6564308
END:VEVENT
END:VCALENDAR