BEGIN:VCALENDAR
VERSION:2.0
PRODID:-//Shaar Shalom Synagogue - ECPv6.15.20//NONSGML v1.0//EN
CALSCALE:GREGORIAN
METHOD:PUBLISH
X-ORIGINAL-URL:https://theshaar.ca
X-WR-CALDESC:Events for Shaar Shalom Synagogue
REFRESH-INTERVAL;VALUE=DURATION:PT1H
X-Robots-Tag:noindex
X-PUBLISHED-TTL:PT1H
BEGIN:VTIMEZONE
TZID:America/Halifax
BEGIN:DAYLIGHT
TZOFFSETFROM:-0400
TZOFFSETTO:-0300
TZNAME:ADT
DTSTART:20160313T060000
END:DAYLIGHT
BEGIN:STANDARD
TZOFFSETFROM:-0300
TZOFFSETTO:-0400
TZNAME:AST
DTSTART:20161106T050000
END:STANDARD
BEGIN:DAYLIGHT
TZOFFSETFROM:-0400
TZOFFSETTO:-0300
TZNAME:ADT
DTSTART:20170312T060000
END:DAYLIGHT
BEGIN:STANDARD
TZOFFSETFROM:-0300
TZOFFSETTO:-0400
TZNAME:AST
DTSTART:20171105T050000
END:STANDARD
BEGIN:DAYLIGHT
TZOFFSETFROM:-0400
TZOFFSETTO:-0300
TZNAME:ADT
DTSTART:20180311T060000
END:DAYLIGHT
BEGIN:STANDARD
TZOFFSETFROM:-0300
TZOFFSETTO:-0400
TZNAME:AST
DTSTART:20181104T050000
END:STANDARD
END:VTIMEZONE
BEGIN:VEVENT
DTSTART;TZID=America/Halifax:20170801T121500
DTEND;TZID=America/Halifax:20170801T130000
DTSTAMP:20260424T023649
CREATED:20170622T172729Z
LAST-MODIFIED:20170808T020611Z
UID:3141-1501589700-1501592400@theshaar.ca
SUMMARY:Tea and Talmud
DESCRIPTION:Join Rabbi Weiss at the Starbucks on Spring Garden Road (corner of Spring Garden and Robie) during your lunch-break for lunchtime Talmud classes. Each week\, come explore one essential Talmud story and its implications today. English translations provided\, no RSVP required.
URL:https://theshaar.ca/event/tea-talmud-session-3/
LOCATION:Starbucks\, 5991 Spring Garden Road (corner of Robie and Spring Garden)\, Halifax\, NS\, B3H 1Y6
CATEGORIES:Special Events
ATTACH;FMTTYPE=image/png:/wp-content/uploads/2017/06/Tea-is-for-Talmud.png
GEO:44.6408497;-63.5868055
X-APPLE-STRUCTURED-LOCATION;VALUE=URI;X-ADDRESS=Starbucks 5991 Spring Garden Road (corner of Robie and Spring Garden) Halifax NS B3H 1Y6;X-APPLE-RADIUS=500;X-TITLE=5991 Spring Garden Road (corner of Robie and Spring Garden):geo:-63.5868055,44.6408497
END:VEVENT
BEGIN:VEVENT
DTSTART;TZID=America/Halifax:20170725T121500
DTEND;TZID=America/Halifax:20170725T130000
DTSTAMP:20260424T023649
CREATED:20170622T171815Z
LAST-MODIFIED:20170808T020307Z
UID:3138-1500984900-1500987600@theshaar.ca
SUMMARY:Tea is for Talmud
DESCRIPTION:Join Rabbi Weiss at the Starbucks on Spring Garden Road (corner of Spring Garden and Robie) during your lunch-break for the second of five weekly lunchtime Talmud classes. Each week\, come explore one essential Talmud story and its implications today. English translations provided\, no RSVP required.
URL:https://theshaar.ca/event/tea-talmud-session-2/
LOCATION:Starbucks\, 5991 Spring Garden Road (corner of Robie and Spring Garden)\, Halifax\, NS\, B3H 1Y6
CATEGORIES:Special Events
ATTACH;FMTTYPE=image/png:/wp-content/uploads/2017/06/Tea-is-for-Talmud.png
GEO:44.6408497;-63.5868055
X-APPLE-STRUCTURED-LOCATION;VALUE=URI;X-ADDRESS=Starbucks 5991 Spring Garden Road (corner of Robie and Spring Garden) Halifax NS B3H 1Y6;X-APPLE-RADIUS=500;X-TITLE=5991 Spring Garden Road (corner of Robie and Spring Garden):geo:-63.5868055,44.6408497
END:VEVENT
BEGIN:VEVENT
DTSTART;TZID=America/Halifax:20170718T121500
DTEND;TZID=America/Halifax:20170718T130000
DTSTAMP:20260424T023649
CREATED:20170622T171512Z
LAST-MODIFIED:20170622T171912Z
UID:3133-1500380100-1500382800@theshaar.ca
SUMMARY:Tea is for Talmud Session 1
DESCRIPTION:Join Rabbi Weiss at the Starbucks on Spring Garden Road (corner of Spring Garden and Robie) during your lunch-break for the first of five weekly lunchtime Talmud classes. Each week\, come explore one essential Talmud story and its implications today. English translations provided\, no RSVP required. \n 
URL:https://theshaar.ca/event/tea-talmud-session-1/
LOCATION:Starbucks\, 5991 Spring Garden Road (corner of Robie and Spring Garden)\, Halifax\, NS\, B3H 1Y6
CATEGORIES:Special Events
ATTACH;FMTTYPE=image/png:/wp-content/uploads/2017/06/Tea-is-for-Talmud.png
GEO:44.6408497;-63.5868055
X-APPLE-STRUCTURED-LOCATION;VALUE=URI;X-ADDRESS=Starbucks 5991 Spring Garden Road (corner of Robie and Spring Garden) Halifax NS B3H 1Y6;X-APPLE-RADIUS=500;X-TITLE=5991 Spring Garden Road (corner of Robie and Spring Garden):geo:-63.5868055,44.6408497
END:VEVENT
END:VCALENDAR