BEGIN:VCALENDAR
VERSION:2.0
PRODID:-//Shaar Shalom Synagogue - ECPv6.15.20//NONSGML v1.0//EN
CALSCALE:GREGORIAN
METHOD:PUBLISH
X-ORIGINAL-URL:https://theshaar.ca
X-WR-CALDESC:Events for Shaar Shalom Synagogue
REFRESH-INTERVAL;VALUE=DURATION:PT1H
X-Robots-Tag:noindex
X-PUBLISHED-TTL:PT1H
BEGIN:VTIMEZONE
TZID:UTC
BEGIN:STANDARD
TZOFFSETFROM:+0000
TZOFFSETTO:+0000
TZNAME:UTC
DTSTART:20140101T000000
END:STANDARD
END:VTIMEZONE
BEGIN:VEVENT
DTSTART;TZID=UTC:20151008T193000
DTEND;TZID=UTC:20151008T220000
DTSTAMP:20260425T135954
CREATED:20150925T154413Z
LAST-MODIFIED:20150925T154738Z
UID:65-1444332600-1444341600@theshaar.ca
SUMMARY:Gilsig Series Presents "Regina"
DESCRIPTION:The story of Regina Jonas\, the first woman to be ordained a rabbi – in 1935 Berlin – and the student who discovered her truth.
URL:https://theshaar.ca/event/gilsig-series-presents-regina/
LOCATION:Sir James Dunn Theatre\, 6101 University Ave\, Halifax\, NS\, Canada
CATEGORIES:Special Events
ATTACH;FMTTYPE=image/jpeg:/wp-content/uploads/2015/09/image_large.jpeg
GEO:44.637899;-63.5885418
X-APPLE-STRUCTURED-LOCATION;VALUE=URI;X-ADDRESS=Sir James Dunn Theatre 6101 University Ave Halifax NS Canada;X-APPLE-RADIUS=500;X-TITLE=6101 University Ave:geo:-63.5885418,44.637899
END:VEVENT
END:VCALENDAR