BEGIN:VCALENDAR
VERSION:2.0
PRODID:-//Shaar Shalom Synagogue - ECPv6.15.20//NONSGML v1.0//EN
CALSCALE:GREGORIAN
METHOD:PUBLISH
X-ORIGINAL-URL:https://theshaar.ca
X-WR-CALDESC:Events for Shaar Shalom Synagogue
REFRESH-INTERVAL;VALUE=DURATION:PT1H
X-Robots-Tag:noindex
X-PUBLISHED-TTL:PT1H
BEGIN:VTIMEZONE
TZID:America/Halifax
BEGIN:DAYLIGHT
TZOFFSETFROM:-0400
TZOFFSETTO:-0300
TZNAME:ADT
DTSTART:20160313T060000
END:DAYLIGHT
BEGIN:STANDARD
TZOFFSETFROM:-0300
TZOFFSETTO:-0400
TZNAME:AST
DTSTART:20161106T050000
END:STANDARD
BEGIN:DAYLIGHT
TZOFFSETFROM:-0400
TZOFFSETTO:-0300
TZNAME:ADT
DTSTART:20170312T060000
END:DAYLIGHT
BEGIN:STANDARD
TZOFFSETFROM:-0300
TZOFFSETTO:-0400
TZNAME:AST
DTSTART:20171105T050000
END:STANDARD
BEGIN:DAYLIGHT
TZOFFSETFROM:-0400
TZOFFSETTO:-0300
TZNAME:ADT
DTSTART:20180311T060000
END:DAYLIGHT
BEGIN:STANDARD
TZOFFSETFROM:-0300
TZOFFSETTO:-0400
TZNAME:AST
DTSTART:20181104T050000
END:STANDARD
BEGIN:DAYLIGHT
TZOFFSETFROM:-0400
TZOFFSETTO:-0300
TZNAME:ADT
DTSTART:20190310T060000
END:DAYLIGHT
BEGIN:STANDARD
TZOFFSETFROM:-0300
TZOFFSETTO:-0400
TZNAME:AST
DTSTART:20191103T050000
END:STANDARD
BEGIN:DAYLIGHT
TZOFFSETFROM:-0400
TZOFFSETTO:-0300
TZNAME:ADT
DTSTART:20200308T060000
END:DAYLIGHT
BEGIN:STANDARD
TZOFFSETFROM:-0300
TZOFFSETTO:-0400
TZNAME:AST
DTSTART:20201101T050000
END:STANDARD
END:VTIMEZONE
BEGIN:VEVENT
DTSTART;TZID=America/Halifax:20190721T100000
DTEND;TZID=America/Halifax:20190721T100000
DTSTAMP:20260424T100439
CREATED:20190425T182057Z
LAST-MODIFIED:20190703T163852Z
UID:5596-1563703200-1563703200@theshaar.ca
SUMMARY:Dedication of the Morris & Esther Strug Memorial Garden
DESCRIPTION:A generous donation from the Strug family has made it possible to construct a permanent\, covered\, and landscaped seating area (with ritual wash station) in the Shaar Shalom Cemetery. At 10am on Sunday\, July 21st\, the Strug family will dedicate the area in memory of Morris and Esther Strug. The “Morris and Esther Strug Memorial Garden” is a touching way to remember forever two founding members of the Shaar Shalom. The beautiful seating area is nestled under a tree and oversees the final resting place of many of our other founding members as well as those who have been part of the Shaar community since.
URL:https://theshaar.ca/event/dedication-of-the-morris-esther-strug-memorial-garden/
LOCATION:Shaar Shalom Cemetery\, Connaught Avenue (just below the corner of Windsor Street)\, Halifax\, NS
CATEGORIES:Special Events
END:VEVENT
BEGIN:VEVENT
DTSTART;TZID=America/Halifax:20170917T110000
DTEND;TZID=America/Halifax:20170917T130000
DTSTAMP:20260424T100439
CREATED:20170817T165454Z
LAST-MODIFIED:20170817T165454Z
UID:3352-1505646000-1505653200@theshaar.ca
SUMMARY:Shaar Cemetery Visitation
DESCRIPTION:
URL:https://theshaar.ca/event/shaar-cemetery-visitation/
LOCATION:Shaar Shalom Cemetery\, Connaught Avenue (just below the corner of Windsor Street)\, Halifax\, NS
CATEGORIES:Special Events
ATTACH;FMTTYPE=image/jpeg:/wp-content/uploads/2015/08/IMG_3547.jpg
END:VEVENT
BEGIN:VEVENT
DTSTART;TZID=America/Halifax:20170618T090000
DTEND;TZID=America/Halifax:20170618T110000
DTSTAMP:20260424T100439
CREATED:20170615T185842Z
LAST-MODIFIED:20170628T001609Z
UID:3117-1497776400-1497783600@theshaar.ca
SUMMARY:Father's Day Cemetery Visit
DESCRIPTION:On Father’s Day\, June 18th\, the cemetery will be opened for visits between 9 am and 11 am. Rabbi Weiss will be present until 9:45 am\, before leaving for the Hebrew School Closing Ceremony
URL:https://theshaar.ca/event/fathers-day-cemetery-visit/
LOCATION:Shaar Shalom Cemetery\, Connaught Avenue (just below the corner of Windsor Street)\, Halifax\, NS
CATEGORIES:Special Events
ATTACH;FMTTYPE=image/jpeg:/wp-content/uploads/2015/08/IMG_3547.jpg
END:VEVENT
END:VCALENDAR