BEGIN:VCALENDAR
VERSION:2.0
PRODID:-//Shaar Shalom Synagogue - ECPv6.15.20//NONSGML v1.0//EN
CALSCALE:GREGORIAN
METHOD:PUBLISH
X-ORIGINAL-URL:https://theshaar.ca
X-WR-CALDESC:Events for Shaar Shalom Synagogue
REFRESH-INTERVAL;VALUE=DURATION:PT1H
X-Robots-Tag:noindex
X-PUBLISHED-TTL:PT1H
BEGIN:VTIMEZONE
TZID:America/Halifax
BEGIN:DAYLIGHT
TZOFFSETFROM:-0400
TZOFFSETTO:-0300
TZNAME:ADT
DTSTART:20170312T060000
END:DAYLIGHT
BEGIN:STANDARD
TZOFFSETFROM:-0300
TZOFFSETTO:-0400
TZNAME:AST
DTSTART:20171105T050000
END:STANDARD
BEGIN:DAYLIGHT
TZOFFSETFROM:-0400
TZOFFSETTO:-0300
TZNAME:ADT
DTSTART:20180311T060000
END:DAYLIGHT
BEGIN:STANDARD
TZOFFSETFROM:-0300
TZOFFSETTO:-0400
TZNAME:AST
DTSTART:20181104T050000
END:STANDARD
BEGIN:DAYLIGHT
TZOFFSETFROM:-0400
TZOFFSETTO:-0300
TZNAME:ADT
DTSTART:20190310T060000
END:DAYLIGHT
BEGIN:STANDARD
TZOFFSETFROM:-0300
TZOFFSETTO:-0400
TZNAME:AST
DTSTART:20191103T050000
END:STANDARD
END:VTIMEZONE
BEGIN:VEVENT
DTSTART;TZID=America/Halifax:20180218T163000
DTEND;TZID=America/Halifax:20180218T163000
DTSTAMP:20260424T084925
CREATED:20180211T132424Z
LAST-MODIFIED:20180211T132424Z
UID:4289-1518971400-1518971400@theshaar.ca
SUMMARY:Post-Bar/Bat Mitzvah Escape Room Adventure
DESCRIPTION:A special outing with Rabbi Weiss for members of our community who have recently become the age of bar/bat mitzvah (13) to connect and have fun! For more information\, please contact Rabbi Weiss (Rabbirayshweiss@gmail.com).
URL:https://theshaar.ca/event/post-bar-bat-mitzvah-escape-room-adventure/
LOCATION:Mind Hack Escape Room\, 1410 Hammonds Plain Road\, Halifax\, NS\, B4B 1P6\, Canada
CATEGORIES:Special Events
GEO:44.7278713;-63.7481347
X-APPLE-STRUCTURED-LOCATION;VALUE=URI;X-ADDRESS=Mind Hack Escape Room 1410 Hammonds Plain Road Halifax NS B4B 1P6 Canada;X-APPLE-RADIUS=500;X-TITLE=1410 Hammonds Plain Road:geo:-63.7481347,44.7278713
END:VEVENT
END:VCALENDAR