BEGIN:VCALENDAR
VERSION:2.0
PRODID:-//Shaar Shalom Synagogue - ECPv6.15.20//NONSGML v1.0//EN
CALSCALE:GREGORIAN
METHOD:PUBLISH
X-ORIGINAL-URL:https://theshaar.ca
X-WR-CALDESC:Events for Shaar Shalom Synagogue
REFRESH-INTERVAL;VALUE=DURATION:PT1H
X-Robots-Tag:noindex
X-PUBLISHED-TTL:PT1H
BEGIN:VTIMEZONE
TZID:America/Halifax
BEGIN:DAYLIGHT
TZOFFSETFROM:-0400
TZOFFSETTO:-0300
TZNAME:ADT
DTSTART:20180311T060000
END:DAYLIGHT
BEGIN:STANDARD
TZOFFSETFROM:-0300
TZOFFSETTO:-0400
TZNAME:AST
DTSTART:20181104T050000
END:STANDARD
BEGIN:DAYLIGHT
TZOFFSETFROM:-0400
TZOFFSETTO:-0300
TZNAME:ADT
DTSTART:20190310T060000
END:DAYLIGHT
BEGIN:STANDARD
TZOFFSETFROM:-0300
TZOFFSETTO:-0400
TZNAME:AST
DTSTART:20191103T050000
END:STANDARD
BEGIN:DAYLIGHT
TZOFFSETFROM:-0400
TZOFFSETTO:-0300
TZNAME:ADT
DTSTART:20200308T060000
END:DAYLIGHT
BEGIN:STANDARD
TZOFFSETFROM:-0300
TZOFFSETTO:-0400
TZNAME:AST
DTSTART:20201101T050000
END:STANDARD
END:VTIMEZONE
BEGIN:VEVENT
DTSTART;TZID=America/Halifax:20191016T190000
DTEND;TZID=America/Halifax:20191016T210000
DTSTAMP:20260425T121137
CREATED:20190927T192137Z
LAST-MODIFIED:20190927T192137Z
UID:6607-1571252400-1571259600@theshaar.ca
SUMMARY:Shaar Shalom Lecture at Dalhousie: Michaëlle Jean
DESCRIPTION:Please join us as we welcome the former Governor General of Canada\, Her Excellency the Right Honourable Michaëlle Jean to deliver the 2019-20 Shaar Shalom Lecture at Dalhousie University. \nThe lecture is free and will be presented in the McInnes Room of the Student Union Building at Dalhousie University. The building is accessible and there is an elevator to the second floor.
URL:https://theshaar.ca/event/shaar-shalom-lecture-at-dalhousie-michaelle-jean/
LOCATION:McInnes Room of the Student Union Building at Dalhousie University
ATTACH;FMTTYPE=image/jpeg:/wp-content/uploads/2019/09/Shaar-Shalom-Jean-Lecture-Twitter-880x440b-002.jpg
END:VEVENT
END:VCALENDAR