BEGIN:VCALENDAR
VERSION:2.0
PRODID:-//Shaar Shalom Synagogue - ECPv6.15.20//NONSGML v1.0//EN
CALSCALE:GREGORIAN
METHOD:PUBLISH
X-WR-CALNAME:Shaar Shalom Synagogue
X-ORIGINAL-URL:https://theshaar.ca
X-WR-CALDESC:Events for Shaar Shalom Synagogue
REFRESH-INTERVAL;VALUE=DURATION:PT1H
X-Robots-Tag:noindex
X-PUBLISHED-TTL:PT1H
BEGIN:VTIMEZONE
TZID:America/Halifax
BEGIN:DAYLIGHT
TZOFFSETFROM:-0400
TZOFFSETTO:-0300
TZNAME:ADT
DTSTART:20170312T060000
END:DAYLIGHT
BEGIN:STANDARD
TZOFFSETFROM:-0300
TZOFFSETTO:-0400
TZNAME:AST
DTSTART:20171105T050000
END:STANDARD
BEGIN:DAYLIGHT
TZOFFSETFROM:-0400
TZOFFSETTO:-0300
TZNAME:ADT
DTSTART:20180311T060000
END:DAYLIGHT
BEGIN:STANDARD
TZOFFSETFROM:-0300
TZOFFSETTO:-0400
TZNAME:AST
DTSTART:20181104T050000
END:STANDARD
BEGIN:DAYLIGHT
TZOFFSETFROM:-0400
TZOFFSETTO:-0300
TZNAME:ADT
DTSTART:20190310T060000
END:DAYLIGHT
BEGIN:STANDARD
TZOFFSETFROM:-0300
TZOFFSETTO:-0400
TZNAME:AST
DTSTART:20191103T050000
END:STANDARD
END:VTIMEZONE
BEGIN:VEVENT
DTSTART;TZID=America/Halifax:20180624T140000
DTEND;TZID=America/Halifax:20180624T140000
DTSTAMP:20260425T112554
CREATED:20180607T184136Z
LAST-MODIFIED:20180607T184136Z
UID:4779-1529848800-1529848800@theshaar.ca
SUMMARY:"Jews of the Titanic” Talk
DESCRIPTION:Join the AJC at the Maritime Museum of the Atlantic on Sunday June 24th\, 2pm\, for a talk by Eli Moskowitz\, author of the book “Jews of the Titanic”. The book will launch at the Titanic Conference on June 21st. Topics of the talk will include kashrut onboard ship\, the “agunot” dilemma*\, Jewish burial in Halifax\, and more. All are welcome! https://theajc.ns.ca/jews-of-the-titanic/ \n 
URL:https://theshaar.ca/event/jews-of-the-titanic-talk/
LOCATION:Maritime Museum of the Atlantic\, 1675 Lower Water St\, Halifax\, NS\, B3J 1S3\, Canada
GEO:44.6475327;-63.5707901
X-APPLE-STRUCTURED-LOCATION;VALUE=URI;X-ADDRESS=Maritime Museum of the Atlantic 1675 Lower Water St Halifax NS B3J 1S3 Canada;X-APPLE-RADIUS=500;X-TITLE=1675 Lower Water St:geo:-63.5707901,44.6475327
END:VEVENT
END:VCALENDAR