BEGIN:VCALENDAR
VERSION:2.0
PRODID:-//Shaar Shalom Synagogue - ECPv6.15.20//NONSGML v1.0//EN
CALSCALE:GREGORIAN
METHOD:PUBLISH
X-WR-CALNAME:Shaar Shalom Synagogue
X-ORIGINAL-URL:https://theshaar.ca
X-WR-CALDESC:Events for Shaar Shalom Synagogue
REFRESH-INTERVAL;VALUE=DURATION:PT1H
X-Robots-Tag:noindex
X-PUBLISHED-TTL:PT1H
BEGIN:VTIMEZONE
TZID:America/Halifax
BEGIN:DAYLIGHT
TZOFFSETFROM:-0400
TZOFFSETTO:-0300
TZNAME:ADT
DTSTART:20160313T060000
END:DAYLIGHT
BEGIN:STANDARD
TZOFFSETFROM:-0300
TZOFFSETTO:-0400
TZNAME:AST
DTSTART:20161106T050000
END:STANDARD
BEGIN:DAYLIGHT
TZOFFSETFROM:-0400
TZOFFSETTO:-0300
TZNAME:ADT
DTSTART:20170312T060000
END:DAYLIGHT
BEGIN:STANDARD
TZOFFSETFROM:-0300
TZOFFSETTO:-0400
TZNAME:AST
DTSTART:20171105T050000
END:STANDARD
BEGIN:DAYLIGHT
TZOFFSETFROM:-0400
TZOFFSETTO:-0300
TZNAME:ADT
DTSTART:20180311T060000
END:DAYLIGHT
BEGIN:STANDARD
TZOFFSETFROM:-0300
TZOFFSETTO:-0400
TZNAME:AST
DTSTART:20181104T050000
END:STANDARD
BEGIN:DAYLIGHT
TZOFFSETFROM:-0400
TZOFFSETTO:-0300
TZNAME:ADT
DTSTART:20190310T060000
END:DAYLIGHT
BEGIN:STANDARD
TZOFFSETFROM:-0300
TZOFFSETTO:-0400
TZNAME:AST
DTSTART:20191103T050000
END:STANDARD
END:VTIMEZONE
BEGIN:VEVENT
DTSTART;TZID=America/Halifax:20180305T120000
DTEND;TZID=America/Halifax:20180305T130000
DTSTAMP:20260423T195215
CREATED:20171227T185018Z
LAST-MODIFIED:20171227T185018Z
UID:4126-1520251200-1520254800@theshaar.ca
SUMMARY:Women in the Talmud
DESCRIPTION:This is a 5-part weekly series led by Rabbi Weiss at the Smiling Goat Café (previously Just Us!) at 5896 Spring Garden Road (corner of Spring Garden and Carlton Street) on Mondays from noon to 1pm. \nNo RSVP is necessary!
URL:https://theshaar.ca/event/women-in-the-talmud-5/
LOCATION:The Smiling Goat Cafe (previously Just Us Cafe)\, 5896 Spring Garden Road\, Halifax\, NS
CATEGORIES:Special Events
GEO:44.6407013;-63.5846952
X-APPLE-STRUCTURED-LOCATION;VALUE=URI;X-ADDRESS=The Smiling Goat Cafe (previously Just Us Cafe) 5896 Spring Garden Road Halifax NS;X-APPLE-RADIUS=500;X-TITLE=5896 Spring Garden Road:geo:-63.5846952,44.6407013
END:VEVENT
BEGIN:VEVENT
DTSTART;TZID=America/Halifax:20180226T120000
DTEND;TZID=America/Halifax:20180226T130000
DTSTAMP:20260423T195215
CREATED:20171227T184928Z
LAST-MODIFIED:20171227T184928Z
UID:4124-1519646400-1519650000@theshaar.ca
SUMMARY:Women in the Talmud
DESCRIPTION:This is a 5-part weekly series led by Rabbi Weiss at the Smiling Goat Café (previously Just Us!) at 5896 Spring Garden Road (corner of Spring Garden and Carlton Street) on Mondays from noon to 1pm. \nNo RSVP is necessary!
URL:https://theshaar.ca/event/women-in-the-talmud-4/
LOCATION:The Smiling Goat Cafe (previously Just Us Cafe)\, 5896 Spring Garden Road\, Halifax\, NS
CATEGORIES:Special Events
GEO:44.6407013;-63.5846952
X-APPLE-STRUCTURED-LOCATION;VALUE=URI;X-ADDRESS=The Smiling Goat Cafe (previously Just Us Cafe) 5896 Spring Garden Road Halifax NS;X-APPLE-RADIUS=500;X-TITLE=5896 Spring Garden Road:geo:-63.5846952,44.6407013
END:VEVENT
BEGIN:VEVENT
DTSTART;TZID=America/Halifax:20180219T120000
DTEND;TZID=America/Halifax:20180219T130000
DTSTAMP:20260423T195215
CREATED:20171227T184839Z
LAST-MODIFIED:20171227T184839Z
UID:4122-1519041600-1519045200@theshaar.ca
SUMMARY:Women in the Talmud
DESCRIPTION:This is a 5-part weekly series led by Rabbi Weiss at the Smiling Goat Café (previously Just Us!) at 5896 Spring Garden Road (corner of Spring Garden and Carlton Street) on Mondays from noon to 1pm. \nNo RSVP is necessary!
URL:https://theshaar.ca/event/women-in-the-talmud-3/
LOCATION:The Smiling Goat Cafe (previously Just Us Cafe)\, 5896 Spring Garden Road\, Halifax\, NS
CATEGORIES:Special Events
GEO:44.6407013;-63.5846952
X-APPLE-STRUCTURED-LOCATION;VALUE=URI;X-ADDRESS=The Smiling Goat Cafe (previously Just Us Cafe) 5896 Spring Garden Road Halifax NS;X-APPLE-RADIUS=500;X-TITLE=5896 Spring Garden Road:geo:-63.5846952,44.6407013
END:VEVENT
BEGIN:VEVENT
DTSTART;TZID=America/Halifax:20180212T120000
DTEND;TZID=America/Halifax:20180212T130000
DTSTAMP:20260423T195215
CREATED:20171227T184742Z
LAST-MODIFIED:20171227T184753Z
UID:4120-1518436800-1518440400@theshaar.ca
SUMMARY:Women in the Talmud
DESCRIPTION:This is a 5-part weekly series led by Rabbi Weiss at the Smiling Goat Café (previously Just Us!) at 5896 Spring Garden Road (corner of Spring Garden and Carlton Street) on Mondays from noon to 1pm. \nNo RSVP is necessary!
URL:https://theshaar.ca/event/women-in-the-talmud-2/
LOCATION:The Smiling Goat Cafe (previously Just Us Cafe)\, 5896 Spring Garden Road\, Halifax\, NS
CATEGORIES:Special Events
GEO:44.6407013;-63.5846952
X-APPLE-STRUCTURED-LOCATION;VALUE=URI;X-ADDRESS=The Smiling Goat Cafe (previously Just Us Cafe) 5896 Spring Garden Road Halifax NS;X-APPLE-RADIUS=500;X-TITLE=5896 Spring Garden Road:geo:-63.5846952,44.6407013
END:VEVENT
BEGIN:VEVENT
DTSTART;TZID=America/Halifax:20180205T120000
DTEND;TZID=America/Halifax:20180205T130000
DTSTAMP:20260423T195215
CREATED:20171227T184629Z
LAST-MODIFIED:20171227T184629Z
UID:4118-1517832000-1517835600@theshaar.ca
SUMMARY:Women in the Talmud
DESCRIPTION:This is a 5-part weekly series led by Rabbi Weiss at the Smiling Goat Café (previously Just Us!) at 5896 Spring Garden Road (corner of Spring Garden and Carlton Street) on Mondays from noon to 1pm. \nNo RSVP is necessary!
URL:https://theshaar.ca/event/women-in-the-talmud/
LOCATION:The Smiling Goat Cafe (previously Just Us Cafe)\, 5896 Spring Garden Road\, Halifax\, NS
CATEGORIES:Special Events
GEO:44.6407013;-63.5846952
X-APPLE-STRUCTURED-LOCATION;VALUE=URI;X-ADDRESS=The Smiling Goat Cafe (previously Just Us Cafe) 5896 Spring Garden Road Halifax NS;X-APPLE-RADIUS=500;X-TITLE=5896 Spring Garden Road:geo:-63.5846952,44.6407013
END:VEVENT
BEGIN:VEVENT
DTSTART;TZID=America/Halifax:20170815T121500
DTEND;TZID=America/Halifax:20170815T130000
DTSTAMP:20260423T195215
CREATED:20170622T172941Z
LAST-MODIFIED:20170811T013640Z
UID:3145-1502799300-1502802000@theshaar.ca
SUMMARY:Tea and Talmud
DESCRIPTION:Join Rabbi Weiss at Just Us! Coffeehouse\, 5896 Spring Garden Rd\, during your lunch-break for the fifth and final installment of our summer lunchtime Talmud series. Each week\, come explore one essential Talmud story and its implications today. We will meet in the room upstairs reserved under Rabbi Weiss’ name.\nEnglish translations provided\, no RSVP required.
URL:https://theshaar.ca/event/tea-talmud-session-5/
LOCATION:The Smiling Goat Cafe (previously Just Us Cafe)\, 5896 Spring Garden Road\, Halifax\, NS
CATEGORIES:Special Events
ATTACH;FMTTYPE=image/png:/wp-content/uploads/2017/06/Tea-is-for-Talmud.png
GEO:44.6407013;-63.5846952
X-APPLE-STRUCTURED-LOCATION;VALUE=URI;X-ADDRESS=The Smiling Goat Cafe (previously Just Us Cafe) 5896 Spring Garden Road Halifax NS;X-APPLE-RADIUS=500;X-TITLE=5896 Spring Garden Road:geo:-63.5846952,44.6407013
END:VEVENT
BEGIN:VEVENT
DTSTART;TZID=America/Halifax:20170808T121500
DTEND;TZID=America/Halifax:20170808T130000
DTSTAMP:20260423T195215
CREATED:20170622T172837Z
LAST-MODIFIED:20170808T020149Z
UID:3143-1502194500-1502197200@theshaar.ca
SUMMARY:Tea and Talmud
DESCRIPTION:Join Rabbi Weiss at Just Us! Coffeehouse\, 5896 Spring Garden Rd\, during your lunch-break for the second installation of our summer lunchtime Talmud series. Each week\, come explore one essential Talmud story and its implications today. We will meet in the room reserved under Rabbi Weiss’ name. English translations provided\, no RSVP required.
URL:https://theshaar.ca/event/tea-talmud-session-4/
LOCATION:The Smiling Goat Cafe (previously Just Us Cafe)\, 5896 Spring Garden Road\, Halifax\, NS
CATEGORIES:Special Events
ATTACH;FMTTYPE=image/png:/wp-content/uploads/2017/06/Tea-is-for-Talmud.png
GEO:44.6407013;-63.5846952
X-APPLE-STRUCTURED-LOCATION;VALUE=URI;X-ADDRESS=The Smiling Goat Cafe (previously Just Us Cafe) 5896 Spring Garden Road Halifax NS;X-APPLE-RADIUS=500;X-TITLE=5896 Spring Garden Road:geo:-63.5846952,44.6407013
END:VEVENT
END:VCALENDAR