BEGIN:VCALENDAR
VERSION:2.0
PRODID:-//Shaar Shalom Synagogue - ECPv6.15.20//NONSGML v1.0//EN
CALSCALE:GREGORIAN
METHOD:PUBLISH
X-WR-CALNAME:Shaar Shalom Synagogue
X-ORIGINAL-URL:https://theshaar.ca
X-WR-CALDESC:Events for Shaar Shalom Synagogue
REFRESH-INTERVAL;VALUE=DURATION:PT1H
X-Robots-Tag:noindex
X-PUBLISHED-TTL:PT1H
BEGIN:VTIMEZONE
TZID:America/Halifax
BEGIN:DAYLIGHT
TZOFFSETFROM:-0400
TZOFFSETTO:-0300
TZNAME:ADT
DTSTART:20160313T060000
END:DAYLIGHT
BEGIN:STANDARD
TZOFFSETFROM:-0300
TZOFFSETTO:-0400
TZNAME:AST
DTSTART:20161106T050000
END:STANDARD
BEGIN:DAYLIGHT
TZOFFSETFROM:-0400
TZOFFSETTO:-0300
TZNAME:ADT
DTSTART:20170312T060000
END:DAYLIGHT
BEGIN:STANDARD
TZOFFSETFROM:-0300
TZOFFSETTO:-0400
TZNAME:AST
DTSTART:20171105T050000
END:STANDARD
BEGIN:DAYLIGHT
TZOFFSETFROM:-0400
TZOFFSETTO:-0300
TZNAME:ADT
DTSTART:20180311T060000
END:DAYLIGHT
BEGIN:STANDARD
TZOFFSETFROM:-0300
TZOFFSETTO:-0400
TZNAME:AST
DTSTART:20181104T050000
END:STANDARD
END:VTIMEZONE
BEGIN:VEVENT
DTSTART;TZID=America/Halifax:20170815T203000
DTEND;TZID=America/Halifax:20170815T213000
DTSTAMP:20260424T070450
CREATED:20170811T014037Z
LAST-MODIFIED:20170811T014037Z
UID:3314-1502829000-1502832600@theshaar.ca
SUMMARY:Jewish Queer Monthly Meet-up
DESCRIPTION:A monthly social coffee group for LBGTQ+ Jews will be having their first meeting at the Humani-T cafe on South Park (1451 South Park St. @ The Trillium) at 8:30 pm\, Tuesday August 15th. All ages welcome.
URL:https://theshaar.ca/event/jewish-queer-monthly-meet/
LOCATION:Humani-T Cafe\, 1451 SouthPark Street\, Halifax\, NS
CATEGORIES:Special Events
GEO:44.6414351;-63.5791217
X-APPLE-STRUCTURED-LOCATION;VALUE=URI;X-ADDRESS=Humani-T Cafe 1451 SouthPark Street Halifax NS;X-APPLE-RADIUS=500;X-TITLE=1451 SouthPark Street:geo:-63.5791217,44.6414351
END:VEVENT
END:VCALENDAR