BEGIN:VCALENDAR
VERSION:2.0
PRODID:-//Shaar Shalom Synagogue - ECPv6.15.20//NONSGML v1.0//EN
CALSCALE:GREGORIAN
METHOD:PUBLISH
X-ORIGINAL-URL:https://theshaar.ca
X-WR-CALDESC:Events for Shaar Shalom Synagogue
REFRESH-INTERVAL;VALUE=DURATION:PT1H
X-Robots-Tag:noindex
X-PUBLISHED-TTL:PT1H
BEGIN:VTIMEZONE
TZID:America/Halifax
BEGIN:DAYLIGHT
TZOFFSETFROM:-0400
TZOFFSETTO:-0300
TZNAME:ADT
DTSTART:20160313T060000
END:DAYLIGHT
BEGIN:STANDARD
TZOFFSETFROM:-0300
TZOFFSETTO:-0400
TZNAME:AST
DTSTART:20161106T050000
END:STANDARD
BEGIN:DAYLIGHT
TZOFFSETFROM:-0400
TZOFFSETTO:-0300
TZNAME:ADT
DTSTART:20170312T060000
END:DAYLIGHT
BEGIN:STANDARD
TZOFFSETFROM:-0300
TZOFFSETTO:-0400
TZNAME:AST
DTSTART:20171105T050000
END:STANDARD
BEGIN:DAYLIGHT
TZOFFSETFROM:-0400
TZOFFSETTO:-0300
TZNAME:ADT
DTSTART:20180311T060000
END:DAYLIGHT
BEGIN:STANDARD
TZOFFSETFROM:-0300
TZOFFSETTO:-0400
TZNAME:AST
DTSTART:20181104T050000
END:STANDARD
BEGIN:DAYLIGHT
TZOFFSETFROM:-0400
TZOFFSETTO:-0300
TZNAME:ADT
DTSTART:20190310T060000
END:DAYLIGHT
BEGIN:STANDARD
TZOFFSETFROM:-0300
TZOFFSETTO:-0400
TZNAME:AST
DTSTART:20191103T050000
END:STANDARD
END:VTIMEZONE
BEGIN:VEVENT
DTSTART;TZID=America/Halifax:20180910T160000
DTEND;TZID=America/Halifax:20180910T160000
DTSTAMP:20260424T204613
CREATED:20180727T121929Z
LAST-MODIFIED:20180727T121929Z
UID:4877-1536595200-1536595200@theshaar.ca
SUMMARY:Tashlich Service (weather permitting)
DESCRIPTION:On the first day of Rosh Hashanah we go to an open body of water and recite the Tashlich prayers while symbolically casting our sins into the water and leaving our shortcomings behind us. Thus\, we start the new year with a clean slate. Join us at Horseshoe Island Park (weather permitting) to cast your sins into the Northwest Arm!
URL:https://theshaar.ca/event/tashlich-service-weather-permitting-2/
LOCATION:Horseshoe Island Park\, Foot of Quinpool Road overlooking the Northwest Arm\, Halifax\, NS\, Canada
CATEGORIES:Special Events
ATTACH;FMTTYPE=image/jpeg:/wp-content/uploads/2017/08/Horseshoe-Island-Park.jpg
END:VEVENT
BEGIN:VEVENT
DTSTART;TZID=America/Halifax:20170921T160000
DTEND;TZID=America/Halifax:20170921T160000
DTSTAMP:20260424T204613
CREATED:20170817T171943Z
LAST-MODIFIED:20170817T183834Z
UID:3360-1506009600-1506009600@theshaar.ca
SUMMARY:Tashlich Service (weather permitting)
DESCRIPTION:Tashlich (תשליך) is a ritual observed by many Jews during Rosh HaShanah. Tashlich means “casting off” in Hebrew and involves symbolically casting off the sins of the previous year by tossing pieces of bread or another food into a body of flowing water. Just as the water carries away the bits of bread\, so too are sins symbolically carried away. Since Rosh HaShanah is the Jewish new year\, in this way the participant hopes to start the new year with a clean slate.
URL:https://theshaar.ca/event/tashlich-service-weather-permitting/
LOCATION:Horseshoe Island Park\, Foot of Quinpool Road overlooking the Northwest Arm\, Halifax\, NS\, Canada
CATEGORIES:Special Events
ATTACH;FMTTYPE=image/jpeg:/wp-content/uploads/2017/08/Horseshoe-Island-Park.jpg
END:VEVENT
END:VCALENDAR