BEGIN:VCALENDAR
VERSION:2.0
PRODID:-//Shaar Shalom Synagogue - ECPv6.15.20//NONSGML v1.0//EN
CALSCALE:GREGORIAN
METHOD:PUBLISH
X-WR-CALNAME:Shaar Shalom Synagogue
X-ORIGINAL-URL:https://theshaar.ca
X-WR-CALDESC:Events for Shaar Shalom Synagogue
REFRESH-INTERVAL;VALUE=DURATION:PT1H
X-Robots-Tag:noindex
X-PUBLISHED-TTL:PT1H
BEGIN:VTIMEZONE
TZID:America/Halifax
BEGIN:DAYLIGHT
TZOFFSETFROM:-0400
TZOFFSETTO:-0300
TZNAME:ADT
DTSTART:20160313T060000
END:DAYLIGHT
BEGIN:STANDARD
TZOFFSETFROM:-0300
TZOFFSETTO:-0400
TZNAME:AST
DTSTART:20161106T050000
END:STANDARD
BEGIN:DAYLIGHT
TZOFFSETFROM:-0400
TZOFFSETTO:-0300
TZNAME:ADT
DTSTART:20170312T060000
END:DAYLIGHT
BEGIN:STANDARD
TZOFFSETFROM:-0300
TZOFFSETTO:-0400
TZNAME:AST
DTSTART:20171105T050000
END:STANDARD
BEGIN:DAYLIGHT
TZOFFSETFROM:-0400
TZOFFSETTO:-0300
TZNAME:ADT
DTSTART:20180311T060000
END:DAYLIGHT
BEGIN:STANDARD
TZOFFSETFROM:-0300
TZOFFSETTO:-0400
TZNAME:AST
DTSTART:20181104T050000
END:STANDARD
END:VTIMEZONE
BEGIN:VEVENT
DTSTART;TZID=America/Halifax:20170723T113000
DTEND;TZID=America/Halifax:20170723T130000
DTSTAMP:20260425T171811
CREATED:20170720T200020Z
LAST-MODIFIED:20170928T174452Z
UID:3237-1500809400-1500814800@theshaar.ca
SUMMARY:Young Families Picnic and Playtime
DESCRIPTION:Please join Rabbi Weiss and Rabbi Rank for an informal get together for families with babies and toddlers (and anyone else who would like to join) this Sunday at the Halifax Commons by the playground area\, for a vegetarian potluck picnic and play time. RSVP: Rabbirayshweiss@gmail.co
URL:https://theshaar.ca/event/young-families-picnic-playtime/
LOCATION:Halifax Commons\, Halifax\, NS
CATEGORIES:Services,Special Events
ATTACH;FMTTYPE=image/jpeg:/wp-content/uploads/2017/07/Family-picnic.jpg
GEO:44.6487635;-63.5752387
END:VEVENT
END:VCALENDAR