BEGIN:VCALENDAR
VERSION:2.0
PRODID:-//Shaar Shalom Synagogue - ECPv6.15.20//NONSGML v1.0//EN
CALSCALE:GREGORIAN
METHOD:PUBLISH
X-WR-CALNAME:Shaar Shalom Synagogue
X-ORIGINAL-URL:https://theshaar.ca
X-WR-CALDESC:Events for Shaar Shalom Synagogue
REFRESH-INTERVAL;VALUE=DURATION:PT1H
X-Robots-Tag:noindex
X-PUBLISHED-TTL:PT1H
BEGIN:VTIMEZONE
TZID:America/Halifax
BEGIN:DAYLIGHT
TZOFFSETFROM:-0400
TZOFFSETTO:-0300
TZNAME:ADT
DTSTART:20160313T060000
END:DAYLIGHT
BEGIN:STANDARD
TZOFFSETFROM:-0300
TZOFFSETTO:-0400
TZNAME:AST
DTSTART:20161106T050000
END:STANDARD
BEGIN:DAYLIGHT
TZOFFSETFROM:-0400
TZOFFSETTO:-0300
TZNAME:ADT
DTSTART:20170312T060000
END:DAYLIGHT
BEGIN:STANDARD
TZOFFSETFROM:-0300
TZOFFSETTO:-0400
TZNAME:AST
DTSTART:20171105T050000
END:STANDARD
BEGIN:DAYLIGHT
TZOFFSETFROM:-0400
TZOFFSETTO:-0300
TZNAME:ADT
DTSTART:20180311T060000
END:DAYLIGHT
BEGIN:STANDARD
TZOFFSETFROM:-0300
TZOFFSETTO:-0400
TZNAME:AST
DTSTART:20181104T050000
END:STANDARD
BEGIN:DAYLIGHT
TZOFFSETFROM:-0400
TZOFFSETTO:-0300
TZNAME:ADT
DTSTART:20190310T060000
END:DAYLIGHT
BEGIN:STANDARD
TZOFFSETFROM:-0300
TZOFFSETTO:-0400
TZNAME:AST
DTSTART:20191103T050000
END:STANDARD
END:VTIMEZONE
BEGIN:VEVENT
DTSTART;TZID=America/Halifax:20180318T113000
DTEND;TZID=America/Halifax:20180318T130000
DTSTAMP:20260424T184010
CREATED:20180316T004940Z
LAST-MODIFIED:20180316T004940Z
UID:4345-1521372600-1521378000@theshaar.ca
SUMMARY:Young Family Story and playtime Get-together
DESCRIPTION:This is a get-together especially for families with infants and toddlers and those who love them. Bring your favourite children’s book to share! \nCome to the back of the 2nd floor of the Halifax Central Library!
URL:https://theshaar.ca/event/young-family-story-and-playtime-get-together/
LOCATION:Halifax Central Library\, 5440 Spring Garden Road\, Halifax\, NS\, B3J 1E9\, Canada
CATEGORIES:Special Events
GEO:44.6427874;-63.575221
X-APPLE-STRUCTURED-LOCATION;VALUE=URI;X-ADDRESS=Halifax Central Library 5440 Spring Garden Road Halifax NS B3J 1E9 Canada;X-APPLE-RADIUS=500;X-TITLE=5440 Spring Garden Road:geo:-63.575221,44.6427874
END:VEVENT
BEGIN:VEVENT
DTSTART;VALUE=DATE:20170717
DTEND;VALUE=DATE:20170729
DTSTAMP:20260424T184010
CREATED:20170713T153358Z
LAST-MODIFIED:20170713T153358Z
UID:3213-1500249600-1501286399@theshaar.ca
SUMMARY:Canadian Jewish Experience Exhibit
DESCRIPTION:The full Canadian Jewish Experience exhibit will be on display at the Central Library from July 17th-28th. Please join us Monday\, July 17th at 7PM for the exhibit opening featuring the Hon. Geoff Regan.
URL:https://theshaar.ca/event/canadian-jewish-experience-exhibit/
LOCATION:Halifax Central Library\, 5440 Spring Garden Road\, Halifax\, NS\, B3J 1E9\, Canada
CATEGORIES:Special Events
ATTACH;FMTTYPE=image/jpeg:/wp-content/uploads/2017/06/Canadain-Jewish-Experience.jpg
GEO:44.6427874;-63.575221
X-APPLE-STRUCTURED-LOCATION;VALUE=URI;X-ADDRESS=Halifax Central Library 5440 Spring Garden Road Halifax NS B3J 1E9 Canada;X-APPLE-RADIUS=500;X-TITLE=5440 Spring Garden Road:geo:-63.575221,44.6427874
END:VEVENT
BEGIN:VEVENT
DTSTART;VALUE=DATE:20170703
DTEND;VALUE=DATE:20170704
DTSTAMP:20260424T184011
CREATED:20170629T191311Z
LAST-MODIFIED:20170629T191747Z
UID:3187-1499040000-1499126399@theshaar.ca
SUMMARY:Beginner Hebrew Lessons
DESCRIPTION:Come learn Hebrew this summer! Beginning this Monday evening\, Tamar Ellis will be teaching a rudimentary Hebrew summer class series at the Halifax Central Public Library.
URL:https://theshaar.ca/event/beginner-hebrew-lessons/
LOCATION:Halifax Central Library\, 5440 Spring Garden Road\, Halifax\, NS\, B3J 1E9\, Canada
CATEGORIES:Special Events
GEO:44.6427874;-63.575221
X-APPLE-STRUCTURED-LOCATION;VALUE=URI;X-ADDRESS=Halifax Central Library 5440 Spring Garden Road Halifax NS B3J 1E9 Canada;X-APPLE-RADIUS=500;X-TITLE=5440 Spring Garden Road:geo:-63.575221,44.6427874
END:VEVENT
END:VCALENDAR