BEGIN:VCALENDAR
VERSION:2.0
PRODID:-//Shaar Shalom Synagogue - ECPv6.15.20//NONSGML v1.0//EN
CALSCALE:GREGORIAN
METHOD:PUBLISH
X-ORIGINAL-URL:https://theshaar.ca
X-WR-CALDESC:Events for Shaar Shalom Synagogue
REFRESH-INTERVAL;VALUE=DURATION:PT1H
X-Robots-Tag:noindex
X-PUBLISHED-TTL:PT1H
BEGIN:VTIMEZONE
TZID:America/Halifax
BEGIN:DAYLIGHT
TZOFFSETFROM:-0400
TZOFFSETTO:-0300
TZNAME:ADT
DTSTART:20150308T060000
END:DAYLIGHT
BEGIN:STANDARD
TZOFFSETFROM:-0300
TZOFFSETTO:-0400
TZNAME:AST
DTSTART:20151101T050000
END:STANDARD
BEGIN:DAYLIGHT
TZOFFSETFROM:-0400
TZOFFSETTO:-0300
TZNAME:ADT
DTSTART:20160313T060000
END:DAYLIGHT
BEGIN:STANDARD
TZOFFSETFROM:-0300
TZOFFSETTO:-0400
TZNAME:AST
DTSTART:20161106T050000
END:STANDARD
BEGIN:DAYLIGHT
TZOFFSETFROM:-0400
TZOFFSETTO:-0300
TZNAME:ADT
DTSTART:20170312T060000
END:DAYLIGHT
BEGIN:STANDARD
TZOFFSETFROM:-0300
TZOFFSETTO:-0400
TZNAME:AST
DTSTART:20171105T050000
END:STANDARD
END:VTIMEZONE
BEGIN:VEVENT
DTSTART;TZID=America/Halifax:20161227T060000
DTEND;TZID=America/Halifax:20161227T200000
DTSTAMP:20260425T001326
CREATED:20161213T200620Z
LAST-MODIFIED:20161213T200726Z
UID:1642-1482818400-1482868800@theshaar.ca
SUMMARY:Chabad's Annual Grand Menorah Lighting on the 4th Night of Chanukah
DESCRIPTION:
URL:https://theshaar.ca/event/chabads-annual-grand-menorah-lighting-4th-night-chanukah/
LOCATION:Grand Parade Square\, 1841 Argyle Street\, Halifax\, NS\, Canada
CATEGORIES:Special Events
GEO:44.6489627;-63.5753838
X-APPLE-STRUCTURED-LOCATION;VALUE=URI;X-ADDRESS=Grand Parade Square 1841 Argyle Street Halifax NS Canada;X-APPLE-RADIUS=500;X-TITLE=1841 Argyle Street:geo:-63.5753838,44.6489627
END:VEVENT
END:VCALENDAR