BEGIN:VCALENDAR
VERSION:2.0
PRODID:-//Shaar Shalom Synagogue - ECPv6.15.20//NONSGML v1.0//EN
CALSCALE:GREGORIAN
METHOD:PUBLISH
X-WR-CALNAME:Shaar Shalom Synagogue
X-ORIGINAL-URL:https://theshaar.ca
X-WR-CALDESC:Events for Shaar Shalom Synagogue
REFRESH-INTERVAL;VALUE=DURATION:PT1H
X-Robots-Tag:noindex
X-PUBLISHED-TTL:PT1H
BEGIN:VTIMEZONE
TZID:America/Halifax
BEGIN:DAYLIGHT
TZOFFSETFROM:-0400
TZOFFSETTO:-0300
TZNAME:ADT
DTSTART:20160313T060000
END:DAYLIGHT
BEGIN:STANDARD
TZOFFSETFROM:-0300
TZOFFSETTO:-0400
TZNAME:AST
DTSTART:20161106T050000
END:STANDARD
BEGIN:DAYLIGHT
TZOFFSETFROM:-0400
TZOFFSETTO:-0300
TZNAME:ADT
DTSTART:20170312T060000
END:DAYLIGHT
BEGIN:STANDARD
TZOFFSETFROM:-0300
TZOFFSETTO:-0400
TZNAME:AST
DTSTART:20171105T050000
END:STANDARD
BEGIN:DAYLIGHT
TZOFFSETFROM:-0400
TZOFFSETTO:-0300
TZNAME:ADT
DTSTART:20180311T060000
END:DAYLIGHT
BEGIN:STANDARD
TZOFFSETFROM:-0300
TZOFFSETTO:-0400
TZNAME:AST
DTSTART:20181104T050000
END:STANDARD
END:VTIMEZONE
BEGIN:VEVENT
DTSTART;TZID=America/Halifax:20170524T180000
DTEND;TZID=America/Halifax:20170524T230000
DTSTAMP:20260425T201909
CREATED:20170315T025954Z
LAST-MODIFIED:20170315T025954Z
UID:2484-1495648800-1495666800@theshaar.ca
SUMMARY:Tema Conter Memorial Trust Gala - Wednesday\, May 24\, 2017
DESCRIPTION:Tickets can be purchased at tema.ca or 1-888-288-8036
URL:https://theshaar.ca/event/tema-conter-memorial-trust-gala-wednesday-may-24-2017/
LOCATION:Cunard Centre\, 961 Marginal Road\, Halifax\, NS\, Canada
CATEGORIES:Special Events
ATTACH;FMTTYPE=image/png:/wp-content/uploads/2017/03/Tema-Conter-Memorial-Trust-Gala-2017.png
GEO:44.6374341;-63.565709
X-APPLE-STRUCTURED-LOCATION;VALUE=URI;X-ADDRESS=Cunard Centre 961 Marginal Road Halifax NS Canada;X-APPLE-RADIUS=500;X-TITLE=961 Marginal Road:geo:-63.565709,44.6374341
END:VEVENT
END:VCALENDAR