BEGIN:VCALENDAR
VERSION:2.0
PRODID:-//Shaar Shalom Synagogue - ECPv6.15.20//NONSGML v1.0//EN
CALSCALE:GREGORIAN
METHOD:PUBLISH
X-ORIGINAL-URL:https://theshaar.ca
X-WR-CALDESC:Events for Shaar Shalom Synagogue
REFRESH-INTERVAL;VALUE=DURATION:PT1H
X-Robots-Tag:noindex
X-PUBLISHED-TTL:PT1H
BEGIN:VTIMEZONE
TZID:America/Halifax
BEGIN:DAYLIGHT
TZOFFSETFROM:-0400
TZOFFSETTO:-0300
TZNAME:ADT
DTSTART:20160313T060000
END:DAYLIGHT
BEGIN:STANDARD
TZOFFSETFROM:-0300
TZOFFSETTO:-0400
TZNAME:AST
DTSTART:20161106T050000
END:STANDARD
BEGIN:DAYLIGHT
TZOFFSETFROM:-0400
TZOFFSETTO:-0300
TZNAME:ADT
DTSTART:20170312T060000
END:DAYLIGHT
BEGIN:STANDARD
TZOFFSETFROM:-0300
TZOFFSETTO:-0400
TZNAME:AST
DTSTART:20171105T050000
END:STANDARD
BEGIN:DAYLIGHT
TZOFFSETFROM:-0400
TZOFFSETTO:-0300
TZNAME:ADT
DTSTART:20180311T060000
END:DAYLIGHT
BEGIN:STANDARD
TZOFFSETFROM:-0300
TZOFFSETTO:-0400
TZNAME:AST
DTSTART:20181104T050000
END:STANDARD
END:VTIMEZONE
BEGIN:VEVENT
DTSTART;TZID=America/Halifax:20170514T113000
DTEND;TZID=America/Halifax:20170514T130000
DTSTAMP:20260425T221114
CREATED:20170504T112424Z
LAST-MODIFIED:20170504T115118Z
UID:2779-1494761400-1494766800@theshaar.ca
SUMMARY:LAG B’OMER BAR-B-Q & CELEBRATION
DESCRIPTION:MOON BOUNCE\, AMUSEMENT & JEWISH-THEMED CARNIVAL GAMES \nThe day of Lag B’Omer is celebrated as an exhibition of Jewish pride and unity\, Lag B’Omer (the 33rd day of the counting of the Omer) commemorates the lives of the great Rabbi Akiva and Rabbi Shimon bar Yochai who were examples of proud loyalty to G-d and his Torah during the Roman occupation of the Land of Israel. \nFree Games & Amusement \nBBQ LUNCH \nLAG B’OMER BAR-B-Q & CELEBRATION Sunday\, May 14th\, 11:30-1:00 pm\, Conrose Park (Jubilee Rd & Waegwoltic Ave.) \nFor more information call 902.422.4222 or visit www.chabadmaritimes.com
URL:https://theshaar.ca/event/lag-bomer-bar-b-q-celebration/
LOCATION:Conrose Park\, Jubilee Road & Waegwoltic Avenue\, Halifax\, NS\, Canada
CATEGORIES:Special Events
GEO:44.6428587;-63.5916676
X-APPLE-STRUCTURED-LOCATION;VALUE=URI;X-ADDRESS=Conrose Park Jubilee Road & Waegwoltic Avenue Halifax NS Canada;X-APPLE-RADIUS=500;X-TITLE=Jubilee Road & Waegwoltic Avenue:geo:-63.5916676,44.6428587
END:VEVENT
END:VCALENDAR