BEGIN:VCALENDAR
VERSION:2.0
PRODID:-//Shaar Shalom Synagogue - ECPv6.15.20//NONSGML v1.0//EN
CALSCALE:GREGORIAN
METHOD:PUBLISH
X-ORIGINAL-URL:https://theshaar.ca
X-WR-CALDESC:Events for Shaar Shalom Synagogue
REFRESH-INTERVAL;VALUE=DURATION:PT1H
X-Robots-Tag:noindex
X-PUBLISHED-TTL:PT1H
BEGIN:VTIMEZONE
TZID:America/Halifax
BEGIN:DAYLIGHT
TZOFFSETFROM:-0400
TZOFFSETTO:-0300
TZNAME:ADT
DTSTART:20160313T060000
END:DAYLIGHT
BEGIN:STANDARD
TZOFFSETFROM:-0300
TZOFFSETTO:-0400
TZNAME:AST
DTSTART:20161106T050000
END:STANDARD
BEGIN:DAYLIGHT
TZOFFSETFROM:-0400
TZOFFSETTO:-0300
TZNAME:ADT
DTSTART:20170312T060000
END:DAYLIGHT
BEGIN:STANDARD
TZOFFSETFROM:-0300
TZOFFSETTO:-0400
TZNAME:AST
DTSTART:20171105T050000
END:STANDARD
BEGIN:DAYLIGHT
TZOFFSETFROM:-0400
TZOFFSETTO:-0300
TZNAME:ADT
DTSTART:20180311T060000
END:DAYLIGHT
BEGIN:STANDARD
TZOFFSETFROM:-0300
TZOFFSETTO:-0400
TZNAME:AST
DTSTART:20181104T050000
END:STANDARD
END:VTIMEZONE
BEGIN:VEVENT
DTSTART;TZID=America/Halifax:20170917T120000
DTEND;TZID=America/Halifax:20170917T140000
DTSTAMP:20260425T075002
CREATED:20170828T005544Z
LAST-MODIFIED:20170828T005643Z
UID:3436-1505649600-1505656800@theshaar.ca
SUMMARY:The Atlantic Jewish Council BBQ!
DESCRIPTION:The entire community is invited to join us for a free BBQ. Kick off the fall at The Atlantic Jewish Council BBQ on Sept 17 12:00 to 2:00PM at Conrose Field. The summer may be coming to a close but that shouldn’t stop us from enjoying it.\nMore information to follow.
URL:https://theshaar.ca/event/athlantic-jewish-council-bbq/
LOCATION:Conrose Field\, 1670 Beech Street\, Halifax\, NS\, Canada
CATEGORIES:Special Events
ATTACH;FMTTYPE=image/jpeg:/wp-content/uploads/2017/08/BBQ.jpg
GEO:44.6396544;-63.6001957
X-APPLE-STRUCTURED-LOCATION;VALUE=URI;X-ADDRESS=Conrose Field 1670 Beech Street Halifax NS Canada;X-APPLE-RADIUS=500;X-TITLE=1670 Beech Street:geo:-63.6001957,44.6396544
END:VEVENT
END:VCALENDAR