BEGIN:VCALENDAR
VERSION:2.0
PRODID:-//Shaar Shalom Synagogue - ECPv6.15.20//NONSGML v1.0//EN
CALSCALE:GREGORIAN
METHOD:PUBLISH
X-WR-CALNAME:Shaar Shalom Synagogue
X-ORIGINAL-URL:https://theshaar.ca
X-WR-CALDESC:Events for Shaar Shalom Synagogue
REFRESH-INTERVAL;VALUE=DURATION:PT1H
X-Robots-Tag:noindex
X-PUBLISHED-TTL:PT1H
BEGIN:VTIMEZONE
TZID:America/Halifax
BEGIN:DAYLIGHT
TZOFFSETFROM:-0400
TZOFFSETTO:-0300
TZNAME:ADT
DTSTART:20150308T060000
END:DAYLIGHT
BEGIN:STANDARD
TZOFFSETFROM:-0300
TZOFFSETTO:-0400
TZNAME:AST
DTSTART:20151101T050000
END:STANDARD
BEGIN:DAYLIGHT
TZOFFSETFROM:-0400
TZOFFSETTO:-0300
TZNAME:ADT
DTSTART:20160313T060000
END:DAYLIGHT
BEGIN:STANDARD
TZOFFSETFROM:-0300
TZOFFSETTO:-0400
TZNAME:AST
DTSTART:20161106T050000
END:STANDARD
BEGIN:DAYLIGHT
TZOFFSETFROM:-0400
TZOFFSETTO:-0300
TZNAME:ADT
DTSTART:20170312T060000
END:DAYLIGHT
BEGIN:STANDARD
TZOFFSETFROM:-0300
TZOFFSETTO:-0400
TZNAME:AST
DTSTART:20171105T050000
END:STANDARD
BEGIN:DAYLIGHT
TZOFFSETFROM:-0400
TZOFFSETTO:-0300
TZNAME:ADT
DTSTART:20180311T060000
END:DAYLIGHT
BEGIN:STANDARD
TZOFFSETFROM:-0300
TZOFFSETTO:-0400
TZNAME:AST
DTSTART:20181104T050000
END:STANDARD
END:VTIMEZONE
BEGIN:VEVENT
DTSTART;TZID=America/Halifax:20170917T160000
DTEND;TZID=America/Halifax:20170917T173000
DTSTAMP:20260424T210806
CREATED:20170907T224506Z
LAST-MODIFIED:20170907T224506Z
UID:3507-1505664000-1505669400@theshaar.ca
SUMMARY:New Year Fun Fair
DESCRIPTION:Chabad will be hosting a New Year Fun Fair on September 17th from 4:00-5:30pm. The cost is $5 per child. Please RSVP no later than September 11th to info@chabadmaritimes.com
URL:https://theshaar.ca/event/new-year-fun-fair/
LOCATION:Chabad-Lubavitch of the Maritimes\, 1171 Waterloo Street\, Halifax\, NS\, B3H 3L6\, Canada
CATEGORIES:Special Events
ATTACH;FMTTYPE=image/png:/wp-content/uploads/2017/09/New-Year-Fun-Fair-2017.png
GEO:44.6355398;-63.5871073
X-APPLE-STRUCTURED-LOCATION;VALUE=URI;X-ADDRESS=Chabad-Lubavitch of the Maritimes 1171 Waterloo Street Halifax NS B3H 3L6 Canada;X-APPLE-RADIUS=500;X-TITLE=1171 Waterloo Street:geo:-63.5871073,44.6355398
END:VEVENT
BEGIN:VEVENT
DTSTART;VALUE=DATE:20170710
DTEND;VALUE=DATE:20170715
DTSTAMP:20260424T210806
CREATED:20170329T235511Z
LAST-MODIFIED:20170504T120856Z
UID:2555-1499644800-1500076799@theshaar.ca
SUMMARY:Lubavitch Day Camp
DESCRIPTION:
URL:https://theshaar.ca/event/lubavitch-day-camp/
LOCATION:Chabad-Lubavitch of the Maritimes\, 1171 Waterloo Street\, Halifax\, NS\, B3H 3L6\, Canada
CATEGORIES:Special Events
ATTACH;FMTTYPE=image/png:/wp-content/uploads/2017/03/Lubavitch-Day-Camp-July-2017-e1490832245330.png
GEO:44.6355398;-63.5871073
X-APPLE-STRUCTURED-LOCATION;VALUE=URI;X-ADDRESS=Chabad-Lubavitch of the Maritimes 1171 Waterloo Street Halifax NS B3H 3L6 Canada;X-APPLE-RADIUS=500;X-TITLE=1171 Waterloo Street:geo:-63.5871073,44.6355398
END:VEVENT
BEGIN:VEVENT
DTSTART;TZID=America/Halifax:20170531T053000
DTEND;TZID=America/Halifax:20170531T083000
DTSTAMP:20260424T210806
CREATED:20170504T120500Z
LAST-MODIFIED:20170504T120923Z
UID:2790-1496208600-1496219400@theshaar.ca
SUMMARY:Get the Scoop this Shavuot
DESCRIPTION:Hear the Ten Commandments dairy dinner following \nFAMILY $36 RSVP BEFORE MAY 15 \nFor any more information call 902.422.4222 \nEmail CHABADOFNS@AOL.COM
URL:https://theshaar.ca/event/get-scoop-shavuot/
LOCATION:Chabad-Lubavitch of the Maritimes\, 1171 Waterloo Street\, Halifax\, NS\, B3H 3L6\, Canada
CATEGORIES:Special Events
ATTACH;FMTTYPE=image/jpeg:/wp-content/uploads/2017/05/Get-the-scoop-this-Shavuot-13May2017.jpg
GEO:44.6355398;-63.5871073
X-APPLE-STRUCTURED-LOCATION;VALUE=URI;X-ADDRESS=Chabad-Lubavitch of the Maritimes 1171 Waterloo Street Halifax NS B3H 3L6 Canada;X-APPLE-RADIUS=500;X-TITLE=1171 Waterloo Street:geo:-63.5871073,44.6355398
END:VEVENT
BEGIN:VEVENT
DTSTART;TZID=America/Halifax:20170530T212500
DTEND;TZID=America/Halifax:20170530T231500
DTSTAMP:20260424T210806
CREATED:20170519T112124Z
LAST-MODIFIED:20170519T112912Z
UID:2873-1496179500-1496186100@theshaar.ca
SUMMARY:Late Night with the "Rabbis"
DESCRIPTION:On the first night of Shavuot Jewish throughout the world observe the centuries-old custom of conducting an all-night vigil dedicated to Torah learning\, and preparation for receiving the Torah anew the next morning. One explanation for this tradition is that the Jewish people did not rise early on the day G-d gave the Torah\, and it was necessary for G-d Himself to awaken them. To compensate for their behavior\, Jews have accepted upon themselves the custom of remaining awake all night.
URL:https://theshaar.ca/event/late-night-rabbis/
LOCATION:Chabad-Lubavitch of the Maritimes\, 1171 Waterloo Street\, Halifax\, NS\, B3H 3L6\, Canada
CATEGORIES:Special Events
ATTACH;FMTTYPE=image/jpeg:/wp-content/uploads/2017/05/Late-Night-with-the-Rabbis-May-2017.jpg
GEO:44.6355398;-63.5871073
X-APPLE-STRUCTURED-LOCATION;VALUE=URI;X-ADDRESS=Chabad-Lubavitch of the Maritimes 1171 Waterloo Street Halifax NS B3H 3L6 Canada;X-APPLE-RADIUS=500;X-TITLE=1171 Waterloo Street:geo:-63.5871073,44.6355398
END:VEVENT
BEGIN:VEVENT
DTSTART;TZID=America/Halifax:20170410T193000
DTEND;TZID=America/Halifax:20170411T193000
DTSTAMP:20260424T210806
CREATED:20170315T025240Z
LAST-MODIFIED:20170504T121041Z
UID:2480-1491852600-1491939000@theshaar.ca
SUMMARY:Chabad Community Passover Seders
DESCRIPTION:Chabad-Lubavitch of the Maritimes are holding community Passover Seders on Monday April 10th and Tuesday April 11th at 7:30pm. For more information & reservations call 902-422-4222 or email chabadofns@aol.com before March 23rd\, 2017.Cha
URL:https://theshaar.ca/event/chabad-community-passover-seders/
LOCATION:Chabad-Lubavitch of the Maritimes\, 1171 Waterloo Street\, Halifax\, NS\, B3H 3L6\, Canada
CATEGORIES:Special Events
ATTACH;FMTTYPE=image/png:/wp-content/uploads/2017/03/Chabad-Community-Passover-Seders-2017.png
GEO:44.6355398;-63.5871073
X-APPLE-STRUCTURED-LOCATION;VALUE=URI;X-ADDRESS=Chabad-Lubavitch of the Maritimes 1171 Waterloo Street Halifax NS B3H 3L6 Canada;X-APPLE-RADIUS=500;X-TITLE=1171 Waterloo Street:geo:-63.5871073,44.6355398
END:VEVENT
BEGIN:VEVENT
DTSTART;TZID=America/Halifax:20161210T063000
DTEND;TZID=America/Halifax:20161210T203000
DTSTAMP:20260424T210806
CREATED:20161204T004850Z
LAST-MODIFIED:20161204T004850Z
UID:1600-1481351400-1481401800@theshaar.ca
SUMMARY:Halifax Communal Beit Midrash
DESCRIPTION:
URL:https://theshaar.ca/event/halifax-communal-beit-midrash/
LOCATION:Chabad-Lubavitch of the Maritimes\, 1171 Waterloo Street\, Halifax\, NS\, B3H 3L6\, Canada
CATEGORIES:Special Events
GEO:44.6355398;-63.5871073
X-APPLE-STRUCTURED-LOCATION;VALUE=URI;X-ADDRESS=Chabad-Lubavitch of the Maritimes 1171 Waterloo Street Halifax NS B3H 3L6 Canada;X-APPLE-RADIUS=500;X-TITLE=1171 Waterloo Street:geo:-63.5871073,44.6355398
END:VEVENT
END:VCALENDAR