BEGIN:VCALENDAR
VERSION:2.0
PRODID:-//Shaar Shalom Synagogue - ECPv6.15.20//NONSGML v1.0//EN
CALSCALE:GREGORIAN
METHOD:PUBLISH
X-WR-CALNAME:Shaar Shalom Synagogue
X-ORIGINAL-URL:https://theshaar.ca
X-WR-CALDESC:Events for Shaar Shalom Synagogue
REFRESH-INTERVAL;VALUE=DURATION:PT1H
X-Robots-Tag:noindex
X-PUBLISHED-TTL:PT1H
BEGIN:VTIMEZONE
TZID:America/Halifax
BEGIN:DAYLIGHT
TZOFFSETFROM:-0400
TZOFFSETTO:-0300
TZNAME:ADT
DTSTART:20230312T060000
END:DAYLIGHT
BEGIN:STANDARD
TZOFFSETFROM:-0300
TZOFFSETTO:-0400
TZNAME:AST
DTSTART:20231105T050000
END:STANDARD
BEGIN:DAYLIGHT
TZOFFSETFROM:-0400
TZOFFSETTO:-0300
TZNAME:ADT
DTSTART:20240310T060000
END:DAYLIGHT
BEGIN:STANDARD
TZOFFSETFROM:-0300
TZOFFSETTO:-0400
TZNAME:AST
DTSTART:20241103T050000
END:STANDARD
BEGIN:DAYLIGHT
TZOFFSETFROM:-0400
TZOFFSETTO:-0300
TZNAME:ADT
DTSTART:20250309T060000
END:DAYLIGHT
BEGIN:STANDARD
TZOFFSETFROM:-0300
TZOFFSETTO:-0400
TZNAME:AST
DTSTART:20251102T050000
END:STANDARD
END:VTIMEZONE
BEGIN:VEVENT
DTSTART;TZID=America/Halifax:20240505T190000
DTEND;TZID=America/Halifax:20240505T210000
DTSTAMP:20260424T233805
CREATED:20240425T173034Z
LAST-MODIFIED:20240425T173034Z
UID:11935-1714935600-1714942800@theshaar.ca
SUMMARY:Holocaust Remembrance Day\, Yom HaShoah\, program.
DESCRIPTION:Date: Sunday\, May 5\, 2024 \nTime: 7 p.m. \nVenue: Bronfman Theatre\, Canadian Museum of Immigration at Pier 21\, 1055 Marginal Rd. Halifax. \nGuest speaker: Holocaust survivor Dr. Francis Weil. \nFrancis Weil was 4 years old when he escaped with his parents and brother into Switzerland from Nazi- occupied France in 1942. Weil\, in conversation with Olga Milosevich\, retired CBC Radio Broadcaster\, will discuss his family’s story of survival. Dr. Weil came to Moncton\, N.B. as a young man where he taught physics and statistics at the Université de Moncton. \nThe program will include a candle-lighting ceremony and reception to follow. Please    R.S.V.P. if you are attending: info@theajc.ca
URL:https://theshaar.ca/event/holocaust-remembrance-day-yom-hashoah-program/
LOCATION:Bronfman Theatre\, Canadian Museum of Immigration at Pier 21\, 1055 Marginal Rd. Halifax.
END:VEVENT
END:VCALENDAR