BEGIN:VCALENDAR
VERSION:2.0
PRODID:-//Shaar Shalom Synagogue - ECPv6.15.20//NONSGML v1.0//EN
CALSCALE:GREGORIAN
METHOD:PUBLISH
X-ORIGINAL-URL:https://theshaar.ca
X-WR-CALDESC:Events for Shaar Shalom Synagogue
REFRESH-INTERVAL;VALUE=DURATION:PT1H
X-Robots-Tag:noindex
X-PUBLISHED-TTL:PT1H
BEGIN:VTIMEZONE
TZID:America/Halifax
BEGIN:DAYLIGHT
TZOFFSETFROM:-0400
TZOFFSETTO:-0300
TZNAME:ADT
DTSTART:20160313T060000
END:DAYLIGHT
BEGIN:STANDARD
TZOFFSETFROM:-0300
TZOFFSETTO:-0400
TZNAME:AST
DTSTART:20161106T050000
END:STANDARD
BEGIN:DAYLIGHT
TZOFFSETFROM:-0400
TZOFFSETTO:-0300
TZNAME:ADT
DTSTART:20170312T060000
END:DAYLIGHT
BEGIN:STANDARD
TZOFFSETFROM:-0300
TZOFFSETTO:-0400
TZNAME:AST
DTSTART:20171105T050000
END:STANDARD
BEGIN:DAYLIGHT
TZOFFSETFROM:-0400
TZOFFSETTO:-0300
TZNAME:ADT
DTSTART:20180311T060000
END:DAYLIGHT
BEGIN:STANDARD
TZOFFSETFROM:-0300
TZOFFSETTO:-0400
TZNAME:AST
DTSTART:20181104T050000
END:STANDARD
END:VTIMEZONE
BEGIN:VEVENT
DTSTART;TZID=America/Halifax:20171021T191500
DTEND;TZID=America/Halifax:20171021T203000
DTSTAMP:20260425T085607
CREATED:20170928T170231Z
LAST-MODIFIED:20170928T170231Z
UID:3600-1508613300-1508617800@theshaar.ca
SUMMARY:Atlantic Jewish Film Festival - "Family Commitments"
DESCRIPTION:German\, Arabic with English subtitles \nDirector: Hanno Olderdissen\nProducers: Knut Jäger\, Sebastian Weyland\nCAST: Omar El-Saeidi\, Max von Pufendorf\, Maren Kroyman\, Ramin Yazdani\nDistributor: Media Luna New Films UG\nCountry: Germany   Year: 2015   Running Time: 85 minutes\nAt the best of times getting married can be trying but it’s even more difficult when it involves a homophobic Arab father\, a pseudo-orthodox Jewish mother\, and an unexpected pregnancy. David and Khaled need to set a lot of things straight before they can say the vows and live happily ever after.
URL:https://theshaar.ca/event/atlantic-jewish-film-festival-family-commitments/
LOCATION:Bell Auditorium\, NSCAD\, 5163 Duke Street\, Halifax\, NS\, Canada
CATEGORIES:Special Events
ATTACH;FMTTYPE=image/jpeg:/wp-content/uploads/2017/07/Family-Commitments-AJFF.jpg
GEO:44.6495475;-63.5741584
X-APPLE-STRUCTURED-LOCATION;VALUE=URI;X-ADDRESS=Bell Auditorium NSCAD 5163 Duke Street Halifax NS Canada;X-APPLE-RADIUS=500;X-TITLE=5163 Duke Street:geo:-63.5741584,44.6495475
END:VEVENT
END:VCALENDAR