BEGIN:VCALENDAR
VERSION:2.0
PRODID:-//Shaar Shalom Synagogue - ECPv6.15.20//NONSGML v1.0//EN
CALSCALE:GREGORIAN
METHOD:PUBLISH
X-WR-CALNAME:Shaar Shalom Synagogue
X-ORIGINAL-URL:https://theshaar.ca
X-WR-CALDESC:Events for Shaar Shalom Synagogue
REFRESH-INTERVAL;VALUE=DURATION:PT1H
X-Robots-Tag:noindex
X-PUBLISHED-TTL:PT1H
BEGIN:VTIMEZONE
TZID:America/Halifax
BEGIN:DAYLIGHT
TZOFFSETFROM:-0400
TZOFFSETTO:-0300
TZNAME:ADT
DTSTART:20170312T060000
END:DAYLIGHT
BEGIN:STANDARD
TZOFFSETFROM:-0300
TZOFFSETTO:-0400
TZNAME:AST
DTSTART:20171105T050000
END:STANDARD
BEGIN:DAYLIGHT
TZOFFSETFROM:-0400
TZOFFSETTO:-0300
TZNAME:ADT
DTSTART:20180311T060000
END:DAYLIGHT
BEGIN:STANDARD
TZOFFSETFROM:-0300
TZOFFSETTO:-0400
TZNAME:AST
DTSTART:20181104T050000
END:STANDARD
BEGIN:DAYLIGHT
TZOFFSETFROM:-0400
TZOFFSETTO:-0300
TZNAME:ADT
DTSTART:20190310T060000
END:DAYLIGHT
BEGIN:STANDARD
TZOFFSETFROM:-0300
TZOFFSETTO:-0400
TZNAME:AST
DTSTART:20191103T050000
END:STANDARD
END:VTIMEZONE
BEGIN:VEVENT
DTSTART;TZID=America/Halifax:20181014T100000
DTEND;TZID=America/Halifax:20181014T120000
DTSTAMP:20260424T204226
CREATED:20180608T002609Z
LAST-MODIFIED:20180924T010910Z
UID:4782-1539511200-1539518400@theshaar.ca
SUMMARY:Breakfast Club: Water Protectors in Nova Scotia - a Film & Discussion at the Atalntic School of Theology
DESCRIPTION:Do we need Water Protectors in Nova Scotia? What are Water Protectors?\nThese are the questions we will explore through a short film “Water Protectors” screened at a Shaar Breakfast Club. Following the film\, a discussion will be facilitated by Eliza Knockwood\, a Spiritual Mi’kmaq artist/film producer\, and Bobbi Zahra. Eliza Knockwood will discuss her passion for a sustainable earth and Bobbi Zahra will weave in the natural fit with the indigenous people of Israel\, who understand the importance and sacredness of water. The discussion will also touch on ways in which minority populations can work together in activism. \nPlease note this Breakfast Club will be hosted at the Atlantic School of Theology. A donation of $5 is requested to cover food costs. \nPlease RSVP to the Shaar office if you plan to attend: shaarshalom @eastlink.ca \n 
URL:https://theshaar.ca/event/breakfast-club-water-protectors-in-nova-scotia-a-film-discussion/
LOCATION:Atlantic School of Theology\, 660 Francklyn Street\, Halifax\, NS\, B3H 3B6\, Canada
CATEGORIES:Special Events
ATTACH;FMTTYPE=application/pdf:/wp-content/uploads/2018/06/Water-Protectors-of-Nova-Scotia.pdf
GEO:44.6268149;-63.5804793
X-APPLE-STRUCTURED-LOCATION;VALUE=URI;X-ADDRESS=Atlantic School of Theology 660 Francklyn Street Halifax NS B3H 3B6 Canada;X-APPLE-RADIUS=500;X-TITLE=660 Francklyn Street:geo:-63.5804793,44.6268149
END:VEVENT
END:VCALENDAR