BEGIN:VCALENDAR
VERSION:2.0
PRODID:-//Shaar Shalom Synagogue - ECPv6.15.20//NONSGML v1.0//EN
CALSCALE:GREGORIAN
METHOD:PUBLISH
X-WR-CALNAME:Shaar Shalom Synagogue
X-ORIGINAL-URL:https://theshaar.ca
X-WR-CALDESC:Events for Shaar Shalom Synagogue
REFRESH-INTERVAL;VALUE=DURATION:PT1H
X-Robots-Tag:noindex
X-PUBLISHED-TTL:PT1H
BEGIN:VTIMEZONE
TZID:America/Halifax
BEGIN:DAYLIGHT
TZOFFSETFROM:-0400
TZOFFSETTO:-0300
TZNAME:ADT
DTSTART:20150308T060000
END:DAYLIGHT
BEGIN:STANDARD
TZOFFSETFROM:-0300
TZOFFSETTO:-0400
TZNAME:AST
DTSTART:20151101T050000
END:STANDARD
BEGIN:DAYLIGHT
TZOFFSETFROM:-0400
TZOFFSETTO:-0300
TZNAME:ADT
DTSTART:20160313T060000
END:DAYLIGHT
BEGIN:STANDARD
TZOFFSETFROM:-0300
TZOFFSETTO:-0400
TZNAME:AST
DTSTART:20161106T050000
END:STANDARD
BEGIN:DAYLIGHT
TZOFFSETFROM:-0400
TZOFFSETTO:-0300
TZNAME:ADT
DTSTART:20170312T060000
END:DAYLIGHT
BEGIN:STANDARD
TZOFFSETFROM:-0300
TZOFFSETTO:-0400
TZNAME:AST
DTSTART:20171105T050000
END:STANDARD
BEGIN:DAYLIGHT
TZOFFSETFROM:-0400
TZOFFSETTO:-0300
TZNAME:ADT
DTSTART:20180311T060000
END:DAYLIGHT
BEGIN:STANDARD
TZOFFSETFROM:-0300
TZOFFSETTO:-0400
TZNAME:AST
DTSTART:20181104T050000
END:STANDARD
BEGIN:DAYLIGHT
TZOFFSETFROM:-0400
TZOFFSETTO:-0300
TZNAME:ADT
DTSTART:20190310T060000
END:DAYLIGHT
BEGIN:STANDARD
TZOFFSETFROM:-0300
TZOFFSETTO:-0400
TZNAME:AST
DTSTART:20191103T050000
END:STANDARD
BEGIN:DAYLIGHT
TZOFFSETFROM:-0400
TZOFFSETTO:-0300
TZNAME:ADT
DTSTART:20200308T060000
END:DAYLIGHT
BEGIN:STANDARD
TZOFFSETFROM:-0300
TZOFFSETTO:-0400
TZNAME:AST
DTSTART:20201101T050000
END:STANDARD
END:VTIMEZONE
BEGIN:VEVENT
DTSTART;TZID=America/Halifax:20191023T190000
DTEND;TZID=America/Halifax:20191023T190000
DTSTAMP:20260424T144109
CREATED:20190617T172952Z
LAST-MODIFIED:20190905T224806Z
UID:6097-1571857200-1571857200@theshaar.ca
SUMMARY:Dr. Saul Green Memorial Lecture - "Imagining Better Health Care: Can counterfactual (“what if...”) learning by analogy from the bible help?"
DESCRIPTION:The Dr. Saul Green Memorial Lecture addresses the intersection of Judaism\, medicine and humanitarianism\, all three of which Dr. Green was passionate about in his lifetime. The lecture focuses on complex humanistic and ethical challenges. The lectureship has been endowed by a gift from the Green family to honour the memory of Dr. Saul Green and to inspire and knit together the congregation of Shaar Shalom Synagogue and the community of Halifax. The lectureship partners are Shaar Shalom Synagogue and the University of King’s College. \nThis year’s lecture will be presented by Dr. Abraham (Rami) Rudnick\, a psychiatrist and philosopher. Dr. Rudnick is a Professor in the Department of Psychiatry and School of Occupational Therapy at Dalhousie University and the Clinical Director of the Nova Scotia Operational Stress Injury Clinic. He is a Canadian Certified Physician Executive and the Editor-in-Chief of the International Journal of Mental Health. He is a recipient of many national and international awards and other recognitions. \nDr. Rudnick’s lecture will examine some promising aspects of creative and critical thinking such as learning from counterfactuals (using what if… examples) and learning by analogy (referring to similar issues in other areas of life). While these have not been sufficiently used for health care transformation\, his presentation will integrate these aspects to learn from the bible how to consider health care transformation in Canada. For example\, Abraham’s decision making to sacrifice his son will be used to argue for transformation in forensic psychiatry. Noah’s process for selecting animals for the Ark will be used to argue for transformation in health care funding.
URL:https://theshaar.ca/event/dr-saul-green-memorial-lecture-3/
LOCATION:Alumni Hall\, Academic Building\, University of King’s College\, 6350 Coburg Road\, Halifax\, NS\, Canada
CATEGORIES:Special Events
ATTACH;FMTTYPE=application/pdf:/wp-content/uploads/2019/06/SGML_poster_final-compressed.pdf
GEO:44.6372397;-63.5954343
X-APPLE-STRUCTURED-LOCATION;VALUE=URI;X-ADDRESS=Alumni Hall Academic Building University of King’s College 6350 Coburg Road Halifax NS Canada;X-APPLE-RADIUS=500;X-TITLE=6350 Coburg Road:geo:-63.5954343,44.6372397
END:VEVENT
BEGIN:VEVENT
DTSTART;TZID=America/Halifax:20181010T190000
DTEND;TZID=America/Halifax:20181010T190000
DTSTAMP:20260424T144109
CREATED:20180518T154816Z
LAST-MODIFIED:20181002T104143Z
UID:4732-1539198000-1539198000@theshaar.ca
SUMMARY:Dr. Saul Green Memorial Lecture
DESCRIPTION:This year’s lecture will be presented by Dr. Sageev Oore a professor in the Faculty of Computer Science at Dalhousie University and Visiting Faculty Research Scientist\, Google Brain\, Google Research (2016-2018). Dr. Oore’s lecture title is : The Electric Composer: Music\, AI and being human. He will talk about neural networks learning to generate music and address questions such as:\n• How does it do that?\n• How does it sound?\n• Is it music? & is that music— human? \n \nDr. Sageev Oore is an Associate Professor in the Faculty of Computer Science at Dalhousie University\, a Research Faculty Member at the Vector Institute for Artificial Intelligence in Toronto\, and works as a professional musician. His research is focused on using machine learning and deep learning techniques for music and art. He recently spent a year and a half as a visiting scientist at Google Brain (California) on the Magenta team\, where he worked on generative systems such as PerformanceRNN. Together with his brother Dani\, he co-created “Radical Cycle”\, a duo instrumental CD combining classical art songs with improvisation. He has performed as soloist with orchestras both as a classical soloist and as an improviser. Sageev studied piano performance with music teachers from Dalhousie\, Juilliard\, and UBC. He completed his undergraduate degree in Mathematics (Dalhousie)\, and MSc and PhD degrees in Computer Science (University of Toronto) working with Geoffrey Hinton.
URL:https://theshaar.ca/event/dr-saul-green-memorial-lecture-2/
LOCATION:Alumni Hall\, Academic Building\, University of King’s College\, 6350 Coburg Road\, Halifax\, NS\, Canada
CATEGORIES:Special Events
ATTACH;FMTTYPE=application/pdf:/wp-content/uploads/2018/05/Dr-Saul-Green-lecture-poster.pdf
GEO:44.6372397;-63.5954343
X-APPLE-STRUCTURED-LOCATION;VALUE=URI;X-ADDRESS=Alumni Hall Academic Building University of King’s College 6350 Coburg Road Halifax NS Canada;X-APPLE-RADIUS=500;X-TITLE=6350 Coburg Road:geo:-63.5954343,44.6372397
END:VEVENT
BEGIN:VEVENT
DTSTART;TZID=America/Halifax:20171102T190000
DTEND;TZID=America/Halifax:20171102T203000
DTSTAMP:20260424T144109
CREATED:20170725T181349Z
LAST-MODIFIED:20171003T182802Z
UID:3259-1509649200-1509654600@theshaar.ca
SUMMARY:Dr. Saul Green Memorial Lecture
DESCRIPTION:This year’s Dr. Saul Green Memorial Lecture will be delivered by Dr. Bertha Fuchsman-Small. \nDr. Bertha Fuchsman-Small obtained a BA in History from Swarthmore College in Pennsylvania and a Doctor of Medicine degree from the University of Rochester. She is currently a family physician as well as an assistant professor with McGill University’s Faculty of Medicine. Dr. Fuchsman-Small has spent much of her career in Montreal offering support to ethnically diverse populations\, many of whom are new Canadians. She also worked in northern communities of Ontario and Quebec\, namely in the Cree community of Waskaganish and in the James Bay area\, as well as in rural Queensland\, Australia. Dr. Fuchsman-Small—physician\, humanitarian\, and activist—spent fifteen months in the Democratic Republic of Congo with Médecins Sans Frontières. \nMÉDECINS SANS FRONTIÈRES: MEDICAL HUMANITARIAN ACTIVISM AND THE TENSION BETWEEN PRINCIPLE AND PRAGMATISM\nIn her lecture\, Dr. Fuchsman-Small will discuss how Médecins Sans Frontières uses its declared principles and evolving sense of its institutional role to address issues such as: when and where to intervene and to pull out; when to speak out and to whom; and how to balance integrity with cultural flexibility. \nDr. Saul Green was a graduate of Dalhousie University’s Medical School. He was a fellow of the Royal College of Physicians and Surgeons in Canada as well as the American College of Surgeons. A founding member of the Shaar Shalom Synagogue\, Dr Green cared deeply about the relationship between Judaism\, medicine\, and humanitarianism. \nShaar Shalom Synagogue is a conservative congregation providing egalitarian religious services\, and educational and cultural programs that enhance Judaism for its individuals\, its families and its community. Shaar Shalom is committed to learning\, fellowship and community. \nFounded in 1789\, the University of King’s College is Canada’s oldest chartered university. A small and extraordinarily lively academic community\, King’s is known nationally and internationally for its highly acclaimed interdisciplinary programs in the humanities and journalism.
URL:https://theshaar.ca/event/dr-saul-green-memorial-lecture/
LOCATION:Alumni Hall\, Academic Building\, University of King’s College\, 6350 Coburg Road\, Halifax\, NS\, Canada
CATEGORIES:Special Events
ATTACH;FMTTYPE=application/pdf:/wp-content/uploads/2017/07/SGML-lecture-poster-2017-1.pdf
GEO:44.6372397;-63.5954343
X-APPLE-STRUCTURED-LOCATION;VALUE=URI;X-ADDRESS=Alumni Hall Academic Building University of King’s College 6350 Coburg Road Halifax NS Canada;X-APPLE-RADIUS=500;X-TITLE=6350 Coburg Road:geo:-63.5954343,44.6372397
END:VEVENT
BEGIN:VEVENT
DTSTART;TZID=America/Halifax:20161117T190000
DTEND;TZID=America/Halifax:20161117T210000
DTSTAMP:20260424T144109
CREATED:20161102T161336Z
LAST-MODIFIED:20161102T161757Z
UID:645-1479409200-1479416400@theshaar.ca
SUMMARY:Dr. Saul Green Memorial Lecture presents Dr. George Elliott Clarke
DESCRIPTION:http://www.saulgreenlecture.com
URL:https://theshaar.ca/event/dr-saul-green-memorial-lecture-presents-dr-george-elliott-clarke/
LOCATION:Alumni Hall\, Academic Building\, University of King’s College\, 6350 Coburg Road\, Halifax\, NS\, Canada
CATEGORIES:Special Events
ATTACH;FMTTYPE=image/jpeg:/wp-content/uploads/2016/11/poster_2016.jpg
GEO:44.6372397;-63.5954343
X-APPLE-STRUCTURED-LOCATION;VALUE=URI;X-ADDRESS=Alumni Hall Academic Building University of King’s College 6350 Coburg Road Halifax NS Canada;X-APPLE-RADIUS=500;X-TITLE=6350 Coburg Road:geo:-63.5954343,44.6372397
END:VEVENT
END:VCALENDAR