BEGIN:VCALENDAR
VERSION:2.0
PRODID:-//Shaar Shalom Synagogue - ECPv6.15.20//NONSGML v1.0//EN
CALSCALE:GREGORIAN
METHOD:PUBLISH
X-ORIGINAL-URL:https://theshaar.ca
X-WR-CALDESC:Events for Shaar Shalom Synagogue
REFRESH-INTERVAL;VALUE=DURATION:PT1H
X-Robots-Tag:noindex
X-PUBLISHED-TTL:PT1H
BEGIN:VTIMEZONE
TZID:America/Halifax
BEGIN:DAYLIGHT
TZOFFSETFROM:-0400
TZOFFSETTO:-0300
TZNAME:ADT
DTSTART:20220313T060000
END:DAYLIGHT
BEGIN:STANDARD
TZOFFSETFROM:-0300
TZOFFSETTO:-0400
TZNAME:AST
DTSTART:20221106T050000
END:STANDARD
BEGIN:DAYLIGHT
TZOFFSETFROM:-0400
TZOFFSETTO:-0300
TZNAME:ADT
DTSTART:20230312T060000
END:DAYLIGHT
BEGIN:STANDARD
TZOFFSETFROM:-0300
TZOFFSETTO:-0400
TZNAME:AST
DTSTART:20231105T050000
END:STANDARD
BEGIN:DAYLIGHT
TZOFFSETFROM:-0400
TZOFFSETTO:-0300
TZNAME:ADT
DTSTART:20240310T060000
END:DAYLIGHT
BEGIN:STANDARD
TZOFFSETFROM:-0300
TZOFFSETTO:-0400
TZNAME:AST
DTSTART:20241103T050000
END:STANDARD
BEGIN:DAYLIGHT
TZOFFSETFROM:-0400
TZOFFSETTO:-0300
TZNAME:ADT
DTSTART:20250309T060000
END:DAYLIGHT
BEGIN:STANDARD
TZOFFSETFROM:-0300
TZOFFSETTO:-0400
TZNAME:AST
DTSTART:20251102T050000
END:STANDARD
END:VTIMEZONE
BEGIN:VEVENT
DTSTART;TZID=America/Halifax:20241003T160000
DTEND;TZID=America/Halifax:20241003T170000
DTSTAMP:20260424T100552
CREATED:20240924T202720Z
LAST-MODIFIED:20240924T202720Z
UID:12323-1727971200-1727974800@theshaar.ca
SUMMARY:Tashlikh (+Shofar & Minhah)
DESCRIPTION:Please join us for Tashlikh (+Shofar & Minhah) at Bishops Landing on the Halifax Waterfront. Dress appropriately for the weather.
URL:https://theshaar.ca/event/tashlikh-shofar-minhah/
LOCATION:Bishop’s Landing\, 1475 Lower Water Street\, Halifax\, NS\, B3J 3Z2\, Canada
CATEGORIES:Services
GEO:44.6487635;-63.5752387
X-APPLE-STRUCTURED-LOCATION;VALUE=URI;X-ADDRESS=Bishop’s Landing 1475 Lower Water Street Halifax NS B3J 3Z2 Canada;X-APPLE-RADIUS=500;X-TITLE=1475 Lower Water Street:geo:-63.5752387,44.6487635
END:VEVENT
BEGIN:VEVENT
DTSTART;TZID=America/Halifax:20230917T163000
DTEND;TZID=America/Halifax:20230917T173000
DTSTAMP:20260424T100552
CREATED:20230906T191105Z
LAST-MODIFIED:20230906T225100Z
UID:11560-1694968200-1694971800@theshaar.ca
SUMMARY:Tashlikh (+Shofar & Minchah\, Bishop's Landing)
DESCRIPTION:Join us at Bishop’s Landing on the historic Halifax waterfront as we cast away our sins!
URL:https://theshaar.ca/event/tashlikh-shofar-minhah-bishops-landing-2/
LOCATION:Bishop’s Landing\, 1475 Lower Water Street\, Halifax\, NS\, B3J 3Z2\, Canada
GEO:44.6487635;-63.5752387
X-APPLE-STRUCTURED-LOCATION;VALUE=URI;X-ADDRESS=Bishop’s Landing 1475 Lower Water Street Halifax NS B3J 3Z2 Canada;X-APPLE-RADIUS=500;X-TITLE=1475 Lower Water Street:geo:-63.5752387,44.6487635
END:VEVENT
END:VCALENDAR