BEGIN:VCALENDAR
VERSION:2.0
PRODID:-//Shaar Shalom Synagogue - ECPv6.15.20//NONSGML v1.0//EN
CALSCALE:GREGORIAN
METHOD:PUBLISH
X-WR-CALNAME:Shaar Shalom Synagogue
X-ORIGINAL-URL:https://theshaar.ca
X-WR-CALDESC:Events for Shaar Shalom Synagogue
REFRESH-INTERVAL;VALUE=DURATION:PT1H
X-Robots-Tag:noindex
X-PUBLISHED-TTL:PT1H
BEGIN:VTIMEZONE
TZID:America/Halifax
BEGIN:DAYLIGHT
TZOFFSETFROM:-0400
TZOFFSETTO:-0300
TZNAME:ADT
DTSTART:20160313T060000
END:DAYLIGHT
BEGIN:STANDARD
TZOFFSETFROM:-0300
TZOFFSETTO:-0400
TZNAME:AST
DTSTART:20161106T050000
END:STANDARD
BEGIN:DAYLIGHT
TZOFFSETFROM:-0400
TZOFFSETTO:-0300
TZNAME:ADT
DTSTART:20170312T060000
END:DAYLIGHT
BEGIN:STANDARD
TZOFFSETFROM:-0300
TZOFFSETTO:-0400
TZNAME:AST
DTSTART:20171105T050000
END:STANDARD
BEGIN:DAYLIGHT
TZOFFSETFROM:-0400
TZOFFSETTO:-0300
TZNAME:ADT
DTSTART:20180311T060000
END:DAYLIGHT
BEGIN:STANDARD
TZOFFSETFROM:-0300
TZOFFSETTO:-0400
TZNAME:AST
DTSTART:20181104T050000
END:STANDARD
BEGIN:DAYLIGHT
TZOFFSETFROM:-0400
TZOFFSETTO:-0300
TZNAME:ADT
DTSTART:20190310T060000
END:DAYLIGHT
BEGIN:STANDARD
TZOFFSETFROM:-0300
TZOFFSETTO:-0400
TZNAME:AST
DTSTART:20191103T050000
END:STANDARD
END:VTIMEZONE
BEGIN:VEVENT
DTSTART;TZID=America/Halifax:20180116T190000
DTEND;TZID=America/Halifax:20180116T203000
DTSTAMP:20260424T153200
CREATED:20180104T151257Z
LAST-MODIFIED:20180104T151257Z
UID:4167-1516129200-1516134600@theshaar.ca
SUMMARY:Beth Book Club
DESCRIPTION:The next Beth Book Club will be held on Tuesday\, January 16th\, 7:00 pm at the home of Goldie Trager\, 6630 South Street. Myrna Yazer will be facilitating the chosen selection\, “Karolina’s Twins” by Ronald H. Balson. Please RSVP to Marty (info@thebethisrael.com).
URL:https://theshaar.ca/event/beth-book-club-4/
LOCATION:Goldie Trager’s home\, 6630 South Street.\, Halifax\, NS
ATTACH;FMTTYPE=image/png:/wp-content/uploads/2018/01/karolinas-twins-197x300.png
GEO:44.6333403;-63.5973932
X-APPLE-STRUCTURED-LOCATION;VALUE=URI;X-ADDRESS=Goldie Trager’s home 6630 South Street. Halifax NS;X-APPLE-RADIUS=500;X-TITLE=6630 South Street.:geo:-63.5973932,44.6333403
END:VEVENT
BEGIN:VEVENT
DTSTART;TZID=America/Halifax:20171217T170000
DTEND;TZID=America/Halifax:20171217T190000
DTSTAMP:20260424T153200
CREATED:20171108T140252Z
LAST-MODIFIED:20171109T144146Z
UID:3858-1513530000-1513537200@theshaar.ca
SUMMARY:Community Hanukkah Party
DESCRIPTION:We are excited for this year’s Hanukkah Party at the Shaar Shalom Synagogue on December 17th at 5pm.
URL:https://theshaar.ca/event/community-hanukkah-party/
LOCATION:The Shaar\, 1981 Oxford St\, Halifax\, NS\, B3H 4A4\, Canada
ATTACH;FMTTYPE=image/jpeg:/wp-content/uploads/2017/11/2017HanukkahParty-e1510181580445.jpg
GEO:44.6442349;-63.599906
X-APPLE-STRUCTURED-LOCATION;VALUE=URI;X-ADDRESS=The Shaar 1981 Oxford St Halifax NS B3H 4A4 Canada;X-APPLE-RADIUS=500;X-TITLE=1981 Oxford St:geo:-63.599906,44.6442349
END:VEVENT
BEGIN:VEVENT
DTSTART;TZID=America/Halifax:20171212T123000
DTEND;TZID=America/Halifax:20171212T133000
DTSTAMP:20260424T153200
CREATED:20171202T234543Z
LAST-MODIFIED:20171204T184731Z
UID:4069-1513081800-1513085400@theshaar.ca
SUMMARY:Lunch & Learn: Why Do Bad Things Happen to Good People - Different Perspectives
DESCRIPTION:Please join host Victor Goldberg at the law offices of Cox and Palmer\, Purdy’s Wharf\, Tower 1\, 1959 Upper Water Street\, Suite 1100 on Tuesday\,  December 12 at 12:30 PM for a Beth Israel “Lunch & Learn” program. If you are planning to attend\, you must RSVP to Beth Israel office at 902-422-1301 or email: info@thebethisrael.com \nRabbi Raysh Weiss and Rabbi Yakov Kerzner will discuss the topic\, “Why Do Bad Things Happen To Good People – Different Perspectives”
URL:https://theshaar.ca/event/lunch-learn-bad-things-happen-good-people-different-perspectives/
LOCATION:Cox and Palmer Law Offices\, Suite 1100\, 1959 Lower Water Street (Purdy's Wharf\, Tower 1)\, Halifax\, NS\, B3J 3N2\, Canada
CATEGORIES:Special Events
ATTACH;FMTTYPE=image/jpeg:/wp-content/uploads/2017/12/Lunch-and-Learn.jpg
GEO:44.6517914;-63.5741399
X-APPLE-STRUCTURED-LOCATION;VALUE=URI;X-ADDRESS=Cox and Palmer Law Offices Suite 1100 1959 Lower Water Street (Purdy's Wharf Tower 1) Halifax NS B3J 3N2 Canada;X-APPLE-RADIUS=500;X-TITLE=Suite 1100\, 1959 Lower Water Street (Purdy's Wharf\, Tower 1):geo:-63.5741399,44.6517914
END:VEVENT
BEGIN:VEVENT
DTSTART;TZID=America/Halifax:20170928T200000
DTEND;TZID=America/Halifax:20170928T213000
DTSTAMP:20260424T153200
CREATED:20170927T153427Z
LAST-MODIFIED:20170927T153427Z
UID:3565-1506628800-1506634200@theshaar.ca
SUMMARY:The Nitty Gritty about Rosh Hashana and Yom Kippur
DESCRIPTION:This educational session led by Rabbi Kerzer will take place in the Beth Israel youth lounge.
URL:https://theshaar.ca/event/nitty-gritty-rosh-hashana-yom-kippur/
LOCATION:Beth Israel Synagogue\, 1480 Oxford Street\, Halifax\, NS\, B3H 3Y8\, Canada
GEO:44.6370836;-63.5969759
X-APPLE-STRUCTURED-LOCATION;VALUE=URI;X-ADDRESS=Beth Israel Synagogue 1480 Oxford Street Halifax NS B3H 3Y8 Canada;X-APPLE-RADIUS=500;X-TITLE=1480 Oxford Street:geo:-63.5969759,44.6370836
END:VEVENT
BEGIN:VEVENT
DTSTART;TZID=America/Halifax:20170912T190000
DTEND;TZID=America/Halifax:20170912T190000
DTSTAMP:20260424T153200
CREATED:20170828T010432Z
LAST-MODIFIED:20170928T174308Z
UID:3441-1505242800-1505242800@theshaar.ca
SUMMARY:Beth Book Club
DESCRIPTION:Beth Book Club will be discussing Alice Hoffman’s “the Marriage of Opposites”. The discussion will be facilitated by Yael Kollet. Call Marty at 902-422-1301 to reserve!Tuesday\, September 12th
URL:https://theshaar.ca/event/beth-book-club-3/
LOCATION:Judith Goldberg’s home\, 6471 Oakland Road\, Halifax\, NS\, Canada
CATEGORIES:Special Events
ATTACH;FMTTYPE=image/jpeg:/wp-content/uploads/2017/08/The-Marriage-of-Opposites.jpg
GEO:44.6320861;-63.5943054
X-APPLE-STRUCTURED-LOCATION;VALUE=URI;X-ADDRESS=Judith Goldberg’s home 6471 Oakland Road Halifax NS Canada;X-APPLE-RADIUS=500;X-TITLE=6471 Oakland Road:geo:-63.5943054,44.6320861
END:VEVENT
BEGIN:VEVENT
DTSTART;TZID=America/Halifax:20170812T213000
DTEND;TZID=America/Halifax:20170812T223000
DTSTAMP:20260424T153200
CREATED:20170809T004855Z
LAST-MODIFIED:20170809T104545Z
UID:3301-1502573400-1502577000@theshaar.ca
SUMMARY:50th Yahrzeit of Brian Epstein
DESCRIPTION:Saturday night\, August 12th\, the 21st day of the month of Av\, will be the 50th yahrzeit of Brian Epstein (Shmuel ben Zvi)\, the manager of The Beatles\, the most successful band in history.\nWe will be saying kaddish (at times below) and celebrating his life with a Beatles singalong at the Beth Israel at 9:30 PM\, hosted by Jason Brown on guitar and sponsored by the Beth Israel and the Atlantic Jewish Council. \nMincha: Saturday at 8 PM\nMaariv: Saturday at 9 PM\nShacharit: Sunday\, August 13 at 8:30 AM\nMincha: Sunday August 13 at 7 PM \nPlease RSVP to jasonibrown@me.com. Come and join us – yeah\, yeah\, yeah!
URL:https://theshaar.ca/event/50th-yahrzeit-brian-epstein/
LOCATION:Beth Israel Synagogue\, 1480 Oxford Street\, Halifax\, NS\, B3H 3Y8\, Canada
CATEGORIES:Special Events
ATTACH;FMTTYPE=image/jpeg:/wp-content/uploads/2017/08/Brian-Epstein.jpeg
GEO:44.6370836;-63.5969759
X-APPLE-STRUCTURED-LOCATION;VALUE=URI;X-ADDRESS=Beth Israel Synagogue 1480 Oxford Street Halifax NS B3H 3Y8 Canada;X-APPLE-RADIUS=500;X-TITLE=1480 Oxford Street:geo:-63.5969759,44.6370836
END:VEVENT
BEGIN:VEVENT
DTSTART;TZID=America/Halifax:20170620T190000
DTEND;TZID=America/Halifax:20170620T203000
DTSTAMP:20260424T153200
CREATED:20170602T162246Z
LAST-MODIFIED:20170628T001651Z
UID:2904-1497985200-1497990600@theshaar.ca
SUMMARY:Beth Book Club
DESCRIPTION:The next book club meeting will take place at the home of Lisa and Yakov Kerzner\, 1226 Blenheim Terrace\, on Tuesday evening\, June 20th at 7:00.  The book chosen is “The Marrying of Chani Kaufman” by Eve Harris.  Judith Goldberg will be the facilitator. Please contact the Beth office (902-422-1301) to reserve a spot.
URL:https://theshaar.ca/event/beth-book-club-2/
LOCATION:Lisa & Yakov Kerzner’s home\, 1226 Blenheim Terrace\, Halifax\, NS\, Canada
CATEGORIES:Special Events
ATTACH;FMTTYPE=image/png:/wp-content/uploads/2017/06/Beth-Book-Club-June-2017.png
GEO:44.6341896;-63.597351
X-APPLE-STRUCTURED-LOCATION;VALUE=URI;X-ADDRESS=Lisa & Yakov Kerzner’s home 1226 Blenheim Terrace Halifax NS Canada;X-APPLE-RADIUS=500;X-TITLE=1226 Blenheim Terrace:geo:-63.597351,44.6341896
END:VEVENT
BEGIN:VEVENT
DTSTART;VALUE=DATE:20170616
DTEND;VALUE=DATE:20170618
DTSTAMP:20260424T153200
CREATED:20170614T231735Z
LAST-MODIFIED:20170614T235028Z
UID:3097-1497571200-1497743999@theshaar.ca
SUMMARY:Scholar in Residence Weekend at the Beth – Rabbi Michael Skobac
DESCRIPTION:Friday evening at Shabbat Dinner – Topic – “Is Religion Killing Judaism?” \nShabbat morning at Kiddush – Topic – “Judaism and Inner Peace” \nShabbat evening 7:30 – Topic – “Judaism and Meditation”
URL:https://theshaar.ca/event/scholar-residence-weekend-rabbi-michael-skobac/
LOCATION:Beth Israel Synagogue\, 1480 Oxford Street\, Halifax\, NS\, B3H 3Y8\, Canada
CATEGORIES:Special Events
ATTACH;FMTTYPE=image/png:/wp-content/uploads/2017/06/Rabbi-Michael-Skobac.png
GEO:44.6370836;-63.5969759
X-APPLE-STRUCTURED-LOCATION;VALUE=URI;X-ADDRESS=Beth Israel Synagogue 1480 Oxford Street Halifax NS B3H 3Y8 Canada;X-APPLE-RADIUS=500;X-TITLE=1480 Oxford Street:geo:-63.5969759,44.6370836
END:VEVENT
BEGIN:VEVENT
DTSTART;VALUE=DATE:20170603
DTEND;VALUE=DATE:20170604
DTSTAMP:20260424T153200
CREATED:20170518T174043Z
LAST-MODIFIED:20170518T174043Z
UID:2858-1496448000-1496534399@theshaar.ca
SUMMARY:A Jew at the WHO (World Health Organization)
DESCRIPTION:Barry Pakes is a Public Health specialist physician\, who also works in primary care and emergency medicine. He is a Royal College Fellow in Public Health and Preventive Medicine\, has an MPH from Harvard School of Public Health\, a Diploma in Tropical Medicine from Universidad Peruana Cayetano Heredia and a PhD in Public Health Ethics from the University of Toronto. He has experience working globally\, in Northern communities\, in local and regional public health\, and with the WHO Ethics Group. For the past year\, he has been acting as Deputy Chief Medical Officer of Health in Nunavut. He is currently the Program Director of the Public Health and Preventive Medicine Residency program at the Dalla Lana School of Public Health\, the Program Director for the Global Health Education Initiative and is Global Health Lead for Post Graduate Medical Education at the University of Toronto. His main areas of interest are in Global Health Ethics\, Post-Graduate Global Health Education\, Vaccinology and Tobacco Control\, and Public Health Halacha. \nScholar in Residence  – Dr. Barry Pakes\, of the World Health Organization\, will join us for a fascinating discussion about medical ethics on Shabbat June 3rd. \nJoin us for a kiddush luncheon and a sidedish of medical ethics. \nA Jew at the WHO: Ebola\, Zika and Pandemic Ethics in Halacha\n \n\n\n 
URL:https://theshaar.ca/event/jew-world-health-organization/
LOCATION:Beth Israel Synagogue\, 1480 Oxford Street\, Halifax\, NS\, B3H 3Y8\, Canada
GEO:44.6370836;-63.5969759
X-APPLE-STRUCTURED-LOCATION;VALUE=URI;X-ADDRESS=Beth Israel Synagogue 1480 Oxford Street Halifax NS B3H 3Y8 Canada;X-APPLE-RADIUS=500;X-TITLE=1480 Oxford Street:geo:-63.5969759,44.6370836
END:VEVENT
BEGIN:VEVENT
DTSTART;TZID=America/Halifax:20170523T191500
DTEND;TZID=America/Halifax:20170523T203000
DTSTAMP:20260424T153200
CREATED:20170510T213412Z
LAST-MODIFIED:20170510T213412Z
UID:2813-1495566900-1495571400@theshaar.ca
SUMMARY:New Beth Israel Lecture on Tuesday Evenings
DESCRIPTION:Please join the Beth Israel for the first installment of a new lecture series to be held periodically on Tuesday evenings:     \n  \n                                                                                                                                               JUDAISM \n  \nClass One: “The Afterlife and Resurrection” \n 
URL:https://theshaar.ca/event/new-beth-israel-lecture-tuesday-evenings/
LOCATION:Beth Israel Synagogue\, 1480 Oxford Street\, Halifax\, NS\, B3H 3Y8\, Canada
CATEGORIES:Special Events
GEO:44.6370836;-63.5969759
X-APPLE-STRUCTURED-LOCATION;VALUE=URI;X-ADDRESS=Beth Israel Synagogue 1480 Oxford Street Halifax NS B3H 3Y8 Canada;X-APPLE-RADIUS=500;X-TITLE=1480 Oxford Street:geo:-63.5969759,44.6370836
END:VEVENT
BEGIN:VEVENT
DTSTART;TZID=America/Halifax:20170509T193000
DTEND;TZID=America/Halifax:20170509T210000
DTSTAMP:20260424T153200
CREATED:20170330T011052Z
LAST-MODIFIED:20170504T114032Z
UID:2595-1494358200-1494363600@theshaar.ca
SUMMARY:Beth Book Club
DESCRIPTION:Orphan Number 8\, by Kim van Alkemade\, is the next selection for the Beth Book Club.  The discussion group will be held on Tuesday\, May 9th\, 7:30 pm at the home of Jennifer Wolfson\, 6137 Inglis Street and will be facilitated by Dr. Sheva Medjuck.  The Book Club is open to all members of the Jewish community\, but we do ask that you please read the book as a prerequisite to attending. The first 20 to RSVP will join. If you are interested\, please contact Marty at the Beth: 902-422-1301.
URL:https://theshaar.ca/event/beth-book-club/
LOCATION:Jennifer Wolfson’s home\, 6137 Inglis Street\, Halifax\, NS\, Canada
CATEGORIES:Special Events
ATTACH;FMTTYPE=image/jpeg:/wp-content/uploads/2017/03/Beth-Book-Club.jpg
GEO:44.6321651;-63.5870555
X-APPLE-STRUCTURED-LOCATION;VALUE=URI;X-ADDRESS=Jennifer Wolfson’s home 6137 Inglis Street Halifax NS Canada;X-APPLE-RADIUS=500;X-TITLE=6137 Inglis Street:geo:-63.5870555,44.6321651
END:VEVENT
END:VCALENDAR