BEGIN:VCALENDAR
VERSION:2.0
PRODID:-//Shaar Shalom Synagogue - ECPv6.15.20//NONSGML v1.0//EN
CALSCALE:GREGORIAN
METHOD:PUBLISH
X-WR-CALNAME:Shaar Shalom Synagogue
X-ORIGINAL-URL:https://theshaar.ca
X-WR-CALDESC:Events for Shaar Shalom Synagogue
REFRESH-INTERVAL;VALUE=DURATION:PT1H
X-Robots-Tag:noindex
X-PUBLISHED-TTL:PT1H
BEGIN:VTIMEZONE
TZID:America/Halifax
BEGIN:DAYLIGHT
TZOFFSETFROM:-0400
TZOFFSETTO:-0300
TZNAME:ADT
DTSTART:20160313T060000
END:DAYLIGHT
BEGIN:STANDARD
TZOFFSETFROM:-0300
TZOFFSETTO:-0400
TZNAME:AST
DTSTART:20161106T050000
END:STANDARD
BEGIN:DAYLIGHT
TZOFFSETFROM:-0400
TZOFFSETTO:-0300
TZNAME:ADT
DTSTART:20170312T060000
END:DAYLIGHT
BEGIN:STANDARD
TZOFFSETFROM:-0300
TZOFFSETTO:-0400
TZNAME:AST
DTSTART:20171105T050000
END:STANDARD
BEGIN:DAYLIGHT
TZOFFSETFROM:-0400
TZOFFSETTO:-0300
TZNAME:ADT
DTSTART:20180311T060000
END:DAYLIGHT
BEGIN:STANDARD
TZOFFSETFROM:-0300
TZOFFSETTO:-0400
TZNAME:AST
DTSTART:20181104T050000
END:STANDARD
END:VTIMEZONE
BEGIN:VEVENT
DTSTART;TZID=America/Halifax:20170126T183000
DTEND;TZID=America/Halifax:20170126T203000
DTSTAMP:20260425T131145
CREATED:20170111T190231Z
LAST-MODIFIED:20170111T190231Z
UID:2013-1485455400-1485462600@theshaar.ca
SUMMARY:International Holocaust Remembrance Day - Remembering Elie Wiesel and Yaffa Eliach
DESCRIPTION: 
URL:https://theshaar.ca/event/international-holocaust-remembrance-day-remembering-elie-wiesel-yaffa-eliach/
LOCATION:Halifax Central Library\, Paul O’Regan Hall\, 5440 Spring Garden Road\, Halifax\, NS\, Canada
CATEGORIES:Special Events
GEO:44.6431436;-63.5757037
X-APPLE-STRUCTURED-LOCATION;VALUE=URI;X-ADDRESS=Halifax Central Library Paul O’Regan Hall 5440 Spring Garden Road Halifax NS Canada;X-APPLE-RADIUS=500;X-TITLE=5440 Spring Garden Road:geo:-63.5757037,44.6431436
END:VEVENT
BEGIN:VEVENT
DTSTART;TZID=America/Halifax:20170124T193000
DTEND;TZID=America/Halifax:20170124T213000
DTSTAMP:20260425T131145
CREATED:20170105T190449Z
LAST-MODIFIED:20170105T190653Z
UID:1834-1485286200-1485293400@theshaar.ca
SUMMARY:CIJA Grassroots Consultation – Atlantic Region
DESCRIPTION:We’re excited to announce our next round of community consultations coming to the Atlantic Region on January 24th at 7:30 PM (8:00 PM in Newfoundland).\nFrom confronting BDS and strengthening ties with Israel\, to enhancing Jewish community security and empowering social services agencies\, everything we accomplish is because of you. Be part of our work. Make your voice heard. Participate in a grassroots community consultation this January. \nWhen: January 24th at 7:30 PM (8:00 PM in Newfoundland) \nWhere: Hillel House\,1881 Walnut Street \, Halifax\, NS \nFor members of the AJC who are not in Halifax\, you will be able to be part of the conversation by webinar. Log-in details will be provided after registration. (You will require a computer monitor and microphone to participate.) \nSpace is limited. Please register to secure your spot at CIJA’s Grassroots Consultation in the Atlantic Region.
URL:https://theshaar.ca/event/cija-grassroots-consultation-atlantic-region/
LOCATION:Hillel House\, 1881 Walnut Street\, Halifax\, NS\, Canada
CATEGORIES:Special Events
GEO:44.6441697;-63.5949603
X-APPLE-STRUCTURED-LOCATION;VALUE=URI;X-ADDRESS=Hillel House 1881 Walnut Street Halifax NS Canada;X-APPLE-RADIUS=500;X-TITLE=1881 Walnut Street:geo:-63.5949603,44.6441697
END:VEVENT
BEGIN:VEVENT
DTSTART;TZID=America/Halifax:20170117T190000
DTEND;TZID=America/Halifax:20170117T210000
DTSTAMP:20260425T131145
CREATED:20170105T185355Z
LAST-MODIFIED:20170105T185355Z
UID:1829-1484679600-1484686800@theshaar.ca
SUMMARY:On the Author’s Stage: Allison Lawlor featuring The Saddest Ship Afloat
DESCRIPTION:Allison Lawlor presents her new book The Saddest Ship Afloat: The Tragedy of the MS St. Louis. Be transported back in time to a tragic event in Canadian immigration history where more than six hundred Jews aboard the MS St. Louis attempted to escape Nazi rule. In partnership with Nimbus Publishing. 
URL:https://theshaar.ca/event/on-the-authors-stage-allison-lawlor-featuring-the-saddest-ship-afloat/
LOCATION:Keshen Goodman Public Library\, 330 Lacewood Dr\, Halifax\, NS\, Canada
CATEGORIES:Special Events
GEO:44.6587034;-63.6667753
X-APPLE-STRUCTURED-LOCATION;VALUE=URI;X-ADDRESS=Keshen Goodman Public Library 330 Lacewood Dr Halifax NS Canada;X-APPLE-RADIUS=500;X-TITLE=330 Lacewood Dr:geo:-63.6667753,44.6587034
END:VEVENT
END:VCALENDAR