BEGIN:VCALENDAR
VERSION:2.0
PRODID:-//Shaar Shalom Synagogue - ECPv6.15.20//NONSGML v1.0//EN
CALSCALE:GREGORIAN
METHOD:PUBLISH
X-ORIGINAL-URL:https://theshaar.ca
X-WR-CALDESC:Events for Shaar Shalom Synagogue
REFRESH-INTERVAL;VALUE=DURATION:PT1H
X-Robots-Tag:noindex
X-PUBLISHED-TTL:PT1H
BEGIN:VTIMEZONE
TZID:America/Halifax
BEGIN:DAYLIGHT
TZOFFSETFROM:-0400
TZOFFSETTO:-0300
TZNAME:ADT
DTSTART:20160313T060000
END:DAYLIGHT
BEGIN:STANDARD
TZOFFSETFROM:-0300
TZOFFSETTO:-0400
TZNAME:AST
DTSTART:20161106T050000
END:STANDARD
BEGIN:DAYLIGHT
TZOFFSETFROM:-0400
TZOFFSETTO:-0300
TZNAME:ADT
DTSTART:20170312T060000
END:DAYLIGHT
BEGIN:STANDARD
TZOFFSETFROM:-0300
TZOFFSETTO:-0400
TZNAME:AST
DTSTART:20171105T050000
END:STANDARD
BEGIN:DAYLIGHT
TZOFFSETFROM:-0400
TZOFFSETTO:-0300
TZNAME:ADT
DTSTART:20180311T060000
END:DAYLIGHT
BEGIN:STANDARD
TZOFFSETFROM:-0300
TZOFFSETTO:-0400
TZNAME:AST
DTSTART:20181104T050000
END:STANDARD
END:VTIMEZONE
BEGIN:VEVENT
DTSTART;TZID=America/Halifax:20170725T103000
DTEND;TZID=America/Halifax:20170725T150000
DTSTAMP:20260425T074947
CREATED:20170628T001033Z
LAST-MODIFIED:20170628T001510Z
UID:3161-1500978600-1500994800@theshaar.ca
SUMMARY:Pre-Gibbie Day at Camp Kadimah
DESCRIPTION:For children ages 6 to 9 from 10:30 am to 3:00pm. For details: info@campkadimah.com or www.campkadimah.com
URL:https://theshaar.ca/event/pre-gibbie-day-camp-kadimah/
LOCATION:Camp Kadimah\, Barss Corner\, Lunenburg County\, NS\, Canada
CATEGORIES:Special Events
ATTACH;FMTTYPE=image/png:/wp-content/uploads/2017/06/Camp-Kadimah-2017.png
GEO:44.566343;-64.680945
END:VEVENT
BEGIN:VEVENT
DTSTART;TZID=America/Halifax:20170722T130000
DTEND;TZID=America/Halifax:20170722T160000
DTSTAMP:20260425T074947
CREATED:20170628T003510Z
LAST-MODIFIED:20170628T003510Z
UID:3173-1500728400-1500739200@theshaar.ca
SUMMARY:PRIDE Parade March
DESCRIPTION:This year’s pride parade is only a month away. The parade will be on Saturday\, July 22\, 2017 at 1:00 PM. We will be marching together to show that Halifax’s Jewish Community celebrates pride in our diversity!\nWe will have a banner to march with\, free t-shirts\, stickers and\, flags as shown above!
URL:https://theshaar.ca/event/pride-parade-march/
CATEGORIES:Special Events
ATTACH;FMTTYPE=image/png:/wp-content/uploads/2017/06/Pride-Parade-July-2017.png
END:VEVENT
BEGIN:VEVENT
DTSTART;VALUE=DATE:20170717
DTEND;VALUE=DATE:20170729
DTSTAMP:20260425T074947
CREATED:20170713T153358Z
LAST-MODIFIED:20170713T153358Z
UID:3213-1500249600-1501286399@theshaar.ca
SUMMARY:Canadian Jewish Experience Exhibit
DESCRIPTION:The full Canadian Jewish Experience exhibit will be on display at the Central Library from July 17th-28th. Please join us Monday\, July 17th at 7PM for the exhibit opening featuring the Hon. Geoff Regan.
URL:https://theshaar.ca/event/canadian-jewish-experience-exhibit/
LOCATION:Halifax Central Library\, 5440 Spring Garden Road\, Halifax\, NS\, B3J 1E9\, Canada
CATEGORIES:Special Events
ATTACH;FMTTYPE=image/jpeg:/wp-content/uploads/2017/06/Canadain-Jewish-Experience.jpg
GEO:44.6427874;-63.575221
X-APPLE-STRUCTURED-LOCATION;VALUE=URI;X-ADDRESS=Halifax Central Library 5440 Spring Garden Road Halifax NS B3J 1E9 Canada;X-APPLE-RADIUS=500;X-TITLE=5440 Spring Garden Road:geo:-63.575221,44.6427874
END:VEVENT
BEGIN:VEVENT
DTSTART;VALUE=DATE:20170630
DTEND;VALUE=DATE:20170704
DTSTAMP:20260425T074947
CREATED:20170628T003113Z
LAST-MODIFIED:20170628T003113Z
UID:3169-1498780800-1499126399@theshaar.ca
SUMMARY:The Canadian Jewish Experience
DESCRIPTION:The Canadian Jewish Experience is a volunteer initiative to celebrate Canada and the contributions made by Jews to the building of a modern country.\nThe Canadian Jewish Experience is presented through a detailed exhibit. It focuses on nine major themes\, including patterns of immigration\, war and diplomacy\, public service\, justice and human rights\, economic growth\, arts\, culture and sports.\nThis weekend the exhibit will be shown in part at both The Shaar and The Beth. The full exhibit will then be available at the Halifax Central Library from July 17th – 28th.\nFor more information about the Canadian Jewish Experience go to https://theajc.ns.ca/the-canadian-jewish-experience/
URL:https://theshaar.ca/event/canadian-jewish-experience/
LOCATION:The Shaar\, 1981 Oxford St\, Halifax\, NS\, B3H 4A4\, Canada
CATEGORIES:Special Events
ATTACH;FMTTYPE=image/jpeg:/wp-content/uploads/2017/06/Canadain-Jewish-Experience.jpg
GEO:44.6442349;-63.599906
X-APPLE-STRUCTURED-LOCATION;VALUE=URI;X-ADDRESS=The Shaar 1981 Oxford St Halifax NS B3H 4A4 Canada;X-APPLE-RADIUS=500;X-TITLE=1981 Oxford St:geo:-63.599906,44.6442349
END:VEVENT
BEGIN:VEVENT
DTSTART;TZID=America/Halifax:20170608T183000
DTEND;TZID=America/Halifax:20170608T203000
DTSTAMP:20260425T074947
CREATED:20170519T112821Z
LAST-MODIFIED:20170519T112821Z
UID:2878-1496946600-1496953800@theshaar.ca
SUMMARY:Atlantic Jewish Film Festival Presents “Mr. Gaga”
DESCRIPTION:The Atlantic Jewish Film Festival invites you to a free screening (with a special guest speaker) of “Mr. Gaga”.  \nEnter the world of Ohad Naharin\, renowned choreographer and artistic director of the Batsheva Dance Company. Meeting him at a critical turning point in his personal life\, this spirited and insightful documentary will introduce you to a man with great artistic integrity and an extraordinary vision. \n\n\n\n\nMr. Gaga\, eight years in the making\, captures the elusive beauty of contemporary dance and immerses the audience in the creative process behind Batsheva’s unique performances.\nUsing intimate rehearsal footage\, extensive unseen archive materials and stunning dance sequences\, acclaimed director Tomer Heymann tells the fascinating story of an artistic genius who redefined the language of modern dance and is guaranteed to leave you skipping. \nDocumentary| 100 min.| English and Hebrew with subtitles| Israel\, Sweden\, Germany\, Netherlands|2015
URL:https://theshaar.ca/event/atlantic-jewish-film-festival-presents-mr-gaga/
LOCATION:Halifax Central Library\, Paul O’Regan Hall\, 5440 Spring Garden Road\, Halifax\, NS\, Canada
CATEGORIES:Special Events
ATTACH;FMTTYPE=image/jpeg:/wp-content/uploads/2017/05/Mr.-Gaga.jpg
GEO:44.6431436;-63.5757037
X-APPLE-STRUCTURED-LOCATION;VALUE=URI;X-ADDRESS=Halifax Central Library Paul O’Regan Hall 5440 Spring Garden Road Halifax NS Canada;X-APPLE-RADIUS=500;X-TITLE=5440 Spring Garden Road:geo:-63.5757037,44.6431436
END:VEVENT
BEGIN:VEVENT
DTSTART;TZID=America/Halifax:20170525T173000
DTEND;TZID=America/Halifax:20170525T190000
DTSTAMP:20260425T074948
CREATED:20170518T193051Z
LAST-MODIFIED:20170519T112240Z
UID:2869-1495733400-1495738800@theshaar.ca
SUMMARY:Seder Yom Yerushalayim: 50 Years since 1967
DESCRIPTION:Join us at the Hillel House for a light dinner\, personal stories\, and a multi-media celebration of Jerusalem. With Craig Fox\, Naomi Rosenfeld\, and Rabbi Weiss.\nRSVP at info@theajc.ns.ca
URL:https://theshaar.ca/event/seder-yom-yerushalayim-50-years-since-1967/
LOCATION:Hillel House\, 1881 Walnut Street\, Halifax\, NS\, Canada
CATEGORIES:Special Events
ATTACH;FMTTYPE=image/jpeg:/wp-content/uploads/2017/05/jerusalem.jpg
GEO:44.6441697;-63.5949603
X-APPLE-STRUCTURED-LOCATION;VALUE=URI;X-ADDRESS=Hillel House 1881 Walnut Street Halifax NS Canada;X-APPLE-RADIUS=500;X-TITLE=1881 Walnut Street:geo:-63.5949603,44.6441697
END:VEVENT
BEGIN:VEVENT
DTSTART;TZID=America/Halifax:20170514T190000
DTEND;TZID=America/Halifax:20170514T203000
DTSTAMP:20260425T074948
CREATED:20170504T113443Z
LAST-MODIFIED:20170504T113443Z
UID:2785-1494788400-1494793800@theshaar.ca
SUMMARY:In Conversation with Jeanne Beker
DESCRIPTION:Sunday\, May 14th\, 2017 | 7:00 pm | Kenneth C. Rowe Hall | Canadian Museum of Immigration at Pier 21 \n \nJoin us for a FREE evening with Canadian fashion icon Jeanne Beker. Reflect on the heart-wrenching events of the Holocaust as she reads from her parents’ memoir\, Joy Runs Deeper\, and discusses how her parents’ story of survival and the legacy of their experiences have shaped who she is today. Following the reading\, take part in a Q&A session with Jeanne Beker and book signing. \n  \nPresented in partnership with the Azrieli Foundation and the Atlantic Jewish Council. \nReserve your spot now at Pier21.ca: \nhttps://www.eventbrite.ca/e/in-conversation-with-jeanne-beker-une-conversation-avec-jeanne-beker-tickets-33960853828
URL:https://theshaar.ca/event/conversation-jeanne-beker/
LOCATION:Kenneth C. Rowe Hall\, Canadian Museum of Immigration Pier 21\, 1055 Marginal Road\, Halifax\, NS\, B3H 4P7\, Canada
CATEGORIES:Special Events
GEO:44.6382368;-63.565032
X-APPLE-STRUCTURED-LOCATION;VALUE=URI;X-ADDRESS=Kenneth C. Rowe Hall Canadian Museum of Immigration Pier 21 1055 Marginal Road Halifax NS B3H 4P7 Canada;X-APPLE-RADIUS=500;X-TITLE=1055 Marginal Road:geo:-63.565032,44.6382368
END:VEVENT
BEGIN:VEVENT
DTSTART;TZID=America/Halifax:20170430T133000
DTEND;TZID=America/Halifax:20170430T153000
DTSTAMP:20260425T074948
CREATED:20170409T214829Z
LAST-MODIFIED:20170504T114128Z
UID:2685-1493559000-1493566200@theshaar.ca
SUMMARY:Yom Ha'atzmut 5777 - Israel's Independence Day
DESCRIPTION:Admission includes a full-length concert\, snacks\, treats\, games\, & more!
URL:https://theshaar.ca/event/yom-haatzmut-5777-israels-independence-day/
LOCATION:St. Mary’s Boat Club\, 1641 Fairfield Rod\, Halifax\, NS\, Canada
CATEGORIES:Special Events
ATTACH;FMTTYPE=image/jpeg:/wp-content/uploads/2017/04/Yom-Haatzmaut-2017.jpg
GEO:44.6376155;-63.6045155
X-APPLE-STRUCTURED-LOCATION;VALUE=URI;X-ADDRESS=St. Mary’s Boat Club 1641 Fairfield Rod Halifax NS Canada;X-APPLE-RADIUS=500;X-TITLE=1641 Fairfield Rod:geo:-63.6045155,44.6376155
END:VEVENT
BEGIN:VEVENT
DTSTART;TZID=America/Halifax:20170424T183000
DTEND;TZID=America/Halifax:20170424T203000
DTSTAMP:20260425T074948
CREATED:20170409T214315Z
LAST-MODIFIED:20170409T215054Z
UID:2682-1493058600-1493065800@theshaar.ca
SUMMARY:Yom Hashoah 2017 – Excerpts from KAMP: The Musical
DESCRIPTION:The Atlantic Jewish Council presents: [EXCERPTS] from Bradley & Williams’ new musical KAMP. Kamp is the inspiring story of a group of homosexual prisoners in a Nazi concentration camp who create a satirical musical review to find light in the darkness.
URL:https://theshaar.ca/event/yom-hashoah-2017-excerpts-kamp-musical/
LOCATION:Halifax Central Library\, Paul O’Regan Hall\, 5440 Spring Garden Road\, Halifax\, NS\, Canada
CATEGORIES:Special Events
ATTACH;FMTTYPE=image/jpeg:/wp-content/uploads/2017/04/Holocaust-Memorial-Day-24April2017.jpg
GEO:44.6431436;-63.5757037
X-APPLE-STRUCTURED-LOCATION;VALUE=URI;X-ADDRESS=Halifax Central Library Paul O’Regan Hall 5440 Spring Garden Road Halifax NS Canada;X-APPLE-RADIUS=500;X-TITLE=5440 Spring Garden Road:geo:-63.5757037,44.6431436
END:VEVENT
BEGIN:VEVENT
DTSTART;TZID=America/Halifax:20170424T120000
DTEND;TZID=America/Halifax:20170424T140000
DTSTAMP:20260425T074948
CREATED:20170420T011620Z
LAST-MODIFIED:20170420T011620Z
UID:2728-1493035200-1493042400@theshaar.ca
SUMMARY:Unto Every Person There Is A Name
DESCRIPTION:Unto Every Person There Is A Name: On Monday\, April 24th between noon and 2:00 pm in the plaza of the Halifax Central Library on Spring Garden Road\, we in Halifax will join with Jewish communities throughout the world in the public recitation of names of Jewish victims of the Holocaust. This reading aloud of the names of Jewish victims who were murdered by the Nazi regime has become a cherished ritual in our community.  \nTo reserve a 10-minute time slot\, please contact the AJC by phone 902-422-7491 x226 or email with your full name and phone number to elevine@theajc.ns.ca. 
URL:https://theshaar.ca/event/unto-every-person-name/
LOCATION:Halifax Central Library\, Front Plaza\, 5440 Spring Garden Road\, Halifax\, NS\, B3J 1E9\, Canada
CATEGORIES:Special Events
GEO:44.6427874;-63.575221
X-APPLE-STRUCTURED-LOCATION;VALUE=URI;X-ADDRESS=Halifax Central Library Front Plaza 5440 Spring Garden Road Halifax NS B3J 1E9 Canada;X-APPLE-RADIUS=500;X-TITLE=5440 Spring Garden Road:geo:-63.575221,44.6427874
END:VEVENT
BEGIN:VEVENT
DTSTART;TZID=America/Halifax:20170126T183000
DTEND;TZID=America/Halifax:20170126T203000
DTSTAMP:20260425T074948
CREATED:20170111T190231Z
LAST-MODIFIED:20170111T190231Z
UID:2013-1485455400-1485462600@theshaar.ca
SUMMARY:International Holocaust Remembrance Day - Remembering Elie Wiesel and Yaffa Eliach
DESCRIPTION: 
URL:https://theshaar.ca/event/international-holocaust-remembrance-day-remembering-elie-wiesel-yaffa-eliach/
LOCATION:Halifax Central Library\, Paul O’Regan Hall\, 5440 Spring Garden Road\, Halifax\, NS\, Canada
CATEGORIES:Special Events
GEO:44.6431436;-63.5757037
X-APPLE-STRUCTURED-LOCATION;VALUE=URI;X-ADDRESS=Halifax Central Library Paul O’Regan Hall 5440 Spring Garden Road Halifax NS Canada;X-APPLE-RADIUS=500;X-TITLE=5440 Spring Garden Road:geo:-63.5757037,44.6431436
END:VEVENT
BEGIN:VEVENT
DTSTART;TZID=America/Halifax:20170124T193000
DTEND;TZID=America/Halifax:20170124T213000
DTSTAMP:20260425T074948
CREATED:20170105T190449Z
LAST-MODIFIED:20170105T190653Z
UID:1834-1485286200-1485293400@theshaar.ca
SUMMARY:CIJA Grassroots Consultation – Atlantic Region
DESCRIPTION:We’re excited to announce our next round of community consultations coming to the Atlantic Region on January 24th at 7:30 PM (8:00 PM in Newfoundland).\nFrom confronting BDS and strengthening ties with Israel\, to enhancing Jewish community security and empowering social services agencies\, everything we accomplish is because of you. Be part of our work. Make your voice heard. Participate in a grassroots community consultation this January. \nWhen: January 24th at 7:30 PM (8:00 PM in Newfoundland) \nWhere: Hillel House\,1881 Walnut Street \, Halifax\, NS \nFor members of the AJC who are not in Halifax\, you will be able to be part of the conversation by webinar. Log-in details will be provided after registration. (You will require a computer monitor and microphone to participate.) \nSpace is limited. Please register to secure your spot at CIJA’s Grassroots Consultation in the Atlantic Region.
URL:https://theshaar.ca/event/cija-grassroots-consultation-atlantic-region/
LOCATION:Hillel House\, 1881 Walnut Street\, Halifax\, NS\, Canada
CATEGORIES:Special Events
GEO:44.6441697;-63.5949603
X-APPLE-STRUCTURED-LOCATION;VALUE=URI;X-ADDRESS=Hillel House 1881 Walnut Street Halifax NS Canada;X-APPLE-RADIUS=500;X-TITLE=1881 Walnut Street:geo:-63.5949603,44.6441697
END:VEVENT
BEGIN:VEVENT
DTSTART;TZID=America/Halifax:20170117T190000
DTEND;TZID=America/Halifax:20170117T210000
DTSTAMP:20260425T074948
CREATED:20170105T185355Z
LAST-MODIFIED:20170105T185355Z
UID:1829-1484679600-1484686800@theshaar.ca
SUMMARY:On the Author’s Stage: Allison Lawlor featuring The Saddest Ship Afloat
DESCRIPTION:Allison Lawlor presents her new book The Saddest Ship Afloat: The Tragedy of the MS St. Louis. Be transported back in time to a tragic event in Canadian immigration history where more than six hundred Jews aboard the MS St. Louis attempted to escape Nazi rule. In partnership with Nimbus Publishing. 
URL:https://theshaar.ca/event/on-the-authors-stage-allison-lawlor-featuring-the-saddest-ship-afloat/
LOCATION:Keshen Goodman Public Library\, 330 Lacewood Dr\, Halifax\, NS\, Canada
CATEGORIES:Special Events
GEO:44.6587034;-63.6667753
X-APPLE-STRUCTURED-LOCATION;VALUE=URI;X-ADDRESS=Keshen Goodman Public Library 330 Lacewood Dr Halifax NS Canada;X-APPLE-RADIUS=500;X-TITLE=330 Lacewood Dr:geo:-63.6667753,44.6587034
END:VEVENT
END:VCALENDAR