BEGIN:VCALENDAR
VERSION:2.0
PRODID:-//Shaar Shalom Synagogue - ECPv6.15.20//NONSGML v1.0//EN
CALSCALE:GREGORIAN
METHOD:PUBLISH
X-WR-CALNAME:Shaar Shalom Synagogue
X-ORIGINAL-URL:https://theshaar.ca
X-WR-CALDESC:Events for Shaar Shalom Synagogue
REFRESH-INTERVAL;VALUE=DURATION:PT1H
X-Robots-Tag:noindex
X-PUBLISHED-TTL:PT1H
BEGIN:VTIMEZONE
TZID:America/Halifax
BEGIN:DAYLIGHT
TZOFFSETFROM:-0400
TZOFFSETTO:-0300
TZNAME:ADT
DTSTART:20240310T060000
END:DAYLIGHT
BEGIN:STANDARD
TZOFFSETFROM:-0300
TZOFFSETTO:-0400
TZNAME:AST
DTSTART:20241103T050000
END:STANDARD
BEGIN:DAYLIGHT
TZOFFSETFROM:-0400
TZOFFSETTO:-0300
TZNAME:ADT
DTSTART:20250309T060000
END:DAYLIGHT
BEGIN:STANDARD
TZOFFSETFROM:-0300
TZOFFSETTO:-0400
TZNAME:AST
DTSTART:20251102T050000
END:STANDARD
BEGIN:DAYLIGHT
TZOFFSETFROM:-0400
TZOFFSETTO:-0300
TZNAME:ADT
DTSTART:20260308T060000
END:DAYLIGHT
BEGIN:STANDARD
TZOFFSETFROM:-0300
TZOFFSETTO:-0400
TZNAME:AST
DTSTART:20261101T050000
END:STANDARD
END:VTIMEZONE
BEGIN:VEVENT
DTSTART;TZID=America/Halifax:20251024T183000
DTEND;TZID=America/Halifax:20251024T193000
DTSTAMP:20260424T091532
CREATED:20240625T163533Z
LAST-MODIFIED:20240625T164203Z
UID:12220-1761330600-1761334200@theshaar.ca
SUMMARY:Kabbalat Shabbat - Welcoming Shabbat Services
DESCRIPTION:Please join us in person for services on Friday evenings and Saturday mornings. \nAll services – Shabbat evenings and mornings – can also be accessed over StreamSpot by clicking here. \nThe StreamSpot platform allows you to log-on before Shabbat/the festival begins\, and keep the stream running untouched for the duration of Shabbat.
URL:https://theshaar.ca/event/kabbalat-shabbat-welcoming-shabbat-services-8/2025-10-24/
LOCATION:Shaar Shalom Synagogue
CATEGORIES:Services
END:VEVENT
BEGIN:VEVENT
DTSTART;TZID=America/Halifax:20251025T091500
DTEND;TZID=America/Halifax:20251025T113000
DTSTAMP:20260424T091532
CREATED:20200730T203714Z
LAST-MODIFIED:20260204T114327Z
UID:11781-1761383700-1761391800@theshaar.ca
SUMMARY:Shabbat Morning Services
DESCRIPTION:All services – Shabbat evenings and mornings – can also be accessed over StreamSpot by clicking here. \nThe StreamSpot platform allows you to log-on before Shabbat/the festival begins\, and keep the stream running untouched for the duration of Shabbat.
URL:https://theshaar.ca/event/shabbat-morning-services-3/2025-10-25/
LOCATION:The Shaar\, 1981 Oxford St\, Halifax\, NS\, B3H 4A4\, Canada
CATEGORIES:Services
GEO:44.6442349;-63.599906
X-APPLE-STRUCTURED-LOCATION;VALUE=URI;X-ADDRESS=The Shaar 1981 Oxford St Halifax NS B3H 4A4 Canada;X-APPLE-RADIUS=500;X-TITLE=1981 Oxford St:geo:-63.599906,44.6442349
END:VEVENT
BEGIN:VEVENT
DTSTART;TZID=America/Halifax:20251026T100000
DTEND;TZID=America/Halifax:20251026T113000
DTSTAMP:20260424T091532
CREATED:20251016T155339Z
LAST-MODIFIED:20251016T155339Z
UID:12588-1761472800-1761478200@theshaar.ca
SUMMARY:Book Club
DESCRIPTION:BOOK CLUB MEETING \nOur next meeting will be Sunday\, October 26 at 10:00am in the comfort of your own home via Zoom! \nWe will be discussing Etgar Keret’s: The Seven Good Years \nJOIN ZOOM MEETING \nhttps://us06web.zoom.us/j/89485492663?pwd=qq31g17CRVOKEDwldS8saPOokHzdwd.1  \nMeeting ID: 894 8549 2663 \nPassword: 1955 \n  \nSYNOPSIS \nA brilliant\, life-affirming\, and hilarious memoir from a “genius” (The New York Times) and master storyteller. With illustrations by Jason Polan. \nThe seven years between the birth of Etgar Keret’s son and the death of his father were good years\, though still full of reasons to worry. Lev is born in the midst of a terrorist attack. Etgar’s father gets cancer. The threat of constant war looms over their home and permeates daily life. \nWhat emerges from this dark reality is a series of sublimely absurd ruminations on everything from Etgar’s three-year-old son’s impending military service to the terrorist mind-set behind Angry Birds. There’s Lev’s insistence that he is a cat\, releasing him from any human responsibilities or rules. Etgar’s siblings\, all very different people who have chosen radically divergent paths in life\, come together after his father’s shivah to experience the grief and love that tie a family together forever. This wise\, witty memoir—Etgar’s first nonfiction book published in America\, and told in his inimitable style—is full of wonder and life and love\, poignant insights\, and irrepressible humor. \n  \nABOUT THE AUTHOR \n Born in Ramat Gan in 1967\, Etgar Keret is a leading voice in Israeli literature and film. His books have been pub­lished in over four dozen lan­guages and his writing has appeared in The New York Times\, Le Monde\, and The New Yorker\, among others. His awards include the Cannes Film Festival’s Caméra d’Or (2007)\, the Charles Bronfman Prize (2016)\, and the pres­tigious Sapir Prize (2018). Over a hundred short films and several feature films have been based on his stories. Keret teaches creative writing at Ben-Gurion University of the Negev. Since 2021\, he has been publishing the weekly newsletter Alphabet Soup on Substack.
URL:https://theshaar.ca/event/book-club-33/
LOCATION:The Shaar\, 1981 Oxford St\, Halifax\, NS\, B3H 4A4\, Canada
ATTACH;FMTTYPE=image/jpeg:/wp-content/uploads/2025/10/The-Seven-Good-Years-002.jpeg
GEO:44.6442349;-63.599906
X-APPLE-STRUCTURED-LOCATION;VALUE=URI;X-ADDRESS=The Shaar 1981 Oxford St Halifax NS B3H 4A4 Canada;X-APPLE-RADIUS=500;X-TITLE=1981 Oxford St:geo:-63.599906,44.6442349
END:VEVENT
END:VCALENDAR