BEGIN:VCALENDAR
VERSION:2.0
PRODID:-//Shaar Shalom Synagogue - ECPv6.15.20//NONSGML v1.0//EN
CALSCALE:GREGORIAN
METHOD:PUBLISH
X-ORIGINAL-URL:https://theshaar.ca
X-WR-CALDESC:Events for Shaar Shalom Synagogue
REFRESH-INTERVAL;VALUE=DURATION:PT1H
X-Robots-Tag:noindex
X-PUBLISHED-TTL:PT1H
BEGIN:VTIMEZONE
TZID:America/Halifax
BEGIN:DAYLIGHT
TZOFFSETFROM:-0400
TZOFFSETTO:-0300
TZNAME:ADT
DTSTART:20240310T060000
END:DAYLIGHT
BEGIN:STANDARD
TZOFFSETFROM:-0300
TZOFFSETTO:-0400
TZNAME:AST
DTSTART:20241103T050000
END:STANDARD
BEGIN:DAYLIGHT
TZOFFSETFROM:-0400
TZOFFSETTO:-0300
TZNAME:ADT
DTSTART:20250309T060000
END:DAYLIGHT
BEGIN:STANDARD
TZOFFSETFROM:-0300
TZOFFSETTO:-0400
TZNAME:AST
DTSTART:20251102T050000
END:STANDARD
BEGIN:DAYLIGHT
TZOFFSETFROM:-0400
TZOFFSETTO:-0300
TZNAME:ADT
DTSTART:20260308T060000
END:DAYLIGHT
BEGIN:STANDARD
TZOFFSETFROM:-0300
TZOFFSETTO:-0400
TZNAME:AST
DTSTART:20261101T050000
END:STANDARD
END:VTIMEZONE
BEGIN:VEVENT
DTSTART;TZID=America/Halifax:20250404T183000
DTEND;TZID=America/Halifax:20250404T193000
DTSTAMP:20260425T074805
CREATED:20240625T163533Z
LAST-MODIFIED:20240625T164140Z
UID:12173-1743791400-1743795000@theshaar.ca
SUMMARY:Kabbalat Shabbat - Welcoming Shabbat Services
DESCRIPTION:Please join us in person for services on Friday evenings and Saturday mornings. \nAll services – Shabbat evenings and mornings – can also be accessed over StreamSpot by clicking here. \nThe StreamSpot platform allows you to log-on before Shabbat/the festival begins\, and keep the stream running untouched for the duration of Shabbat.
URL:https://theshaar.ca/event/kabbalat-shabbat-welcoming-shabbat-services-8/2025-04-04/
LOCATION:Shaar Shalom Synagogue
CATEGORIES:Services
END:VEVENT
BEGIN:VEVENT
DTSTART;TZID=America/Halifax:20250405T091500
DTEND;TZID=America/Halifax:20250405T113000
DTSTAMP:20260425T074805
CREATED:20200730T203714Z
LAST-MODIFIED:20260203T180557Z
UID:10621-1743844500-1743852600@theshaar.ca
SUMMARY:Shabbat Morning Services
DESCRIPTION:All services – Shabbat evenings and mornings – can also be accessed over StreamSpot by clicking here. \nThe StreamSpot platform allows you to log-on before Shabbat/the festival begins\, and keep the stream running untouched for the duration of Shabbat.
URL:https://theshaar.ca/event/shabbat-morning-services-3/2025-04-05/
LOCATION:The Shaar\, 1981 Oxford St\, Halifax\, NS\, B3H 4A4\, Canada
CATEGORIES:Services
GEO:44.6442349;-63.599906
X-APPLE-STRUCTURED-LOCATION;VALUE=URI;X-ADDRESS=The Shaar 1981 Oxford St Halifax NS B3H 4A4 Canada;X-APPLE-RADIUS=500;X-TITLE=1981 Oxford St:geo:-63.599906,44.6442349
END:VEVENT
BEGIN:VEVENT
DTSTART;TZID=America/Halifax:20250411T183000
DTEND;TZID=America/Halifax:20250411T193000
DTSTAMP:20260425T074805
CREATED:20240625T163533Z
LAST-MODIFIED:20240625T164141Z
UID:12174-1744396200-1744399800@theshaar.ca
SUMMARY:Kabbalat Shabbat - Welcoming Shabbat Services
DESCRIPTION:Please join us in person for services on Friday evenings and Saturday mornings. \nAll services – Shabbat evenings and mornings – can also be accessed over StreamSpot by clicking here. \nThe StreamSpot platform allows you to log-on before Shabbat/the festival begins\, and keep the stream running untouched for the duration of Shabbat.
URL:https://theshaar.ca/event/kabbalat-shabbat-welcoming-shabbat-services-8/2025-04-11/
LOCATION:Shaar Shalom Synagogue
CATEGORIES:Services
END:VEVENT
BEGIN:VEVENT
DTSTART;TZID=America/Halifax:20250412T091500
DTEND;TZID=America/Halifax:20250412T113000
DTSTAMP:20260425T074805
CREATED:20200730T203714Z
LAST-MODIFIED:20260203T180558Z
UID:10622-1744449300-1744457400@theshaar.ca
SUMMARY:Shabbat Morning Services
DESCRIPTION:All services – Shabbat evenings and mornings – can also be accessed over StreamSpot by clicking here. \nThe StreamSpot platform allows you to log-on before Shabbat/the festival begins\, and keep the stream running untouched for the duration of Shabbat.
URL:https://theshaar.ca/event/shabbat-morning-services-3/2025-04-12/
LOCATION:The Shaar\, 1981 Oxford St\, Halifax\, NS\, B3H 4A4\, Canada
CATEGORIES:Services
GEO:44.6442349;-63.599906
X-APPLE-STRUCTURED-LOCATION;VALUE=URI;X-ADDRESS=The Shaar 1981 Oxford St Halifax NS B3H 4A4 Canada;X-APPLE-RADIUS=500;X-TITLE=1981 Oxford St:geo:-63.599906,44.6442349
END:VEVENT
BEGIN:VEVENT
DTSTART;TZID=America/Halifax:20250413T091500
DTEND;TZID=America/Halifax:20250413T120000
DTSTAMP:20260425T074805
CREATED:20250410T204418Z
LAST-MODIFIED:20250410T204418Z
UID:12446-1744535700-1744545600@theshaar.ca
SUMMARY:Festival morning services
DESCRIPTION:
URL:https://theshaar.ca/event/festival-morning-services-3/
LOCATION:The Shaar\, 1981 Oxford St\, Halifax\, NS\, B3H 4A4\, Canada
GEO:44.6442349;-63.599906
X-APPLE-STRUCTURED-LOCATION;VALUE=URI;X-ADDRESS=The Shaar 1981 Oxford St Halifax NS B3H 4A4 Canada;X-APPLE-RADIUS=500;X-TITLE=1981 Oxford St:geo:-63.599906,44.6442349
END:VEVENT
BEGIN:VEVENT
DTSTART;TZID=America/Halifax:20250414T091500
DTEND;TZID=America/Halifax:20250414T120000
DTSTAMP:20260425T074805
CREATED:20250410T204517Z
LAST-MODIFIED:20250410T204517Z
UID:12448-1744622100-1744632000@theshaar.ca
SUMMARY:Festival morning services
DESCRIPTION:
URL:https://theshaar.ca/event/festival-morning-services-4/
LOCATION:The Shaar\, 1981 Oxford St\, Halifax\, NS\, B3H 4A4\, Canada
GEO:44.6442349;-63.599906
X-APPLE-STRUCTURED-LOCATION;VALUE=URI;X-ADDRESS=The Shaar 1981 Oxford St Halifax NS B3H 4A4 Canada;X-APPLE-RADIUS=500;X-TITLE=1981 Oxford St:geo:-63.599906,44.6442349
END:VEVENT
BEGIN:VEVENT
DTSTART;TZID=America/Halifax:20250418T183000
DTEND;TZID=America/Halifax:20250418T193000
DTSTAMP:20260425T074805
CREATED:20240625T163533Z
LAST-MODIFIED:20240625T164141Z
UID:12175-1745001000-1745004600@theshaar.ca
SUMMARY:Kabbalat Shabbat - Welcoming Shabbat Services
DESCRIPTION:Please join us in person for services on Friday evenings and Saturday mornings. \nAll services – Shabbat evenings and mornings – can also be accessed over StreamSpot by clicking here. \nThe StreamSpot platform allows you to log-on before Shabbat/the festival begins\, and keep the stream running untouched for the duration of Shabbat.
URL:https://theshaar.ca/event/kabbalat-shabbat-welcoming-shabbat-services-8/2025-04-18/
LOCATION:Shaar Shalom Synagogue
CATEGORIES:Services
END:VEVENT
BEGIN:VEVENT
DTSTART;TZID=America/Halifax:20250419T091500
DTEND;TZID=America/Halifax:20250419T113000
DTSTAMP:20260425T074805
CREATED:20200730T203714Z
LAST-MODIFIED:20260203T180558Z
UID:10627-1745054100-1745062200@theshaar.ca
SUMMARY:Shabbat Morning Services
DESCRIPTION:All services – Shabbat evenings and mornings – can also be accessed over StreamSpot by clicking here. \nThe StreamSpot platform allows you to log-on before Shabbat/the festival begins\, and keep the stream running untouched for the duration of Shabbat.
URL:https://theshaar.ca/event/shabbat-morning-services-3/2025-04-19/
LOCATION:The Shaar\, 1981 Oxford St\, Halifax\, NS\, B3H 4A4\, Canada
CATEGORIES:Services
GEO:44.6442349;-63.599906
X-APPLE-STRUCTURED-LOCATION;VALUE=URI;X-ADDRESS=The Shaar 1981 Oxford St Halifax NS B3H 4A4 Canada;X-APPLE-RADIUS=500;X-TITLE=1981 Oxford St:geo:-63.599906,44.6442349
END:VEVENT
BEGIN:VEVENT
DTSTART;TZID=America/Halifax:20250420T091500
DTEND;TZID=America/Halifax:20250420T120000
DTSTAMP:20260425T074805
CREATED:20250410T204631Z
LAST-MODIFIED:20250410T204631Z
UID:12450-1745140500-1745150400@theshaar.ca
SUMMARY:Festival morning services (Yizkor)
DESCRIPTION:
URL:https://theshaar.ca/event/festival-morning-services-yizkor/
LOCATION:The Shaar\, 1981 Oxford St\, Halifax\, NS\, B3H 4A4\, Canada
GEO:44.6442349;-63.599906
X-APPLE-STRUCTURED-LOCATION;VALUE=URI;X-ADDRESS=The Shaar 1981 Oxford St Halifax NS B3H 4A4 Canada;X-APPLE-RADIUS=500;X-TITLE=1981 Oxford St:geo:-63.599906,44.6442349
END:VEVENT
BEGIN:VEVENT
DTSTART;TZID=America/Halifax:20250425T183000
DTEND;TZID=America/Halifax:20250425T193000
DTSTAMP:20260425T074805
CREATED:20240625T163533Z
LAST-MODIFIED:20240625T164141Z
UID:12176-1745605800-1745609400@theshaar.ca
SUMMARY:Kabbalat Shabbat - Welcoming Shabbat Services
DESCRIPTION:Please join us in person for services on Friday evenings and Saturday mornings. \nAll services – Shabbat evenings and mornings – can also be accessed over StreamSpot by clicking here. \nThe StreamSpot platform allows you to log-on before Shabbat/the festival begins\, and keep the stream running untouched for the duration of Shabbat.
URL:https://theshaar.ca/event/kabbalat-shabbat-welcoming-shabbat-services-8/2025-04-25/
LOCATION:Shaar Shalom Synagogue
CATEGORIES:Services
END:VEVENT
BEGIN:VEVENT
DTSTART;TZID=America/Halifax:20250426T091500
DTEND;TZID=America/Halifax:20250426T113000
DTSTAMP:20260425T074805
CREATED:20200730T203714Z
LAST-MODIFIED:20260203T180559Z
UID:10682-1745658900-1745667000@theshaar.ca
SUMMARY:Shabbat Morning Services
DESCRIPTION:All services – Shabbat evenings and mornings – can also be accessed over StreamSpot by clicking here. \nThe StreamSpot platform allows you to log-on before Shabbat/the festival begins\, and keep the stream running untouched for the duration of Shabbat.
URL:https://theshaar.ca/event/shabbat-morning-services-3/2025-04-26/
LOCATION:The Shaar\, 1981 Oxford St\, Halifax\, NS\, B3H 4A4\, Canada
CATEGORIES:Services
GEO:44.6442349;-63.599906
X-APPLE-STRUCTURED-LOCATION;VALUE=URI;X-ADDRESS=The Shaar 1981 Oxford St Halifax NS B3H 4A4 Canada;X-APPLE-RADIUS=500;X-TITLE=1981 Oxford St:geo:-63.599906,44.6442349
END:VEVENT
BEGIN:VEVENT
DTSTART;TZID=America/Halifax:20250427T100000
DTEND;TZID=America/Halifax:20250427T120000
DTSTAMP:20260425T074805
CREATED:20250417T171759Z
LAST-MODIFIED:20250417T171913Z
UID:12455-1745748000-1745755200@theshaar.ca
SUMMARY:BOOK CLUB MEETING
DESCRIPTION:BOOK CLUB MEETING \nOur next meeting will be Sunday\, April 27 at 10:00am in the comfort of your own home via Zoom! \nWe will be discussing Cynthia Weiner’s: A Gorgeous Excitement \nJOIN ZOOM MEETING \nhttps://us06web.zoom.us/j/85729234636?pwd=kk6uYmHtaf9tg3eV7ebKe1SIw5Xepp.1 \nMeeting ID: 857 2923 4636 \nPassword: 1955 \nSYNOPSIS \nOne young woman’s summer of infinite possibility takes a turn she never saw coming in “this 1980s coming-of-age tale [that’s] chillingly compelling. Get ready to be transported.”—People (Best Books of the Month) \nAN OPRAH DAILY BEST NEW THRILLER • A TOWN & COUNTRY AND CRIMEREADS MOST ANTICIPATED BOOK \n“I haven’t felt this kind of excitement reading a story set in the ’80s since I first discovered Jay McInerney\, Tama Janowitz\, and Bret Easton Ellis.”—Margarita Montimore\, bestselling author of Oona Out of Order \nThere are two things Nina Jacobs is determined to do over the summer of 1986: avoid her mother’s depression-fueled rages\, and lose her virginity before she starts college in the fall. Both are seemingly impossible—when her mother isn’t lying in bed for days\, she’s lashing out at Nina over any perceived slight. And after a blowjob gone spectacularly wrong\, Nina is the talk of Flanagan’s\, the Upper East Side bar where young Manhattan society congregates. It doesn’t help that she’s Jewish\, an outsider among the blue-eyed blondes who populate this rarified world. She can fit in\, kind of\, with enough alcohol and prescription drugs stolen from her parents’ medicine cabinet. \nFlanagan’s is where she pines for the handsome\, preppy\, and charismatic Gardner Reed. Every girl wants to sleep with him and every guy wants to be him. After she’s introduced to cocaine\, Nina plunges headlong into her pursuit of Gardner\, oblivious to the warning signs. When a new medication seemingly frees her mother from darkness\, and Nina and Gardner grow closer\, it seems like Nina might finally get what she wants. But at what cost? \nFreud called cocaine “a gorgeous excitement\,” but a gorgeous excitement for the wrong guy can be lethal. \n  \nABOUT THE AUTHOR \n  \nCynthia Weiner has had a long career writing and teaching fiction. Her short stories have been published in Ploughshares\, The Sun\, and Epiphany\, and her story\, “Boyfriends\,” was awarded a Pushcart Prize. She is also the assistant director of The Writers Studio in New York City. A Gorgeous Excitement\, her first novel\, was inspired by her upbringing on New York’s Upper East Side in the 1980s\, and particularly by the notorious “Preppy Murder” of 1986. Weiner now lives in New York’s Hudson Valley.
URL:https://theshaar.ca/event/book-club-meeting-32/
LOCATION:The Shaar\, 1981 Oxford St\, Halifax\, NS\, B3H 4A4\, Canada
ATTACH;FMTTYPE=image/jpeg:/wp-content/uploads/2025/04/A-Gor­geous-Excitement.jpeg
GEO:44.6442349;-63.599906
X-APPLE-STRUCTURED-LOCATION;VALUE=URI;X-ADDRESS=The Shaar 1981 Oxford St Halifax NS B3H 4A4 Canada;X-APPLE-RADIUS=500;X-TITLE=1981 Oxford St:geo:-63.599906,44.6442349
END:VEVENT
END:VCALENDAR