BEGIN:VCALENDAR
VERSION:2.0
PRODID:-//Shaar Shalom Synagogue - ECPv6.15.20//NONSGML v1.0//EN
CALSCALE:GREGORIAN
METHOD:PUBLISH
X-ORIGINAL-URL:https://theshaar.ca
X-WR-CALDESC:Events for Shaar Shalom Synagogue
REFRESH-INTERVAL;VALUE=DURATION:PT1H
X-Robots-Tag:noindex
X-PUBLISHED-TTL:PT1H
BEGIN:VTIMEZONE
TZID:America/Halifax
BEGIN:DAYLIGHT
TZOFFSETFROM:-0400
TZOFFSETTO:-0300
TZNAME:ADT
DTSTART:20240310T060000
END:DAYLIGHT
BEGIN:STANDARD
TZOFFSETFROM:-0300
TZOFFSETTO:-0400
TZNAME:AST
DTSTART:20241103T050000
END:STANDARD
BEGIN:DAYLIGHT
TZOFFSETFROM:-0400
TZOFFSETTO:-0300
TZNAME:ADT
DTSTART:20250309T060000
END:DAYLIGHT
BEGIN:STANDARD
TZOFFSETFROM:-0300
TZOFFSETTO:-0400
TZNAME:AST
DTSTART:20251102T050000
END:STANDARD
BEGIN:DAYLIGHT
TZOFFSETFROM:-0400
TZOFFSETTO:-0300
TZNAME:ADT
DTSTART:20260308T060000
END:DAYLIGHT
BEGIN:STANDARD
TZOFFSETFROM:-0300
TZOFFSETTO:-0400
TZNAME:AST
DTSTART:20261101T050000
END:STANDARD
END:VTIMEZONE
BEGIN:VEVENT
DTSTART;TZID=America/Halifax:20250301T091500
DTEND;TZID=America/Halifax:20250301T113000
DTSTAMP:20260425T093930
CREATED:20200730T203714Z
LAST-MODIFIED:20260203T180555Z
UID:10550-1740820500-1740828600@theshaar.ca
SUMMARY:Shabbat Morning Services
DESCRIPTION:All services – Shabbat evenings and mornings – can also be accessed over StreamSpot by clicking here. \nThe StreamSpot platform allows you to log-on before Shabbat/the festival begins\, and keep the stream running untouched for the duration of Shabbat.
URL:https://theshaar.ca/event/shabbat-morning-services-3/2025-03-01/
LOCATION:The Shaar\, 1981 Oxford St\, Halifax\, NS\, B3H 4A4\, Canada
CATEGORIES:Services
GEO:44.6442349;-63.599906
X-APPLE-STRUCTURED-LOCATION;VALUE=URI;X-ADDRESS=The Shaar 1981 Oxford St Halifax NS B3H 4A4 Canada;X-APPLE-RADIUS=500;X-TITLE=1981 Oxford St:geo:-63.599906,44.6442349
END:VEVENT
BEGIN:VEVENT
DTSTART;TZID=America/Halifax:20250307T173000
DTEND;TZID=America/Halifax:20250307T183000
DTSTAMP:20260425T093930
CREATED:20240625T163211Z
LAST-MODIFIED:20240625T163758Z
UID:12169-1741368600-1741372200@theshaar.ca
SUMMARY:Kabbalat Shabbat - Welcoming Shabbat Services
DESCRIPTION:Please join us in person for services on Friday evenings and Saturday mornings. \nAll services – Shabbat evenings and mornings – can also be accessed over StreamSpot by clicking here. \nThe StreamSpot platform allows you to log-on before Shabbat/the festival begins\, and keep the stream running untouched for the duration of Shabbat.
URL:https://theshaar.ca/event/kabbalat-shabbat-welcoming-shabbat-services-7/2025-03-07/
LOCATION:Shaar Shalom Synagogue
CATEGORIES:Services
END:VEVENT
BEGIN:VEVENT
DTSTART;TZID=America/Halifax:20250308T091500
DTEND;TZID=America/Halifax:20250308T113000
DTSTAMP:20260425T093930
CREATED:20200730T203714Z
LAST-MODIFIED:20260203T180556Z
UID:10551-1741425300-1741433400@theshaar.ca
SUMMARY:Shabbat Morning Services
DESCRIPTION:All services – Shabbat evenings and mornings – can also be accessed over StreamSpot by clicking here. \nThe StreamSpot platform allows you to log-on before Shabbat/the festival begins\, and keep the stream running untouched for the duration of Shabbat.
URL:https://theshaar.ca/event/shabbat-morning-services-3/2025-03-08/
LOCATION:The Shaar\, 1981 Oxford St\, Halifax\, NS\, B3H 4A4\, Canada
CATEGORIES:Services
GEO:44.6442349;-63.599906
X-APPLE-STRUCTURED-LOCATION;VALUE=URI;X-ADDRESS=The Shaar 1981 Oxford St Halifax NS B3H 4A4 Canada;X-APPLE-RADIUS=500;X-TITLE=1981 Oxford St:geo:-63.599906,44.6442349
END:VEVENT
BEGIN:VEVENT
DTSTART;TZID=America/Halifax:20250314T183000
DTEND;TZID=America/Halifax:20250314T193000
DTSTAMP:20260425T093930
CREATED:20240625T163533Z
LAST-MODIFIED:20240625T164139Z
UID:12170-1741977000-1741980600@theshaar.ca
SUMMARY:Kabbalat Shabbat - Welcoming Shabbat Services
DESCRIPTION:Please join us in person for services on Friday evenings and Saturday mornings. \nAll services – Shabbat evenings and mornings – can also be accessed over StreamSpot by clicking here. \nThe StreamSpot platform allows you to log-on before Shabbat/the festival begins\, and keep the stream running untouched for the duration of Shabbat.
URL:https://theshaar.ca/event/kabbalat-shabbat-welcoming-shabbat-services-8/2025-03-14/
LOCATION:Shaar Shalom Synagogue
CATEGORIES:Services
END:VEVENT
BEGIN:VEVENT
DTSTART;TZID=America/Halifax:20250315T091500
DTEND;TZID=America/Halifax:20250315T113000
DTSTAMP:20260425T093930
CREATED:20200730T203714Z
LAST-MODIFIED:20260203T180556Z
UID:10592-1742030100-1742038200@theshaar.ca
SUMMARY:Shabbat Morning Services
DESCRIPTION:All services – Shabbat evenings and mornings – can also be accessed over StreamSpot by clicking here. \nThe StreamSpot platform allows you to log-on before Shabbat/the festival begins\, and keep the stream running untouched for the duration of Shabbat.
URL:https://theshaar.ca/event/shabbat-morning-services-3/2025-03-15/
LOCATION:The Shaar\, 1981 Oxford St\, Halifax\, NS\, B3H 4A4\, Canada
CATEGORIES:Services
GEO:44.6442349;-63.599906
X-APPLE-STRUCTURED-LOCATION;VALUE=URI;X-ADDRESS=The Shaar 1981 Oxford St Halifax NS B3H 4A4 Canada;X-APPLE-RADIUS=500;X-TITLE=1981 Oxford St:geo:-63.599906,44.6442349
END:VEVENT
BEGIN:VEVENT
DTSTART;TZID=America/Halifax:20250321T183000
DTEND;TZID=America/Halifax:20250321T193000
DTSTAMP:20260425T093930
CREATED:20240625T163533Z
LAST-MODIFIED:20240625T164139Z
UID:12171-1742581800-1742585400@theshaar.ca
SUMMARY:Kabbalat Shabbat - Welcoming Shabbat Services
DESCRIPTION:Please join us in person for services on Friday evenings and Saturday mornings. \nAll services – Shabbat evenings and mornings – can also be accessed over StreamSpot by clicking here. \nThe StreamSpot platform allows you to log-on before Shabbat/the festival begins\, and keep the stream running untouched for the duration of Shabbat.
URL:https://theshaar.ca/event/kabbalat-shabbat-welcoming-shabbat-services-8/2025-03-21/
LOCATION:Shaar Shalom Synagogue
CATEGORIES:Services
END:VEVENT
BEGIN:VEVENT
DTSTART;TZID=America/Halifax:20250322T091500
DTEND;TZID=America/Halifax:20250322T113000
DTSTAMP:20260425T093930
CREATED:20200730T203714Z
LAST-MODIFIED:20260203T180556Z
UID:10598-1742634900-1742643000@theshaar.ca
SUMMARY:Shabbat Morning Services
DESCRIPTION:All services – Shabbat evenings and mornings – can also be accessed over StreamSpot by clicking here. \nThe StreamSpot platform allows you to log-on before Shabbat/the festival begins\, and keep the stream running untouched for the duration of Shabbat.
URL:https://theshaar.ca/event/shabbat-morning-services-3/2025-03-22/
LOCATION:The Shaar\, 1981 Oxford St\, Halifax\, NS\, B3H 4A4\, Canada
CATEGORIES:Services
GEO:44.6442349;-63.599906
X-APPLE-STRUCTURED-LOCATION;VALUE=URI;X-ADDRESS=The Shaar 1981 Oxford St Halifax NS B3H 4A4 Canada;X-APPLE-RADIUS=500;X-TITLE=1981 Oxford St:geo:-63.599906,44.6442349
END:VEVENT
BEGIN:VEVENT
DTSTART;TZID=America/Halifax:20250328T183000
DTEND;TZID=America/Halifax:20250328T193000
DTSTAMP:20260425T093930
CREATED:20240625T163533Z
LAST-MODIFIED:20240625T164140Z
UID:12172-1743186600-1743190200@theshaar.ca
SUMMARY:Kabbalat Shabbat - Welcoming Shabbat Services
DESCRIPTION:Please join us in person for services on Friday evenings and Saturday mornings. \nAll services – Shabbat evenings and mornings – can also be accessed over StreamSpot by clicking here. \nThe StreamSpot platform allows you to log-on before Shabbat/the festival begins\, and keep the stream running untouched for the duration of Shabbat.
URL:https://theshaar.ca/event/kabbalat-shabbat-welcoming-shabbat-services-8/2025-03-28/
LOCATION:Shaar Shalom Synagogue
CATEGORIES:Services
END:VEVENT
BEGIN:VEVENT
DTSTART;TZID=America/Halifax:20250329T091500
DTEND;TZID=America/Halifax:20250329T113000
DTSTAMP:20260425T093930
CREATED:20200730T203714Z
LAST-MODIFIED:20260203T180557Z
UID:10609-1743239700-1743247800@theshaar.ca
SUMMARY:Shabbat Morning Services
DESCRIPTION:All services – Shabbat evenings and mornings – can also be accessed over StreamSpot by clicking here. \nThe StreamSpot platform allows you to log-on before Shabbat/the festival begins\, and keep the stream running untouched for the duration of Shabbat.
URL:https://theshaar.ca/event/shabbat-morning-services-3/2025-03-29/
LOCATION:The Shaar\, 1981 Oxford St\, Halifax\, NS\, B3H 4A4\, Canada
CATEGORIES:Services
GEO:44.6442349;-63.599906
X-APPLE-STRUCTURED-LOCATION;VALUE=URI;X-ADDRESS=The Shaar 1981 Oxford St Halifax NS B3H 4A4 Canada;X-APPLE-RADIUS=500;X-TITLE=1981 Oxford St:geo:-63.599906,44.6442349
END:VEVENT
BEGIN:VEVENT
DTSTART;TZID=America/Halifax:20250330T100000
DTEND;TZID=America/Halifax:20250330T120000
DTSTAMP:20260425T093930
CREATED:20250327T144354Z
LAST-MODIFIED:20250327T144354Z
UID:12440-1743328800-1743336000@theshaar.ca
SUMMARY:BOOK CLUB MEETING
DESCRIPTION:Our next meeting will be Sunday\, March 30 at 10:00am in the comfort of your own home via Zoom! \nWe will be discussing Lynda Cohen Loigman’s: The Love Elixir of Augusta Stern \n  \nJOIN ZOOM MEETING \nhttps://us06web.zoom.us/j/81008407758?pwd=YhPbca4UD6AVuHA8yZBUnpaa5iLWKi.1 \nMeeting ID: 810 0840 7758 \nPassword: 1955 \nSYNOPSIS \nOn the cusp of turning eighty\, newly retired pharmacist Augusta Stern is adrift. When she relocates to Rallentando Springs—an active senior community in southern Florida—she unexpectedly crosses paths with Irving Rivkin\, the delivery boy from her father’s old pharmacy—and the man who broke her heart sixty years earlier. \nAs a teenager growing up in 1920’s Brooklyn\, Augusta’s role model was her father\, Solomon Stern\, the trusted owner of the local pharmacy and the neighborhood expert on every ailment. But when Augusta’s mother dies and Great Aunt Esther moves in\, Augusta can’t help but be drawn to Esther’s curious methods. As a healer herself\, Esther offers Solomon’s customers her own advice—unconventional remedies ranging from homemade chicken soup to a mysterious array of powders and potions. \nAs Augusta prepares for pharmacy college\, she is torn between loyalty to her father and fascination with her great aunt\, all while navigating a budding but complicated relationship with Irving. Desperate for clarity\, she impulsively uses Esther’s most potent elixir with disastrous consequences. Disillusioned and alone\, Augusta vows to reject Esther’s enchantments forever. \nSixty years later\, confronted with Irving\, Augusta is still haunted by the mistakes of her past. What happened all those years ago and how did her plan go so spectacularly wrong? Did Irving ever truly love her or was he simply playing a part? And can Augusta reclaim the magic of her youth before it’s too late? \nABOUT THE AUTHOR \n Lynda Cohen Loigman is the author of The Matchmaker’s Gift\, The Wartime Sisters\, The Two-Family House\, and The Love Elixir of Augusta Stern. She received a B.A. in English and American Literature from Harvard College and a J.D. from Columbia Law School. She grew up in Longmeadow\, MA\, and now lives in New York.
URL:https://theshaar.ca/event/book-club-meeting-31/
LOCATION:The Shaar\, 1981 Oxford St\, Halifax\, NS\, B3H 4A4\, Canada
ATTACH;FMTTYPE=image/jpeg:/wp-content/uploads/2025/03/The-Love-Elixier-of-Augusta-Stern-002-scaled.jpg
GEO:44.6442349;-63.599906
X-APPLE-STRUCTURED-LOCATION;VALUE=URI;X-ADDRESS=The Shaar 1981 Oxford St Halifax NS B3H 4A4 Canada;X-APPLE-RADIUS=500;X-TITLE=1981 Oxford St:geo:-63.599906,44.6442349
END:VEVENT
END:VCALENDAR