BEGIN:VCALENDAR
VERSION:2.0
PRODID:-//Shaar Shalom Synagogue - ECPv6.15.20//NONSGML v1.0//EN
CALSCALE:GREGORIAN
METHOD:PUBLISH
X-WR-CALNAME:Shaar Shalom Synagogue
X-ORIGINAL-URL:https://theshaar.ca
X-WR-CALDESC:Events for Shaar Shalom Synagogue
REFRESH-INTERVAL;VALUE=DURATION:PT1H
X-Robots-Tag:noindex
X-PUBLISHED-TTL:PT1H
BEGIN:VTIMEZONE
TZID:America/Halifax
BEGIN:DAYLIGHT
TZOFFSETFROM:-0400
TZOFFSETTO:-0300
TZNAME:ADT
DTSTART:20240310T060000
END:DAYLIGHT
BEGIN:STANDARD
TZOFFSETFROM:-0300
TZOFFSETTO:-0400
TZNAME:AST
DTSTART:20241103T050000
END:STANDARD
BEGIN:DAYLIGHT
TZOFFSETFROM:-0400
TZOFFSETTO:-0300
TZNAME:ADT
DTSTART:20250309T060000
END:DAYLIGHT
BEGIN:STANDARD
TZOFFSETFROM:-0300
TZOFFSETTO:-0400
TZNAME:AST
DTSTART:20251102T050000
END:STANDARD
BEGIN:DAYLIGHT
TZOFFSETFROM:-0400
TZOFFSETTO:-0300
TZNAME:ADT
DTSTART:20260308T060000
END:DAYLIGHT
BEGIN:STANDARD
TZOFFSETFROM:-0300
TZOFFSETTO:-0400
TZNAME:AST
DTSTART:20261101T050000
END:STANDARD
END:VTIMEZONE
BEGIN:VEVENT
DTSTART;TZID=America/Halifax:20250201T091500
DTEND;TZID=America/Halifax:20250201T113000
DTSTAMP:20260425T110124
CREATED:20200730T203714Z
LAST-MODIFIED:20260203T180319Z
UID:10533-1738401300-1738409400@theshaar.ca
SUMMARY:Shabbat Morning Services
DESCRIPTION:All services – Shabbat evenings and mornings – can also be accessed over StreamSpot by clicking here. \nThe StreamSpot platform allows you to log-on before Shabbat/the festival begins\, and keep the stream running untouched for the duration of Shabbat.
URL:https://theshaar.ca/event/shabbat-morning-services-3/2025-02-01/
LOCATION:The Shaar\, 1981 Oxford St\, Halifax\, NS\, B3H 4A4\, Canada
CATEGORIES:Services
GEO:44.6442349;-63.599906
X-APPLE-STRUCTURED-LOCATION;VALUE=URI;X-ADDRESS=The Shaar 1981 Oxford St Halifax NS B3H 4A4 Canada;X-APPLE-RADIUS=500;X-TITLE=1981 Oxford St:geo:-63.599906,44.6442349
END:VEVENT
BEGIN:VEVENT
DTSTART;TZID=America/Halifax:20250207T173000
DTEND;TZID=America/Halifax:20250207T183000
DTSTAMP:20260425T110124
CREATED:20240625T163211Z
LAST-MODIFIED:20240625T163756Z
UID:12165-1738949400-1738953000@theshaar.ca
SUMMARY:Kabbalat Shabbat - Welcoming Shabbat Services
DESCRIPTION:Please join us in person for services on Friday evenings and Saturday mornings. \nAll services – Shabbat evenings and mornings – can also be accessed over StreamSpot by clicking here. \nThe StreamSpot platform allows you to log-on before Shabbat/the festival begins\, and keep the stream running untouched for the duration of Shabbat.
URL:https://theshaar.ca/event/kabbalat-shabbat-welcoming-shabbat-services-7/2025-02-07/
LOCATION:Shaar Shalom Synagogue
CATEGORIES:Services
END:VEVENT
BEGIN:VEVENT
DTSTART;TZID=America/Halifax:20250208T091500
DTEND;TZID=America/Halifax:20250208T113000
DTSTAMP:20260425T110124
CREATED:20200730T203714Z
LAST-MODIFIED:20260203T180320Z
UID:10534-1739006100-1739014200@theshaar.ca
SUMMARY:Shabbat Morning Services
DESCRIPTION:All services – Shabbat evenings and mornings – can also be accessed over StreamSpot by clicking here. \nThe StreamSpot platform allows you to log-on before Shabbat/the festival begins\, and keep the stream running untouched for the duration of Shabbat.
URL:https://theshaar.ca/event/shabbat-morning-services-3/2025-02-08/
LOCATION:The Shaar\, 1981 Oxford St\, Halifax\, NS\, B3H 4A4\, Canada
CATEGORIES:Services
GEO:44.6442349;-63.599906
X-APPLE-STRUCTURED-LOCATION;VALUE=URI;X-ADDRESS=The Shaar 1981 Oxford St Halifax NS B3H 4A4 Canada;X-APPLE-RADIUS=500;X-TITLE=1981 Oxford St:geo:-63.599906,44.6442349
END:VEVENT
BEGIN:VEVENT
DTSTART;TZID=America/Halifax:20250214T173000
DTEND;TZID=America/Halifax:20250214T183000
DTSTAMP:20260425T110124
CREATED:20240625T163211Z
LAST-MODIFIED:20240625T163757Z
UID:12166-1739554200-1739557800@theshaar.ca
SUMMARY:Kabbalat Shabbat - Welcoming Shabbat Services
DESCRIPTION:Please join us in person for services on Friday evenings and Saturday mornings. \nAll services – Shabbat evenings and mornings – can also be accessed over StreamSpot by clicking here. \nThe StreamSpot platform allows you to log-on before Shabbat/the festival begins\, and keep the stream running untouched for the duration of Shabbat.
URL:https://theshaar.ca/event/kabbalat-shabbat-welcoming-shabbat-services-7/2025-02-14/
LOCATION:Shaar Shalom Synagogue
CATEGORIES:Services
END:VEVENT
BEGIN:VEVENT
DTSTART;TZID=America/Halifax:20250215T091500
DTEND;TZID=America/Halifax:20250215T113000
DTSTAMP:20260425T110124
CREATED:20200730T203714Z
LAST-MODIFIED:20260203T180320Z
UID:10536-1739610900-1739619000@theshaar.ca
SUMMARY:Shabbat Morning Services
DESCRIPTION:All services – Shabbat evenings and mornings – can also be accessed over StreamSpot by clicking here. \nThe StreamSpot platform allows you to log-on before Shabbat/the festival begins\, and keep the stream running untouched for the duration of Shabbat.
URL:https://theshaar.ca/event/shabbat-morning-services-3/2025-02-15/
LOCATION:The Shaar\, 1981 Oxford St\, Halifax\, NS\, B3H 4A4\, Canada
CATEGORIES:Services
GEO:44.6442349;-63.599906
X-APPLE-STRUCTURED-LOCATION;VALUE=URI;X-ADDRESS=The Shaar 1981 Oxford St Halifax NS B3H 4A4 Canada;X-APPLE-RADIUS=500;X-TITLE=1981 Oxford St:geo:-63.599906,44.6442349
END:VEVENT
BEGIN:VEVENT
DTSTART;TZID=America/Halifax:20250221T173000
DTEND;TZID=America/Halifax:20250221T183000
DTSTAMP:20260425T110124
CREATED:20240625T163211Z
LAST-MODIFIED:20240625T163757Z
UID:12167-1740159000-1740162600@theshaar.ca
SUMMARY:Kabbalat Shabbat - Welcoming Shabbat Services
DESCRIPTION:Please join us in person for services on Friday evenings and Saturday mornings. \nAll services – Shabbat evenings and mornings – can also be accessed over StreamSpot by clicking here. \nThe StreamSpot platform allows you to log-on before Shabbat/the festival begins\, and keep the stream running untouched for the duration of Shabbat.
URL:https://theshaar.ca/event/kabbalat-shabbat-welcoming-shabbat-services-7/2025-02-21/
LOCATION:Shaar Shalom Synagogue
CATEGORIES:Services
END:VEVENT
BEGIN:VEVENT
DTSTART;TZID=America/Halifax:20250222T091500
DTEND;TZID=America/Halifax:20250222T113000
DTSTAMP:20260425T110124
CREATED:20200730T203714Z
LAST-MODIFIED:20260203T180554Z
UID:10537-1740215700-1740223800@theshaar.ca
SUMMARY:Shabbat Morning Services
DESCRIPTION:All services – Shabbat evenings and mornings – can also be accessed over StreamSpot by clicking here. \nThe StreamSpot platform allows you to log-on before Shabbat/the festival begins\, and keep the stream running untouched for the duration of Shabbat.
URL:https://theshaar.ca/event/shabbat-morning-services-3/2025-02-22/
LOCATION:The Shaar\, 1981 Oxford St\, Halifax\, NS\, B3H 4A4\, Canada
CATEGORIES:Services
GEO:44.6442349;-63.599906
X-APPLE-STRUCTURED-LOCATION;VALUE=URI;X-ADDRESS=The Shaar 1981 Oxford St Halifax NS B3H 4A4 Canada;X-APPLE-RADIUS=500;X-TITLE=1981 Oxford St:geo:-63.599906,44.6442349
END:VEVENT
BEGIN:VEVENT
DTSTART;TZID=America/Halifax:20250223T100000
DTEND;TZID=America/Halifax:20250223T120000
DTSTAMP:20260425T110124
CREATED:20250219T181321Z
LAST-MODIFIED:20250219T181321Z
UID:12429-1740304800-1740312000@theshaar.ca
SUMMARY:Book Club
DESCRIPTION:BOOK CLUB MEETING \nOur next meeting will be Sunday\, February 23 at 10:00am in the comfort of your own home via Zoom! \nWe will be discussing Jami Attenberg’s: A Reason to See You Again \nJOIN ZOOM MEETING \nhttps://us06web.zoom.us/j/84079214900?pwd=Ja911OPPgIszNXQfyAYMTy6kVaCICr.1 \nMeeting ID: 840 7921 4900 \nPassword: 1955 \nSYNOPSIS \nFrom the New York Times bestselling author Jami Attenberg comes a dazzling novel of family\, following a troubled mother and her two daughters over forty years through a swiftly changing American landscape as they seek lives they can fully claim as their own.  \nThe women of the Cohen family are in crisis. After the death of their patriarch\, Rudy\, the glue that held them all together\, everyone’s lives soon take a dramatic turn. \nShelly\, the younger of the two Cohen sisters\, runs off to the West Coast to immerse herself in the emerging (and lucrative) world of technology. Her sister\, Nancy\, gets married at the age of twenty-one to a traveling salesman with a shadowy lifestyle\, while their mother\, Frieda\, hurls herself into a boozy\, troubled existence in Miami\, trying to forget the past even as it haunts her. \nBut each woman must learn in her own way that running from the past can’t save you—and they must make life-altering decisions about what they want their family to be and what they need for themselves to move forward. \nBeginning in the 1970s and spanning forty years\, A Reason to See You Again takes the reader on a kaleidoscopic journey through motherhood\, the American workforce\, the tech industry\, the self-help movement\, inherited trauma\, the ever-evolving ways we communicate with one another\, and the many unexpected forms that love can take. \nABOUT THE AUTHOR \n Jami Attenberg is a New York Times bestselling author of seven books of fiction\, including The Middlesteins and All Grown Up; a memoir\, I Came All This Way to Meet You; and\, most recently\, 1000 Words: A Writer’s Guide to Staying Creative\, Focused\, and Productive All Year Round. She is the founder of the annual #1000WordsofSummer project\, and maintains the popular Craft Talk newsletter year-round. Her work has been published in sixteen languages. She lives in New Orleans. \n  \n 
URL:https://theshaar.ca/event/book-club-31/
LOCATION:The Shaar\, 1981 Oxford St\, Halifax\, NS\, B3H 4A4\, Canada
ATTACH;FMTTYPE=image/jpeg:/wp-content/uploads/2025/02/A-Reason-to-See-You-Again-002.jpg
GEO:44.6442349;-63.599906
X-APPLE-STRUCTURED-LOCATION;VALUE=URI;X-ADDRESS=The Shaar 1981 Oxford St Halifax NS B3H 4A4 Canada;X-APPLE-RADIUS=500;X-TITLE=1981 Oxford St:geo:-63.599906,44.6442349
END:VEVENT
BEGIN:VEVENT
DTSTART;TZID=America/Halifax:20250228T173000
DTEND;TZID=America/Halifax:20250228T183000
DTSTAMP:20260425T110124
CREATED:20240625T163211Z
LAST-MODIFIED:20240625T163758Z
UID:12168-1740763800-1740767400@theshaar.ca
SUMMARY:Kabbalat Shabbat - Welcoming Shabbat Services
DESCRIPTION:Please join us in person for services on Friday evenings and Saturday mornings. \nAll services – Shabbat evenings and mornings – can also be accessed over StreamSpot by clicking here. \nThe StreamSpot platform allows you to log-on before Shabbat/the festival begins\, and keep the stream running untouched for the duration of Shabbat.
URL:https://theshaar.ca/event/kabbalat-shabbat-welcoming-shabbat-services-7/2025-02-28/
LOCATION:Shaar Shalom Synagogue
CATEGORIES:Services
END:VEVENT
END:VCALENDAR