BEGIN:VCALENDAR
VERSION:2.0
PRODID:-//Shaar Shalom Synagogue - ECPv6.15.20//NONSGML v1.0//EN
CALSCALE:GREGORIAN
METHOD:PUBLISH
X-ORIGINAL-URL:https://theshaar.ca
X-WR-CALDESC:Events for Shaar Shalom Synagogue
REFRESH-INTERVAL;VALUE=DURATION:PT1H
X-Robots-Tag:noindex
X-PUBLISHED-TTL:PT1H
BEGIN:VTIMEZONE
TZID:America/Halifax
BEGIN:DAYLIGHT
TZOFFSETFROM:-0400
TZOFFSETTO:-0300
TZNAME:ADT
DTSTART:20250309T060000
END:DAYLIGHT
BEGIN:STANDARD
TZOFFSETFROM:-0300
TZOFFSETTO:-0400
TZNAME:AST
DTSTART:20251102T050000
END:STANDARD
BEGIN:DAYLIGHT
TZOFFSETFROM:-0400
TZOFFSETTO:-0300
TZNAME:ADT
DTSTART:20260308T060000
END:DAYLIGHT
BEGIN:STANDARD
TZOFFSETFROM:-0300
TZOFFSETTO:-0400
TZNAME:AST
DTSTART:20261101T050000
END:STANDARD
BEGIN:DAYLIGHT
TZOFFSETFROM:-0400
TZOFFSETTO:-0300
TZNAME:ADT
DTSTART:20270314T060000
END:DAYLIGHT
BEGIN:STANDARD
TZOFFSETFROM:-0300
TZOFFSETTO:-0400
TZNAME:AST
DTSTART:20271107T050000
END:STANDARD
BEGIN:DAYLIGHT
TZOFFSETFROM:-0400
TZOFFSETTO:-0300
TZNAME:ADT
DTSTART:20280312T060000
END:DAYLIGHT
BEGIN:STANDARD
TZOFFSETFROM:-0300
TZOFFSETTO:-0400
TZNAME:AST
DTSTART:20281105T050000
END:STANDARD
END:VTIMEZONE
BEGIN:VEVENT
DTSTART;TZID=America/Halifax:20260905T091500
DTEND;TZID=America/Halifax:20260905T113000
DTSTAMP:20260421T173405
CREATED:20200730T203714Z
LAST-MODIFIED:20260204T114558Z
UID:12298-1788599700-1788607800@theshaar.ca
SUMMARY:Shabbat Morning Services
DESCRIPTION:All services – Shabbat evenings and mornings – can also be accessed over StreamSpot by clicking here. \nThe StreamSpot platform allows you to log-on before Shabbat/the festival begins\, and keep the stream running untouched for the duration of Shabbat.
URL:https://theshaar.ca/event/shabbat-morning-services-3/2026-09-05/
LOCATION:The Shaar\, 1981 Oxford St\, Halifax\, NS\, B3H 4A4\, Canada
CATEGORIES:Services
GEO:44.6442349;-63.599906
X-APPLE-STRUCTURED-LOCATION;VALUE=URI;X-ADDRESS=The Shaar 1981 Oxford St Halifax NS B3H 4A4 Canada;X-APPLE-RADIUS=500;X-TITLE=1981 Oxford St:geo:-63.599906,44.6442349
END:VEVENT
BEGIN:VEVENT
DTSTART;TZID=America/Halifax:20260911T180000
DTEND;TZID=America/Halifax:20260911T190000
DTSTAMP:20260421T173405
CREATED:20260304T234734Z
LAST-MODIFIED:20260304T234734Z
UID:12904-1789149600-1789153200@theshaar.ca
SUMMARY:Kabbalat Shabbat - Welcoming Shabbat Services
DESCRIPTION:Please join us in person for services on Friday evenings and Saturday mornings. \nAll services – Shabbat evenings and mornings – can also be accessed over StreamSpot by clicking here. \nThe StreamSpot platform allows you to log-on before Shabbat/the festival begins\, and keep the stream running untouched for the duration of Shabbat.
URL:https://theshaar.ca/event/kabbalat-shabbat-welcoming-shabbat-services-10/2026-09-11/
LOCATION:The Shaar\, 1981 Oxford St\, Halifax\, NS\, B3H 4A4\, Canada
CATEGORIES:Services
GEO:44.6442349;-63.599906
X-APPLE-STRUCTURED-LOCATION;VALUE=URI;X-ADDRESS=The Shaar 1981 Oxford St Halifax NS B3H 4A4 Canada;X-APPLE-RADIUS=500;X-TITLE=1981 Oxford St:geo:-63.599906,44.6442349
END:VEVENT
BEGIN:VEVENT
DTSTART;TZID=America/Halifax:20260912T091500
DTEND;TZID=America/Halifax:20260912T113000
DTSTAMP:20260421T173405
CREATED:20200730T203714Z
LAST-MODIFIED:20260204T114559Z
UID:12299-1789204500-1789212600@theshaar.ca
SUMMARY:Shabbat Morning Services
DESCRIPTION:All services – Shabbat evenings and mornings – can also be accessed over StreamSpot by clicking here. \nThe StreamSpot platform allows you to log-on before Shabbat/the festival begins\, and keep the stream running untouched for the duration of Shabbat.
URL:https://theshaar.ca/event/shabbat-morning-services-3/2026-09-12/
LOCATION:The Shaar\, 1981 Oxford St\, Halifax\, NS\, B3H 4A4\, Canada
CATEGORIES:Services
GEO:44.6442349;-63.599906
X-APPLE-STRUCTURED-LOCATION;VALUE=URI;X-ADDRESS=The Shaar 1981 Oxford St Halifax NS B3H 4A4 Canada;X-APPLE-RADIUS=500;X-TITLE=1981 Oxford St:geo:-63.599906,44.6442349
END:VEVENT
BEGIN:VEVENT
DTSTART;TZID=America/Halifax:20260918T180000
DTEND;TZID=America/Halifax:20260918T190000
DTSTAMP:20260421T173405
CREATED:20260304T234734Z
LAST-MODIFIED:20260304T234734Z
UID:12905-1789754400-1789758000@theshaar.ca
SUMMARY:Kabbalat Shabbat - Welcoming Shabbat Services
DESCRIPTION:Please join us in person for services on Friday evenings and Saturday mornings. \nAll services – Shabbat evenings and mornings – can also be accessed over StreamSpot by clicking here. \nThe StreamSpot platform allows you to log-on before Shabbat/the festival begins\, and keep the stream running untouched for the duration of Shabbat.
URL:https://theshaar.ca/event/kabbalat-shabbat-welcoming-shabbat-services-10/2026-09-18/
LOCATION:The Shaar\, 1981 Oxford St\, Halifax\, NS\, B3H 4A4\, Canada
CATEGORIES:Services
GEO:44.6442349;-63.599906
X-APPLE-STRUCTURED-LOCATION;VALUE=URI;X-ADDRESS=The Shaar 1981 Oxford St Halifax NS B3H 4A4 Canada;X-APPLE-RADIUS=500;X-TITLE=1981 Oxford St:geo:-63.599906,44.6442349
END:VEVENT
BEGIN:VEVENT
DTSTART;TZID=America/Halifax:20260919T091500
DTEND;TZID=America/Halifax:20260919T113000
DTSTAMP:20260421T173405
CREATED:20200730T203714Z
LAST-MODIFIED:20260204T114600Z
UID:12310-1789809300-1789817400@theshaar.ca
SUMMARY:Shabbat Morning Services
DESCRIPTION:All services – Shabbat evenings and mornings – can also be accessed over StreamSpot by clicking here. \nThe StreamSpot platform allows you to log-on before Shabbat/the festival begins\, and keep the stream running untouched for the duration of Shabbat.
URL:https://theshaar.ca/event/shabbat-morning-services-3/2026-09-19/
LOCATION:The Shaar\, 1981 Oxford St\, Halifax\, NS\, B3H 4A4\, Canada
CATEGORIES:Services
GEO:44.6442349;-63.599906
X-APPLE-STRUCTURED-LOCATION;VALUE=URI;X-ADDRESS=The Shaar 1981 Oxford St Halifax NS B3H 4A4 Canada;X-APPLE-RADIUS=500;X-TITLE=1981 Oxford St:geo:-63.599906,44.6442349
END:VEVENT
BEGIN:VEVENT
DTSTART;TZID=America/Halifax:20260925T180000
DTEND;TZID=America/Halifax:20260925T190000
DTSTAMP:20260421T173405
CREATED:20260304T234734Z
LAST-MODIFIED:20260304T234734Z
UID:12906-1790359200-1790362800@theshaar.ca
SUMMARY:Kabbalat Shabbat - Welcoming Shabbat Services
DESCRIPTION:Please join us in person for services on Friday evenings and Saturday mornings. \nAll services – Shabbat evenings and mornings – can also be accessed over StreamSpot by clicking here. \nThe StreamSpot platform allows you to log-on before Shabbat/the festival begins\, and keep the stream running untouched for the duration of Shabbat.
URL:https://theshaar.ca/event/kabbalat-shabbat-welcoming-shabbat-services-10/2026-09-25/
LOCATION:The Shaar\, 1981 Oxford St\, Halifax\, NS\, B3H 4A4\, Canada
CATEGORIES:Services
GEO:44.6442349;-63.599906
X-APPLE-STRUCTURED-LOCATION;VALUE=URI;X-ADDRESS=The Shaar 1981 Oxford St Halifax NS B3H 4A4 Canada;X-APPLE-RADIUS=500;X-TITLE=1981 Oxford St:geo:-63.599906,44.6442349
END:VEVENT
BEGIN:VEVENT
DTSTART;TZID=America/Halifax:20260926T091500
DTEND;TZID=America/Halifax:20260926T113000
DTSTAMP:20260421T173405
CREATED:20200730T203714Z
LAST-MODIFIED:20260204T114600Z
UID:12381-1790414100-1790422200@theshaar.ca
SUMMARY:Shabbat Morning Services
DESCRIPTION:All services – Shabbat evenings and mornings – can also be accessed over StreamSpot by clicking here. \nThe StreamSpot platform allows you to log-on before Shabbat/the festival begins\, and keep the stream running untouched for the duration of Shabbat.
URL:https://theshaar.ca/event/shabbat-morning-services-3/2026-09-26/
LOCATION:The Shaar\, 1981 Oxford St\, Halifax\, NS\, B3H 4A4\, Canada
CATEGORIES:Services
GEO:44.6442349;-63.599906
X-APPLE-STRUCTURED-LOCATION;VALUE=URI;X-ADDRESS=The Shaar 1981 Oxford St Halifax NS B3H 4A4 Canada;X-APPLE-RADIUS=500;X-TITLE=1981 Oxford St:geo:-63.599906,44.6442349
END:VEVENT
BEGIN:VEVENT
DTSTART;TZID=America/Halifax:20261002T180000
DTEND;TZID=America/Halifax:20261002T190000
DTSTAMP:20260421T173405
CREATED:20260304T234734Z
LAST-MODIFIED:20260304T234734Z
UID:12907-1790964000-1790967600@theshaar.ca
SUMMARY:Kabbalat Shabbat - Welcoming Shabbat Services
DESCRIPTION:Please join us in person for services on Friday evenings and Saturday mornings. \nAll services – Shabbat evenings and mornings – can also be accessed over StreamSpot by clicking here. \nThe StreamSpot platform allows you to log-on before Shabbat/the festival begins\, and keep the stream running untouched for the duration of Shabbat.
URL:https://theshaar.ca/event/kabbalat-shabbat-welcoming-shabbat-services-10/2026-10-02/
LOCATION:The Shaar\, 1981 Oxford St\, Halifax\, NS\, B3H 4A4\, Canada
CATEGORIES:Services
GEO:44.6442349;-63.599906
X-APPLE-STRUCTURED-LOCATION;VALUE=URI;X-ADDRESS=The Shaar 1981 Oxford St Halifax NS B3H 4A4 Canada;X-APPLE-RADIUS=500;X-TITLE=1981 Oxford St:geo:-63.599906,44.6442349
END:VEVENT
BEGIN:VEVENT
DTSTART;TZID=America/Halifax:20261003T091500
DTEND;TZID=America/Halifax:20261003T113000
DTSTAMP:20260421T173405
CREATED:20200730T203714Z
LAST-MODIFIED:20260204T114601Z
UID:12382-1791018900-1791027000@theshaar.ca
SUMMARY:Shabbat Morning Services
DESCRIPTION:All services – Shabbat evenings and mornings – can also be accessed over StreamSpot by clicking here. \nThe StreamSpot platform allows you to log-on before Shabbat/the festival begins\, and keep the stream running untouched for the duration of Shabbat.
URL:https://theshaar.ca/event/shabbat-morning-services-3/2026-10-03/
LOCATION:The Shaar\, 1981 Oxford St\, Halifax\, NS\, B3H 4A4\, Canada
CATEGORIES:Services
GEO:44.6442349;-63.599906
X-APPLE-STRUCTURED-LOCATION;VALUE=URI;X-ADDRESS=The Shaar 1981 Oxford St Halifax NS B3H 4A4 Canada;X-APPLE-RADIUS=500;X-TITLE=1981 Oxford St:geo:-63.599906,44.6442349
END:VEVENT
BEGIN:VEVENT
DTSTART;TZID=America/Halifax:20261009T180000
DTEND;TZID=America/Halifax:20261009T190000
DTSTAMP:20260421T173405
CREATED:20260304T234734Z
LAST-MODIFIED:20260304T234734Z
UID:12908-1791568800-1791572400@theshaar.ca
SUMMARY:Kabbalat Shabbat - Welcoming Shabbat Services
DESCRIPTION:Please join us in person for services on Friday evenings and Saturday mornings. \nAll services – Shabbat evenings and mornings – can also be accessed over StreamSpot by clicking here. \nThe StreamSpot platform allows you to log-on before Shabbat/the festival begins\, and keep the stream running untouched for the duration of Shabbat.
URL:https://theshaar.ca/event/kabbalat-shabbat-welcoming-shabbat-services-10/2026-10-09/
LOCATION:The Shaar\, 1981 Oxford St\, Halifax\, NS\, B3H 4A4\, Canada
CATEGORIES:Services
GEO:44.6442349;-63.599906
X-APPLE-STRUCTURED-LOCATION;VALUE=URI;X-ADDRESS=The Shaar 1981 Oxford St Halifax NS B3H 4A4 Canada;X-APPLE-RADIUS=500;X-TITLE=1981 Oxford St:geo:-63.599906,44.6442349
END:VEVENT
BEGIN:VEVENT
DTSTART;TZID=America/Halifax:20261010T091500
DTEND;TZID=America/Halifax:20261010T113000
DTSTAMP:20260421T173405
CREATED:20200730T203714Z
LAST-MODIFIED:20260204T114601Z
UID:12383-1791623700-1791631800@theshaar.ca
SUMMARY:Shabbat Morning Services
DESCRIPTION:All services – Shabbat evenings and mornings – can also be accessed over StreamSpot by clicking here. \nThe StreamSpot platform allows you to log-on before Shabbat/the festival begins\, and keep the stream running untouched for the duration of Shabbat.
URL:https://theshaar.ca/event/shabbat-morning-services-3/2026-10-10/
LOCATION:The Shaar\, 1981 Oxford St\, Halifax\, NS\, B3H 4A4\, Canada
CATEGORIES:Services
GEO:44.6442349;-63.599906
X-APPLE-STRUCTURED-LOCATION;VALUE=URI;X-ADDRESS=The Shaar 1981 Oxford St Halifax NS B3H 4A4 Canada;X-APPLE-RADIUS=500;X-TITLE=1981 Oxford St:geo:-63.599906,44.6442349
END:VEVENT
BEGIN:VEVENT
DTSTART;TZID=America/Halifax:20261016T180000
DTEND;TZID=America/Halifax:20261016T190000
DTSTAMP:20260421T173405
CREATED:20260304T234734Z
LAST-MODIFIED:20260304T234734Z
UID:12909-1792173600-1792177200@theshaar.ca
SUMMARY:Kabbalat Shabbat - Welcoming Shabbat Services
DESCRIPTION:Please join us in person for services on Friday evenings and Saturday mornings. \nAll services – Shabbat evenings and mornings – can also be accessed over StreamSpot by clicking here. \nThe StreamSpot platform allows you to log-on before Shabbat/the festival begins\, and keep the stream running untouched for the duration of Shabbat.
URL:https://theshaar.ca/event/kabbalat-shabbat-welcoming-shabbat-services-10/2026-10-16/
LOCATION:The Shaar\, 1981 Oxford St\, Halifax\, NS\, B3H 4A4\, Canada
CATEGORIES:Services
GEO:44.6442349;-63.599906
X-APPLE-STRUCTURED-LOCATION;VALUE=URI;X-ADDRESS=The Shaar 1981 Oxford St Halifax NS B3H 4A4 Canada;X-APPLE-RADIUS=500;X-TITLE=1981 Oxford St:geo:-63.599906,44.6442349
END:VEVENT
BEGIN:VEVENT
DTSTART;TZID=America/Halifax:20261017T091500
DTEND;TZID=America/Halifax:20261017T113000
DTSTAMP:20260421T173405
CREATED:20200730T203714Z
LAST-MODIFIED:20260204T114601Z
UID:12384-1792228500-1792236600@theshaar.ca
SUMMARY:Shabbat Morning Services
DESCRIPTION:All services – Shabbat evenings and mornings – can also be accessed over StreamSpot by clicking here. \nThe StreamSpot platform allows you to log-on before Shabbat/the festival begins\, and keep the stream running untouched for the duration of Shabbat.
URL:https://theshaar.ca/event/shabbat-morning-services-3/2026-10-17/
LOCATION:The Shaar\, 1981 Oxford St\, Halifax\, NS\, B3H 4A4\, Canada
CATEGORIES:Services
GEO:44.6442349;-63.599906
X-APPLE-STRUCTURED-LOCATION;VALUE=URI;X-ADDRESS=The Shaar 1981 Oxford St Halifax NS B3H 4A4 Canada;X-APPLE-RADIUS=500;X-TITLE=1981 Oxford St:geo:-63.599906,44.6442349
END:VEVENT
BEGIN:VEVENT
DTSTART;TZID=America/Halifax:20261023T180000
DTEND;TZID=America/Halifax:20261023T190000
DTSTAMP:20260421T173405
CREATED:20260304T234734Z
LAST-MODIFIED:20260304T234734Z
UID:12910-1792778400-1792782000@theshaar.ca
SUMMARY:Kabbalat Shabbat - Welcoming Shabbat Services
DESCRIPTION:Please join us in person for services on Friday evenings and Saturday mornings. \nAll services – Shabbat evenings and mornings – can also be accessed over StreamSpot by clicking here. \nThe StreamSpot platform allows you to log-on before Shabbat/the festival begins\, and keep the stream running untouched for the duration of Shabbat.
URL:https://theshaar.ca/event/kabbalat-shabbat-welcoming-shabbat-services-10/2026-10-23/
LOCATION:The Shaar\, 1981 Oxford St\, Halifax\, NS\, B3H 4A4\, Canada
CATEGORIES:Services
GEO:44.6442349;-63.599906
X-APPLE-STRUCTURED-LOCATION;VALUE=URI;X-ADDRESS=The Shaar 1981 Oxford St Halifax NS B3H 4A4 Canada;X-APPLE-RADIUS=500;X-TITLE=1981 Oxford St:geo:-63.599906,44.6442349
END:VEVENT
BEGIN:VEVENT
DTSTART;TZID=America/Halifax:20261024T091500
DTEND;TZID=America/Halifax:20261024T113000
DTSTAMP:20260421T173405
CREATED:20200730T203714Z
LAST-MODIFIED:20260204T114602Z
UID:12385-1792833300-1792841400@theshaar.ca
SUMMARY:Shabbat Morning Services
DESCRIPTION:All services – Shabbat evenings and mornings – can also be accessed over StreamSpot by clicking here. \nThe StreamSpot platform allows you to log-on before Shabbat/the festival begins\, and keep the stream running untouched for the duration of Shabbat.
URL:https://theshaar.ca/event/shabbat-morning-services-3/2026-10-24/
LOCATION:The Shaar\, 1981 Oxford St\, Halifax\, NS\, B3H 4A4\, Canada
CATEGORIES:Services
GEO:44.6442349;-63.599906
X-APPLE-STRUCTURED-LOCATION;VALUE=URI;X-ADDRESS=The Shaar 1981 Oxford St Halifax NS B3H 4A4 Canada;X-APPLE-RADIUS=500;X-TITLE=1981 Oxford St:geo:-63.599906,44.6442349
END:VEVENT
BEGIN:VEVENT
DTSTART;TZID=America/Halifax:20261030T180000
DTEND;TZID=America/Halifax:20261030T190000
DTSTAMP:20260421T173405
CREATED:20260304T234734Z
LAST-MODIFIED:20260304T234734Z
UID:12911-1793383200-1793386800@theshaar.ca
SUMMARY:Kabbalat Shabbat - Welcoming Shabbat Services
DESCRIPTION:Please join us in person for services on Friday evenings and Saturday mornings. \nAll services – Shabbat evenings and mornings – can also be accessed over StreamSpot by clicking here. \nThe StreamSpot platform allows you to log-on before Shabbat/the festival begins\, and keep the stream running untouched for the duration of Shabbat.
URL:https://theshaar.ca/event/kabbalat-shabbat-welcoming-shabbat-services-10/2026-10-30/
LOCATION:The Shaar\, 1981 Oxford St\, Halifax\, NS\, B3H 4A4\, Canada
CATEGORIES:Services
GEO:44.6442349;-63.599906
X-APPLE-STRUCTURED-LOCATION;VALUE=URI;X-ADDRESS=The Shaar 1981 Oxford St Halifax NS B3H 4A4 Canada;X-APPLE-RADIUS=500;X-TITLE=1981 Oxford St:geo:-63.599906,44.6442349
END:VEVENT
BEGIN:VEVENT
DTSTART;TZID=America/Halifax:20261031T091500
DTEND;TZID=America/Halifax:20261031T113000
DTSTAMP:20260421T173405
CREATED:20200730T203714Z
LAST-MODIFIED:20260204T114602Z
UID:12386-1793438100-1793446200@theshaar.ca
SUMMARY:Shabbat Morning Services
DESCRIPTION:All services – Shabbat evenings and mornings – can also be accessed over StreamSpot by clicking here. \nThe StreamSpot platform allows you to log-on before Shabbat/the festival begins\, and keep the stream running untouched for the duration of Shabbat.
URL:https://theshaar.ca/event/shabbat-morning-services-3/2026-10-31/
LOCATION:The Shaar\, 1981 Oxford St\, Halifax\, NS\, B3H 4A4\, Canada
CATEGORIES:Services
GEO:44.6442349;-63.599906
X-APPLE-STRUCTURED-LOCATION;VALUE=URI;X-ADDRESS=The Shaar 1981 Oxford St Halifax NS B3H 4A4 Canada;X-APPLE-RADIUS=500;X-TITLE=1981 Oxford St:geo:-63.599906,44.6442349
END:VEVENT
BEGIN:VEVENT
DTSTART;TZID=America/Halifax:20261107T091500
DTEND;TZID=America/Halifax:20261107T113000
DTSTAMP:20260421T173405
CREATED:20200730T203714Z
LAST-MODIFIED:20260204T114603Z
UID:12387-1794042900-1794051000@theshaar.ca
SUMMARY:Shabbat Morning Services
DESCRIPTION:All services – Shabbat evenings and mornings – can also be accessed over StreamSpot by clicking here. \nThe StreamSpot platform allows you to log-on before Shabbat/the festival begins\, and keep the stream running untouched for the duration of Shabbat.
URL:https://theshaar.ca/event/shabbat-morning-services-3/2026-11-07/
LOCATION:The Shaar\, 1981 Oxford St\, Halifax\, NS\, B3H 4A4\, Canada
CATEGORIES:Services
GEO:44.6442349;-63.599906
X-APPLE-STRUCTURED-LOCATION;VALUE=URI;X-ADDRESS=The Shaar 1981 Oxford St Halifax NS B3H 4A4 Canada;X-APPLE-RADIUS=500;X-TITLE=1981 Oxford St:geo:-63.599906,44.6442349
END:VEVENT
BEGIN:VEVENT
DTSTART;TZID=America/Halifax:20261114T091500
DTEND;TZID=America/Halifax:20261114T113000
DTSTAMP:20260421T173405
CREATED:20200730T203714Z
LAST-MODIFIED:20260204T114643Z
UID:12388-1794647700-1794655800@theshaar.ca
SUMMARY:Shabbat Morning Services
DESCRIPTION:All services – Shabbat evenings and mornings – can also be accessed over StreamSpot by clicking here. \nThe StreamSpot platform allows you to log-on before Shabbat/the festival begins\, and keep the stream running untouched for the duration of Shabbat.
URL:https://theshaar.ca/event/shabbat-morning-services-3/2026-11-14/
LOCATION:The Shaar\, 1981 Oxford St\, Halifax\, NS\, B3H 4A4\, Canada
CATEGORIES:Services
GEO:44.6442349;-63.599906
X-APPLE-STRUCTURED-LOCATION;VALUE=URI;X-ADDRESS=The Shaar 1981 Oxford St Halifax NS B3H 4A4 Canada;X-APPLE-RADIUS=500;X-TITLE=1981 Oxford St:geo:-63.599906,44.6442349
END:VEVENT
BEGIN:VEVENT
DTSTART;TZID=America/Halifax:20261121T091500
DTEND;TZID=America/Halifax:20261121T113000
DTSTAMP:20260421T173405
CREATED:20200730T203714Z
LAST-MODIFIED:20260204T114643Z
UID:12392-1795252500-1795260600@theshaar.ca
SUMMARY:Shabbat Morning Services
DESCRIPTION:All services – Shabbat evenings and mornings – can also be accessed over StreamSpot by clicking here. \nThe StreamSpot platform allows you to log-on before Shabbat/the festival begins\, and keep the stream running untouched for the duration of Shabbat.
URL:https://theshaar.ca/event/shabbat-morning-services-3/2026-11-21/
LOCATION:The Shaar\, 1981 Oxford St\, Halifax\, NS\, B3H 4A4\, Canada
CATEGORIES:Services
GEO:44.6442349;-63.599906
X-APPLE-STRUCTURED-LOCATION;VALUE=URI;X-ADDRESS=The Shaar 1981 Oxford St Halifax NS B3H 4A4 Canada;X-APPLE-RADIUS=500;X-TITLE=1981 Oxford St:geo:-63.599906,44.6442349
END:VEVENT
BEGIN:VEVENT
DTSTART;TZID=America/Halifax:20261128T091500
DTEND;TZID=America/Halifax:20261128T113000
DTSTAMP:20260421T173405
CREATED:20200730T203714Z
LAST-MODIFIED:20260204T114644Z
UID:12398-1795857300-1795865400@theshaar.ca
SUMMARY:Shabbat Morning Services
DESCRIPTION:All services – Shabbat evenings and mornings – can also be accessed over StreamSpot by clicking here. \nThe StreamSpot platform allows you to log-on before Shabbat/the festival begins\, and keep the stream running untouched for the duration of Shabbat.
URL:https://theshaar.ca/event/shabbat-morning-services-3/2026-11-28/
LOCATION:The Shaar\, 1981 Oxford St\, Halifax\, NS\, B3H 4A4\, Canada
CATEGORIES:Services
GEO:44.6442349;-63.599906
X-APPLE-STRUCTURED-LOCATION;VALUE=URI;X-ADDRESS=The Shaar 1981 Oxford St Halifax NS B3H 4A4 Canada;X-APPLE-RADIUS=500;X-TITLE=1981 Oxford St:geo:-63.599906,44.6442349
END:VEVENT
BEGIN:VEVENT
DTSTART;TZID=America/Halifax:20261205T091500
DTEND;TZID=America/Halifax:20261205T113000
DTSTAMP:20260421T173405
CREATED:20200730T203714Z
LAST-MODIFIED:20260204T114644Z
UID:12405-1796462100-1796470200@theshaar.ca
SUMMARY:Shabbat Morning Services
DESCRIPTION:All services – Shabbat evenings and mornings – can also be accessed over StreamSpot by clicking here. \nThe StreamSpot platform allows you to log-on before Shabbat/the festival begins\, and keep the stream running untouched for the duration of Shabbat.
URL:https://theshaar.ca/event/shabbat-morning-services-3/2026-12-05/
LOCATION:The Shaar\, 1981 Oxford St\, Halifax\, NS\, B3H 4A4\, Canada
CATEGORIES:Services
GEO:44.6442349;-63.599906
X-APPLE-STRUCTURED-LOCATION;VALUE=URI;X-ADDRESS=The Shaar 1981 Oxford St Halifax NS B3H 4A4 Canada;X-APPLE-RADIUS=500;X-TITLE=1981 Oxford St:geo:-63.599906,44.6442349
END:VEVENT
BEGIN:VEVENT
DTSTART;TZID=America/Halifax:20261212T091500
DTEND;TZID=America/Halifax:20261212T113000
DTSTAMP:20260421T173405
CREATED:20200730T203714Z
LAST-MODIFIED:20260204T114644Z
UID:12407-1797066900-1797075000@theshaar.ca
SUMMARY:Shabbat Morning Services
DESCRIPTION:All services – Shabbat evenings and mornings – can also be accessed over StreamSpot by clicking here. \nThe StreamSpot platform allows you to log-on before Shabbat/the festival begins\, and keep the stream running untouched for the duration of Shabbat.
URL:https://theshaar.ca/event/shabbat-morning-services-3/2026-12-12/
LOCATION:The Shaar\, 1981 Oxford St\, Halifax\, NS\, B3H 4A4\, Canada
CATEGORIES:Services
GEO:44.6442349;-63.599906
X-APPLE-STRUCTURED-LOCATION;VALUE=URI;X-ADDRESS=The Shaar 1981 Oxford St Halifax NS B3H 4A4 Canada;X-APPLE-RADIUS=500;X-TITLE=1981 Oxford St:geo:-63.599906,44.6442349
END:VEVENT
BEGIN:VEVENT
DTSTART;TZID=America/Halifax:20261219T091500
DTEND;TZID=America/Halifax:20261219T113000
DTSTAMP:20260421T173405
CREATED:20200730T203714Z
LAST-MODIFIED:20260204T114645Z
UID:12412-1797671700-1797679800@theshaar.ca
SUMMARY:Shabbat Morning Services
DESCRIPTION:All services – Shabbat evenings and mornings – can also be accessed over StreamSpot by clicking here. \nThe StreamSpot platform allows you to log-on before Shabbat/the festival begins\, and keep the stream running untouched for the duration of Shabbat.
URL:https://theshaar.ca/event/shabbat-morning-services-3/2026-12-19/
LOCATION:The Shaar\, 1981 Oxford St\, Halifax\, NS\, B3H 4A4\, Canada
CATEGORIES:Services
GEO:44.6442349;-63.599906
X-APPLE-STRUCTURED-LOCATION;VALUE=URI;X-ADDRESS=The Shaar 1981 Oxford St Halifax NS B3H 4A4 Canada;X-APPLE-RADIUS=500;X-TITLE=1981 Oxford St:geo:-63.599906,44.6442349
END:VEVENT
BEGIN:VEVENT
DTSTART;TZID=America/Halifax:20261226T091500
DTEND;TZID=America/Halifax:20261226T113000
DTSTAMP:20260421T173405
CREATED:20200730T203714Z
LAST-MODIFIED:20260204T114645Z
UID:12414-1798276500-1798284600@theshaar.ca
SUMMARY:Shabbat Morning Services
DESCRIPTION:All services – Shabbat evenings and mornings – can also be accessed over StreamSpot by clicking here. \nThe StreamSpot platform allows you to log-on before Shabbat/the festival begins\, and keep the stream running untouched for the duration of Shabbat.
URL:https://theshaar.ca/event/shabbat-morning-services-3/2026-12-26/
LOCATION:The Shaar\, 1981 Oxford St\, Halifax\, NS\, B3H 4A4\, Canada
CATEGORIES:Services
GEO:44.6442349;-63.599906
X-APPLE-STRUCTURED-LOCATION;VALUE=URI;X-ADDRESS=The Shaar 1981 Oxford St Halifax NS B3H 4A4 Canada;X-APPLE-RADIUS=500;X-TITLE=1981 Oxford St:geo:-63.599906,44.6442349
END:VEVENT
BEGIN:VEVENT
DTSTART;TZID=America/Halifax:20270102T091500
DTEND;TZID=America/Halifax:20270102T113000
DTSTAMP:20260421T173405
CREATED:20200730T203714Z
LAST-MODIFIED:20260204T114646Z
UID:12415-1798881300-1798889400@theshaar.ca
SUMMARY:Shabbat Morning Services
DESCRIPTION:All services – Shabbat evenings and mornings – can also be accessed over StreamSpot by clicking here. \nThe StreamSpot platform allows you to log-on before Shabbat/the festival begins\, and keep the stream running untouched for the duration of Shabbat.
URL:https://theshaar.ca/event/shabbat-morning-services-3/2027-01-02/
LOCATION:The Shaar\, 1981 Oxford St\, Halifax\, NS\, B3H 4A4\, Canada
CATEGORIES:Services
GEO:44.6442349;-63.599906
X-APPLE-STRUCTURED-LOCATION;VALUE=URI;X-ADDRESS=The Shaar 1981 Oxford St Halifax NS B3H 4A4 Canada;X-APPLE-RADIUS=500;X-TITLE=1981 Oxford St:geo:-63.599906,44.6442349
END:VEVENT
BEGIN:VEVENT
DTSTART;TZID=America/Halifax:20270109T091500
DTEND;TZID=America/Halifax:20270109T113000
DTSTAMP:20260421T173405
CREATED:20200730T203714Z
LAST-MODIFIED:20260204T114646Z
UID:12417-1799486100-1799494200@theshaar.ca
SUMMARY:Shabbat Morning Services
DESCRIPTION:All services – Shabbat evenings and mornings – can also be accessed over StreamSpot by clicking here. \nThe StreamSpot platform allows you to log-on before Shabbat/the festival begins\, and keep the stream running untouched for the duration of Shabbat.
URL:https://theshaar.ca/event/shabbat-morning-services-3/2027-01-09/
LOCATION:The Shaar\, 1981 Oxford St\, Halifax\, NS\, B3H 4A4\, Canada
CATEGORIES:Services
GEO:44.6442349;-63.599906
X-APPLE-STRUCTURED-LOCATION;VALUE=URI;X-ADDRESS=The Shaar 1981 Oxford St Halifax NS B3H 4A4 Canada;X-APPLE-RADIUS=500;X-TITLE=1981 Oxford St:geo:-63.599906,44.6442349
END:VEVENT
BEGIN:VEVENT
DTSTART;TZID=America/Halifax:20270116T091500
DTEND;TZID=America/Halifax:20270116T113000
DTSTAMP:20260421T173405
CREATED:20200730T203714Z
LAST-MODIFIED:20260204T114647Z
UID:12419-1800090900-1800099000@theshaar.ca
SUMMARY:Shabbat Morning Services
DESCRIPTION:All services – Shabbat evenings and mornings – can also be accessed over StreamSpot by clicking here. \nThe StreamSpot platform allows you to log-on before Shabbat/the festival begins\, and keep the stream running untouched for the duration of Shabbat.
URL:https://theshaar.ca/event/shabbat-morning-services-3/2027-01-16/
LOCATION:The Shaar\, 1981 Oxford St\, Halifax\, NS\, B3H 4A4\, Canada
CATEGORIES:Services
GEO:44.6442349;-63.599906
X-APPLE-STRUCTURED-LOCATION;VALUE=URI;X-ADDRESS=The Shaar 1981 Oxford St Halifax NS B3H 4A4 Canada;X-APPLE-RADIUS=500;X-TITLE=1981 Oxford St:geo:-63.599906,44.6442349
END:VEVENT
BEGIN:VEVENT
DTSTART;TZID=America/Halifax:20270123T091500
DTEND;TZID=America/Halifax:20270123T113000
DTSTAMP:20260421T173405
CREATED:20200730T203714Z
LAST-MODIFIED:20260204T114731Z
UID:12423-1800695700-1800703800@theshaar.ca
SUMMARY:Shabbat Morning Services
DESCRIPTION:All services – Shabbat evenings and mornings – can also be accessed over StreamSpot by clicking here. \nThe StreamSpot platform allows you to log-on before Shabbat/the festival begins\, and keep the stream running untouched for the duration of Shabbat.
URL:https://theshaar.ca/event/shabbat-morning-services-3/2027-01-23/
LOCATION:The Shaar\, 1981 Oxford St\, Halifax\, NS\, B3H 4A4\, Canada
CATEGORIES:Services
GEO:44.6442349;-63.599906
X-APPLE-STRUCTURED-LOCATION;VALUE=URI;X-ADDRESS=The Shaar 1981 Oxford St Halifax NS B3H 4A4 Canada;X-APPLE-RADIUS=500;X-TITLE=1981 Oxford St:geo:-63.599906,44.6442349
END:VEVENT
BEGIN:VEVENT
DTSTART;TZID=America/Halifax:20270130T091500
DTEND;TZID=America/Halifax:20270130T113000
DTSTAMP:20260421T173405
CREATED:20200730T203714Z
LAST-MODIFIED:20260204T114732Z
UID:12424-1801300500-1801308600@theshaar.ca
SUMMARY:Shabbat Morning Services
DESCRIPTION:All services – Shabbat evenings and mornings – can also be accessed over StreamSpot by clicking here. \nThe StreamSpot platform allows you to log-on before Shabbat/the festival begins\, and keep the stream running untouched for the duration of Shabbat.
URL:https://theshaar.ca/event/shabbat-morning-services-3/2027-01-30/
LOCATION:The Shaar\, 1981 Oxford St\, Halifax\, NS\, B3H 4A4\, Canada
CATEGORIES:Services
GEO:44.6442349;-63.599906
X-APPLE-STRUCTURED-LOCATION;VALUE=URI;X-ADDRESS=The Shaar 1981 Oxford St Halifax NS B3H 4A4 Canada;X-APPLE-RADIUS=500;X-TITLE=1981 Oxford St:geo:-63.599906,44.6442349
END:VEVENT
END:VCALENDAR