BEGIN:VCALENDAR
VERSION:2.0
PRODID:-//Shaar Shalom Synagogue - ECPv6.15.20//NONSGML v1.0//EN
CALSCALE:GREGORIAN
METHOD:PUBLISH
X-WR-CALNAME:Shaar Shalom Synagogue
X-ORIGINAL-URL:https://theshaar.ca
X-WR-CALDESC:Events for Shaar Shalom Synagogue
REFRESH-INTERVAL;VALUE=DURATION:PT1H
X-Robots-Tag:noindex
X-PUBLISHED-TTL:PT1H
BEGIN:VTIMEZONE
TZID:America/Halifax
BEGIN:DAYLIGHT
TZOFFSETFROM:-0400
TZOFFSETTO:-0300
TZNAME:ADT
DTSTART:20260308T060000
END:DAYLIGHT
BEGIN:STANDARD
TZOFFSETFROM:-0300
TZOFFSETTO:-0400
TZNAME:AST
DTSTART:20261101T050000
END:STANDARD
BEGIN:DAYLIGHT
TZOFFSETFROM:-0400
TZOFFSETTO:-0300
TZNAME:ADT
DTSTART:20270314T060000
END:DAYLIGHT
BEGIN:STANDARD
TZOFFSETFROM:-0300
TZOFFSETTO:-0400
TZNAME:AST
DTSTART:20271107T050000
END:STANDARD
BEGIN:DAYLIGHT
TZOFFSETFROM:-0400
TZOFFSETTO:-0300
TZNAME:ADT
DTSTART:20280312T060000
END:DAYLIGHT
BEGIN:STANDARD
TZOFFSETFROM:-0300
TZOFFSETTO:-0400
TZNAME:AST
DTSTART:20281105T050000
END:STANDARD
BEGIN:DAYLIGHT
TZOFFSETFROM:-0400
TZOFFSETTO:-0300
TZNAME:ADT
DTSTART:20290311T060000
END:DAYLIGHT
BEGIN:STANDARD
TZOFFSETFROM:-0300
TZOFFSETTO:-0400
TZNAME:AST
DTSTART:20291104T050000
END:STANDARD
END:VTIMEZONE
BEGIN:VEVENT
DTSTART;TZID=America/Halifax:20271113T091500
DTEND;TZID=America/Halifax:20271113T113000
DTSTAMP:20260422T072824
CREATED:20200730T203714Z
LAST-MODIFIED:20260204T114803Z
UID:12627-1826097300-1826105400@theshaar.ca
SUMMARY:Shabbat Morning Services
DESCRIPTION:All services – Shabbat evenings and mornings – can also be accessed over StreamSpot by clicking here. \nThe StreamSpot platform allows you to log-on before Shabbat/the festival begins\, and keep the stream running untouched for the duration of Shabbat.
URL:https://theshaar.ca/event/shabbat-morning-services-3/2027-11-13/
LOCATION:The Shaar\, 1981 Oxford St\, Halifax\, NS\, B3H 4A4\, Canada
CATEGORIES:Services
GEO:44.6442349;-63.599906
X-APPLE-STRUCTURED-LOCATION;VALUE=URI;X-ADDRESS=The Shaar 1981 Oxford St Halifax NS B3H 4A4 Canada;X-APPLE-RADIUS=500;X-TITLE=1981 Oxford St:geo:-63.599906,44.6442349
END:VEVENT
BEGIN:VEVENT
DTSTART;TZID=America/Halifax:20271120T091500
DTEND;TZID=America/Halifax:20271120T113000
DTSTAMP:20260422T072824
CREATED:20200730T203714Z
LAST-MODIFIED:20260204T114803Z
UID:12632-1826702100-1826710200@theshaar.ca
SUMMARY:Shabbat Morning Services
DESCRIPTION:All services – Shabbat evenings and mornings – can also be accessed over StreamSpot by clicking here. \nThe StreamSpot platform allows you to log-on before Shabbat/the festival begins\, and keep the stream running untouched for the duration of Shabbat.
URL:https://theshaar.ca/event/shabbat-morning-services-3/2027-11-20/
LOCATION:The Shaar\, 1981 Oxford St\, Halifax\, NS\, B3H 4A4\, Canada
CATEGORIES:Services
GEO:44.6442349;-63.599906
X-APPLE-STRUCTURED-LOCATION;VALUE=URI;X-ADDRESS=The Shaar 1981 Oxford St Halifax NS B3H 4A4 Canada;X-APPLE-RADIUS=500;X-TITLE=1981 Oxford St:geo:-63.599906,44.6442349
END:VEVENT
BEGIN:VEVENT
DTSTART;TZID=America/Halifax:20271127T091500
DTEND;TZID=America/Halifax:20271127T113000
DTSTAMP:20260422T072824
CREATED:20200730T203714Z
LAST-MODIFIED:20260204T114804Z
UID:12633-1827306900-1827315000@theshaar.ca
SUMMARY:Shabbat Morning Services
DESCRIPTION:All services – Shabbat evenings and mornings – can also be accessed over StreamSpot by clicking here. \nThe StreamSpot platform allows you to log-on before Shabbat/the festival begins\, and keep the stream running untouched for the duration of Shabbat.
URL:https://theshaar.ca/event/shabbat-morning-services-3/2027-11-27/
LOCATION:The Shaar\, 1981 Oxford St\, Halifax\, NS\, B3H 4A4\, Canada
CATEGORIES:Services
GEO:44.6442349;-63.599906
X-APPLE-STRUCTURED-LOCATION;VALUE=URI;X-ADDRESS=The Shaar 1981 Oxford St Halifax NS B3H 4A4 Canada;X-APPLE-RADIUS=500;X-TITLE=1981 Oxford St:geo:-63.599906,44.6442349
END:VEVENT
BEGIN:VEVENT
DTSTART;TZID=America/Halifax:20271204T091500
DTEND;TZID=America/Halifax:20271204T113000
DTSTAMP:20260422T072824
CREATED:20200730T203714Z
LAST-MODIFIED:20260204T114804Z
UID:12639-1827911700-1827919800@theshaar.ca
SUMMARY:Shabbat Morning Services
DESCRIPTION:All services – Shabbat evenings and mornings – can also be accessed over StreamSpot by clicking here. \nThe StreamSpot platform allows you to log-on before Shabbat/the festival begins\, and keep the stream running untouched for the duration of Shabbat.
URL:https://theshaar.ca/event/shabbat-morning-services-3/2027-12-04/
LOCATION:The Shaar\, 1981 Oxford St\, Halifax\, NS\, B3H 4A4\, Canada
CATEGORIES:Services
GEO:44.6442349;-63.599906
X-APPLE-STRUCTURED-LOCATION;VALUE=URI;X-ADDRESS=The Shaar 1981 Oxford St Halifax NS B3H 4A4 Canada;X-APPLE-RADIUS=500;X-TITLE=1981 Oxford St:geo:-63.599906,44.6442349
END:VEVENT
BEGIN:VEVENT
DTSTART;TZID=America/Halifax:20271211T091500
DTEND;TZID=America/Halifax:20271211T113000
DTSTAMP:20260422T072824
CREATED:20200730T203714Z
LAST-MODIFIED:20260204T114805Z
UID:12642-1828516500-1828524600@theshaar.ca
SUMMARY:Shabbat Morning Services
DESCRIPTION:All services – Shabbat evenings and mornings – can also be accessed over StreamSpot by clicking here. \nThe StreamSpot platform allows you to log-on before Shabbat/the festival begins\, and keep the stream running untouched for the duration of Shabbat.
URL:https://theshaar.ca/event/shabbat-morning-services-3/2027-12-11/
LOCATION:The Shaar\, 1981 Oxford St\, Halifax\, NS\, B3H 4A4\, Canada
CATEGORIES:Services
GEO:44.6442349;-63.599906
X-APPLE-STRUCTURED-LOCATION;VALUE=URI;X-ADDRESS=The Shaar 1981 Oxford St Halifax NS B3H 4A4 Canada;X-APPLE-RADIUS=500;X-TITLE=1981 Oxford St:geo:-63.599906,44.6442349
END:VEVENT
BEGIN:VEVENT
DTSTART;TZID=America/Halifax:20271218T091500
DTEND;TZID=America/Halifax:20271218T113000
DTSTAMP:20260422T072824
CREATED:20200730T203714Z
LAST-MODIFIED:20260204T114805Z
UID:12647-1829121300-1829129400@theshaar.ca
SUMMARY:Shabbat Morning Services
DESCRIPTION:All services – Shabbat evenings and mornings – can also be accessed over StreamSpot by clicking here. \nThe StreamSpot platform allows you to log-on before Shabbat/the festival begins\, and keep the stream running untouched for the duration of Shabbat.
URL:https://theshaar.ca/event/shabbat-morning-services-3/2027-12-18/
LOCATION:The Shaar\, 1981 Oxford St\, Halifax\, NS\, B3H 4A4\, Canada
CATEGORIES:Services
GEO:44.6442349;-63.599906
X-APPLE-STRUCTURED-LOCATION;VALUE=URI;X-ADDRESS=The Shaar 1981 Oxford St Halifax NS B3H 4A4 Canada;X-APPLE-RADIUS=500;X-TITLE=1981 Oxford St:geo:-63.599906,44.6442349
END:VEVENT
BEGIN:VEVENT
DTSTART;TZID=America/Halifax:20271225T091500
DTEND;TZID=America/Halifax:20271225T113000
DTSTAMP:20260422T072824
CREATED:20200730T203714Z
LAST-MODIFIED:20260204T114806Z
UID:12648-1829726100-1829734200@theshaar.ca
SUMMARY:Shabbat Morning Services
DESCRIPTION:All services – Shabbat evenings and mornings – can also be accessed over StreamSpot by clicking here. \nThe StreamSpot platform allows you to log-on before Shabbat/the festival begins\, and keep the stream running untouched for the duration of Shabbat.
URL:https://theshaar.ca/event/shabbat-morning-services-3/2027-12-25/
LOCATION:The Shaar\, 1981 Oxford St\, Halifax\, NS\, B3H 4A4\, Canada
CATEGORIES:Services
GEO:44.6442349;-63.599906
X-APPLE-STRUCTURED-LOCATION;VALUE=URI;X-ADDRESS=The Shaar 1981 Oxford St Halifax NS B3H 4A4 Canada;X-APPLE-RADIUS=500;X-TITLE=1981 Oxford St:geo:-63.599906,44.6442349
END:VEVENT
BEGIN:VEVENT
DTSTART;TZID=America/Halifax:20280101T091500
DTEND;TZID=America/Halifax:20280101T113000
DTSTAMP:20260422T072824
CREATED:20200730T203714Z
LAST-MODIFIED:20260204T114806Z
UID:12650-1830330900-1830339000@theshaar.ca
SUMMARY:Shabbat Morning Services
DESCRIPTION:All services – Shabbat evenings and mornings – can also be accessed over StreamSpot by clicking here. \nThe StreamSpot platform allows you to log-on before Shabbat/the festival begins\, and keep the stream running untouched for the duration of Shabbat.
URL:https://theshaar.ca/event/shabbat-morning-services-3/2028-01-01/
LOCATION:The Shaar\, 1981 Oxford St\, Halifax\, NS\, B3H 4A4\, Canada
CATEGORIES:Services
GEO:44.6442349;-63.599906
X-APPLE-STRUCTURED-LOCATION;VALUE=URI;X-ADDRESS=The Shaar 1981 Oxford St Halifax NS B3H 4A4 Canada;X-APPLE-RADIUS=500;X-TITLE=1981 Oxford St:geo:-63.599906,44.6442349
END:VEVENT
BEGIN:VEVENT
DTSTART;TZID=America/Halifax:20280108T091500
DTEND;TZID=America/Halifax:20280108T113000
DTSTAMP:20260422T072824
CREATED:20200730T203714Z
LAST-MODIFIED:20260204T114810Z
UID:12652-1830935700-1830943800@theshaar.ca
SUMMARY:Shabbat Morning Services
DESCRIPTION:All services – Shabbat evenings and mornings – can also be accessed over StreamSpot by clicking here. \nThe StreamSpot platform allows you to log-on before Shabbat/the festival begins\, and keep the stream running untouched for the duration of Shabbat.
URL:https://theshaar.ca/event/shabbat-morning-services-3/2028-01-08/
LOCATION:The Shaar\, 1981 Oxford St\, Halifax\, NS\, B3H 4A4\, Canada
CATEGORIES:Services
GEO:44.6442349;-63.599906
X-APPLE-STRUCTURED-LOCATION;VALUE=URI;X-ADDRESS=The Shaar 1981 Oxford St Halifax NS B3H 4A4 Canada;X-APPLE-RADIUS=500;X-TITLE=1981 Oxford St:geo:-63.599906,44.6442349
END:VEVENT
BEGIN:VEVENT
DTSTART;TZID=America/Halifax:20280115T091500
DTEND;TZID=America/Halifax:20280115T113000
DTSTAMP:20260422T072824
CREATED:20200730T203714Z
LAST-MODIFIED:20260204T114810Z
UID:12657-1831540500-1831548600@theshaar.ca
SUMMARY:Shabbat Morning Services
DESCRIPTION:All services – Shabbat evenings and mornings – can also be accessed over StreamSpot by clicking here. \nThe StreamSpot platform allows you to log-on before Shabbat/the festival begins\, and keep the stream running untouched for the duration of Shabbat.
URL:https://theshaar.ca/event/shabbat-morning-services-3/2028-01-15/
LOCATION:The Shaar\, 1981 Oxford St\, Halifax\, NS\, B3H 4A4\, Canada
CATEGORIES:Services
GEO:44.6442349;-63.599906
X-APPLE-STRUCTURED-LOCATION;VALUE=URI;X-ADDRESS=The Shaar 1981 Oxford St Halifax NS B3H 4A4 Canada;X-APPLE-RADIUS=500;X-TITLE=1981 Oxford St:geo:-63.599906,44.6442349
END:VEVENT
BEGIN:VEVENT
DTSTART;TZID=America/Halifax:20280122T091500
DTEND;TZID=America/Halifax:20280122T113000
DTSTAMP:20260422T072824
CREATED:20200730T203714Z
LAST-MODIFIED:20260204T114811Z
UID:12659-1832145300-1832153400@theshaar.ca
SUMMARY:Shabbat Morning Services
DESCRIPTION:All services – Shabbat evenings and mornings – can also be accessed over StreamSpot by clicking here. \nThe StreamSpot platform allows you to log-on before Shabbat/the festival begins\, and keep the stream running untouched for the duration of Shabbat.
URL:https://theshaar.ca/event/shabbat-morning-services-3/2028-01-22/
LOCATION:The Shaar\, 1981 Oxford St\, Halifax\, NS\, B3H 4A4\, Canada
CATEGORIES:Services
GEO:44.6442349;-63.599906
X-APPLE-STRUCTURED-LOCATION;VALUE=URI;X-ADDRESS=The Shaar 1981 Oxford St Halifax NS B3H 4A4 Canada;X-APPLE-RADIUS=500;X-TITLE=1981 Oxford St:geo:-63.599906,44.6442349
END:VEVENT
BEGIN:VEVENT
DTSTART;TZID=America/Halifax:20280129T091500
DTEND;TZID=America/Halifax:20280129T113000
DTSTAMP:20260422T072824
CREATED:20200730T203714Z
LAST-MODIFIED:20260204T114811Z
UID:12663-1832750100-1832758200@theshaar.ca
SUMMARY:Shabbat Morning Services
DESCRIPTION:All services – Shabbat evenings and mornings – can also be accessed over StreamSpot by clicking here. \nThe StreamSpot platform allows you to log-on before Shabbat/the festival begins\, and keep the stream running untouched for the duration of Shabbat.
URL:https://theshaar.ca/event/shabbat-morning-services-3/2028-01-29/
LOCATION:The Shaar\, 1981 Oxford St\, Halifax\, NS\, B3H 4A4\, Canada
CATEGORIES:Services
GEO:44.6442349;-63.599906
X-APPLE-STRUCTURED-LOCATION;VALUE=URI;X-ADDRESS=The Shaar 1981 Oxford St Halifax NS B3H 4A4 Canada;X-APPLE-RADIUS=500;X-TITLE=1981 Oxford St:geo:-63.599906,44.6442349
END:VEVENT
BEGIN:VEVENT
DTSTART;TZID=America/Halifax:20280205T091500
DTEND;TZID=America/Halifax:20280205T113000
DTSTAMP:20260422T072824
CREATED:20200730T203714Z
LAST-MODIFIED:20200730T203714Z
UID:12871-1833354900-1833363000@theshaar.ca
SUMMARY:Shabbat Morning Services
DESCRIPTION:All services – Shabbat evenings and mornings – can also be accessed over StreamSpot by clicking here. \nThe StreamSpot platform allows you to log-on before Shabbat/the festival begins\, and keep the stream running untouched for the duration of Shabbat.
URL:https://theshaar.ca/event/shabbat-morning-services-3/2028-02-05/
LOCATION:The Shaar\, 1981 Oxford St\, Halifax\, NS\, B3H 4A4\, Canada
CATEGORIES:Services
GEO:44.6442349;-63.599906
X-APPLE-STRUCTURED-LOCATION;VALUE=URI;X-ADDRESS=The Shaar 1981 Oxford St Halifax NS B3H 4A4 Canada;X-APPLE-RADIUS=500;X-TITLE=1981 Oxford St:geo:-63.599906,44.6442349
END:VEVENT
BEGIN:VEVENT
DTSTART;TZID=America/Halifax:20280212T091500
DTEND;TZID=America/Halifax:20280212T113000
DTSTAMP:20260422T072824
CREATED:20200730T203714Z
LAST-MODIFIED:20200730T203714Z
UID:12872-1833959700-1833967800@theshaar.ca
SUMMARY:Shabbat Morning Services
DESCRIPTION:All services – Shabbat evenings and mornings – can also be accessed over StreamSpot by clicking here. \nThe StreamSpot platform allows you to log-on before Shabbat/the festival begins\, and keep the stream running untouched for the duration of Shabbat.
URL:https://theshaar.ca/event/shabbat-morning-services-3/2028-02-12/
LOCATION:The Shaar\, 1981 Oxford St\, Halifax\, NS\, B3H 4A4\, Canada
CATEGORIES:Services
GEO:44.6442349;-63.599906
X-APPLE-STRUCTURED-LOCATION;VALUE=URI;X-ADDRESS=The Shaar 1981 Oxford St Halifax NS B3H 4A4 Canada;X-APPLE-RADIUS=500;X-TITLE=1981 Oxford St:geo:-63.599906,44.6442349
END:VEVENT
BEGIN:VEVENT
DTSTART;TZID=America/Halifax:20280219T091500
DTEND;TZID=America/Halifax:20280219T113000
DTSTAMP:20260422T072824
CREATED:20200730T203714Z
LAST-MODIFIED:20200730T203714Z
UID:12873-1834564500-1834572600@theshaar.ca
SUMMARY:Shabbat Morning Services
DESCRIPTION:All services – Shabbat evenings and mornings – can also be accessed over StreamSpot by clicking here. \nThe StreamSpot platform allows you to log-on before Shabbat/the festival begins\, and keep the stream running untouched for the duration of Shabbat.
URL:https://theshaar.ca/event/shabbat-morning-services-3/2028-02-19/
LOCATION:The Shaar\, 1981 Oxford St\, Halifax\, NS\, B3H 4A4\, Canada
CATEGORIES:Services
GEO:44.6442349;-63.599906
X-APPLE-STRUCTURED-LOCATION;VALUE=URI;X-ADDRESS=The Shaar 1981 Oxford St Halifax NS B3H 4A4 Canada;X-APPLE-RADIUS=500;X-TITLE=1981 Oxford St:geo:-63.599906,44.6442349
END:VEVENT
BEGIN:VEVENT
DTSTART;TZID=America/Halifax:20280226T091500
DTEND;TZID=America/Halifax:20280226T113000
DTSTAMP:20260422T072824
CREATED:20200730T203714Z
LAST-MODIFIED:20200730T203714Z
UID:12875-1835169300-1835177400@theshaar.ca
SUMMARY:Shabbat Morning Services
DESCRIPTION:All services – Shabbat evenings and mornings – can also be accessed over StreamSpot by clicking here. \nThe StreamSpot platform allows you to log-on before Shabbat/the festival begins\, and keep the stream running untouched for the duration of Shabbat.
URL:https://theshaar.ca/event/shabbat-morning-services-3/2028-02-26/
LOCATION:The Shaar\, 1981 Oxford St\, Halifax\, NS\, B3H 4A4\, Canada
CATEGORIES:Services
GEO:44.6442349;-63.599906
X-APPLE-STRUCTURED-LOCATION;VALUE=URI;X-ADDRESS=The Shaar 1981 Oxford St Halifax NS B3H 4A4 Canada;X-APPLE-RADIUS=500;X-TITLE=1981 Oxford St:geo:-63.599906,44.6442349
END:VEVENT
BEGIN:VEVENT
DTSTART;TZID=America/Halifax:20280304T091500
DTEND;TZID=America/Halifax:20280304T113000
DTSTAMP:20260422T072824
CREATED:20200730T203714Z
LAST-MODIFIED:20200730T203714Z
UID:12912-1835774100-1835782200@theshaar.ca
SUMMARY:Shabbat Morning Services
DESCRIPTION:All services – Shabbat evenings and mornings – can also be accessed over StreamSpot by clicking here. \nThe StreamSpot platform allows you to log-on before Shabbat/the festival begins\, and keep the stream running untouched for the duration of Shabbat.
URL:https://theshaar.ca/event/shabbat-morning-services-3/2028-03-04/
LOCATION:The Shaar\, 1981 Oxford St\, Halifax\, NS\, B3H 4A4\, Canada
CATEGORIES:Services
GEO:44.6442349;-63.599906
X-APPLE-STRUCTURED-LOCATION;VALUE=URI;X-ADDRESS=The Shaar 1981 Oxford St Halifax NS B3H 4A4 Canada;X-APPLE-RADIUS=500;X-TITLE=1981 Oxford St:geo:-63.599906,44.6442349
END:VEVENT
BEGIN:VEVENT
DTSTART;TZID=America/Halifax:20280311T091500
DTEND;TZID=America/Halifax:20280311T113000
DTSTAMP:20260422T072824
CREATED:20200730T203714Z
LAST-MODIFIED:20200730T203714Z
UID:12917-1836378900-1836387000@theshaar.ca
SUMMARY:Shabbat Morning Services
DESCRIPTION:All services – Shabbat evenings and mornings – can also be accessed over StreamSpot by clicking here. \nThe StreamSpot platform allows you to log-on before Shabbat/the festival begins\, and keep the stream running untouched for the duration of Shabbat.
URL:https://theshaar.ca/event/shabbat-morning-services-3/2028-03-11/
LOCATION:The Shaar\, 1981 Oxford St\, Halifax\, NS\, B3H 4A4\, Canada
CATEGORIES:Services
GEO:44.6442349;-63.599906
X-APPLE-STRUCTURED-LOCATION;VALUE=URI;X-ADDRESS=The Shaar 1981 Oxford St Halifax NS B3H 4A4 Canada;X-APPLE-RADIUS=500;X-TITLE=1981 Oxford St:geo:-63.599906,44.6442349
END:VEVENT
BEGIN:VEVENT
DTSTART;TZID=America/Halifax:20280318T091500
DTEND;TZID=America/Halifax:20280318T113000
DTSTAMP:20260422T072824
CREATED:20200730T203714Z
LAST-MODIFIED:20200730T203714Z
UID:12924-1836983700-1836991800@theshaar.ca
SUMMARY:Shabbat Morning Services
DESCRIPTION:All services – Shabbat evenings and mornings – can also be accessed over StreamSpot by clicking here. \nThe StreamSpot platform allows you to log-on before Shabbat/the festival begins\, and keep the stream running untouched for the duration of Shabbat.
URL:https://theshaar.ca/event/shabbat-morning-services-3/2028-03-18/
LOCATION:The Shaar\, 1981 Oxford St\, Halifax\, NS\, B3H 4A4\, Canada
CATEGORIES:Services
GEO:44.6442349;-63.599906
X-APPLE-STRUCTURED-LOCATION;VALUE=URI;X-ADDRESS=The Shaar 1981 Oxford St Halifax NS B3H 4A4 Canada;X-APPLE-RADIUS=500;X-TITLE=1981 Oxford St:geo:-63.599906,44.6442349
END:VEVENT
BEGIN:VEVENT
DTSTART;TZID=America/Halifax:20280325T091500
DTEND;TZID=America/Halifax:20280325T113000
DTSTAMP:20260422T072824
CREATED:20200730T203714Z
LAST-MODIFIED:20200730T203714Z
UID:12925-1837588500-1837596600@theshaar.ca
SUMMARY:Shabbat Morning Services
DESCRIPTION:All services – Shabbat evenings and mornings – can also be accessed over StreamSpot by clicking here. \nThe StreamSpot platform allows you to log-on before Shabbat/the festival begins\, and keep the stream running untouched for the duration of Shabbat.
URL:https://theshaar.ca/event/shabbat-morning-services-3/2028-03-25/
LOCATION:The Shaar\, 1981 Oxford St\, Halifax\, NS\, B3H 4A4\, Canada
CATEGORIES:Services
GEO:44.6442349;-63.599906
X-APPLE-STRUCTURED-LOCATION;VALUE=URI;X-ADDRESS=The Shaar 1981 Oxford St Halifax NS B3H 4A4 Canada;X-APPLE-RADIUS=500;X-TITLE=1981 Oxford St:geo:-63.599906,44.6442349
END:VEVENT
BEGIN:VEVENT
DTSTART;TZID=America/Halifax:20280401T091500
DTEND;TZID=America/Halifax:20280401T113000
DTSTAMP:20260422T072824
CREATED:20200730T203714Z
LAST-MODIFIED:20200730T203714Z
UID:12932-1838193300-1838201400@theshaar.ca
SUMMARY:Shabbat Morning Services
DESCRIPTION:All services – Shabbat evenings and mornings – can also be accessed over StreamSpot by clicking here. \nThe StreamSpot platform allows you to log-on before Shabbat/the festival begins\, and keep the stream running untouched for the duration of Shabbat.
URL:https://theshaar.ca/event/shabbat-morning-services-3/2028-04-01/
LOCATION:The Shaar\, 1981 Oxford St\, Halifax\, NS\, B3H 4A4\, Canada
CATEGORIES:Services
GEO:44.6442349;-63.599906
X-APPLE-STRUCTURED-LOCATION;VALUE=URI;X-ADDRESS=The Shaar 1981 Oxford St Halifax NS B3H 4A4 Canada;X-APPLE-RADIUS=500;X-TITLE=1981 Oxford St:geo:-63.599906,44.6442349
END:VEVENT
BEGIN:VEVENT
DTSTART;TZID=America/Halifax:20280408T091500
DTEND;TZID=America/Halifax:20280408T113000
DTSTAMP:20260422T072824
CREATED:20200730T203714Z
LAST-MODIFIED:20200730T203714Z
UID:12933-1838798100-1838806200@theshaar.ca
SUMMARY:Shabbat Morning Services
DESCRIPTION:All services – Shabbat evenings and mornings – can also be accessed over StreamSpot by clicking here. \nThe StreamSpot platform allows you to log-on before Shabbat/the festival begins\, and keep the stream running untouched for the duration of Shabbat.
URL:https://theshaar.ca/event/shabbat-morning-services-3/2028-04-08/
LOCATION:The Shaar\, 1981 Oxford St\, Halifax\, NS\, B3H 4A4\, Canada
CATEGORIES:Services
GEO:44.6442349;-63.599906
X-APPLE-STRUCTURED-LOCATION;VALUE=URI;X-ADDRESS=The Shaar 1981 Oxford St Halifax NS B3H 4A4 Canada;X-APPLE-RADIUS=500;X-TITLE=1981 Oxford St:geo:-63.599906,44.6442349
END:VEVENT
BEGIN:VEVENT
DTSTART;TZID=America/Halifax:20280415T091500
DTEND;TZID=America/Halifax:20280415T113000
DTSTAMP:20260422T072824
CREATED:20200730T203714Z
LAST-MODIFIED:20200730T203714Z
UID:12938-1839402900-1839411000@theshaar.ca
SUMMARY:Shabbat Morning Services
DESCRIPTION:All services – Shabbat evenings and mornings – can also be accessed over StreamSpot by clicking here. \nThe StreamSpot platform allows you to log-on before Shabbat/the festival begins\, and keep the stream running untouched for the duration of Shabbat.
URL:https://theshaar.ca/event/shabbat-morning-services-3/2028-04-15/
LOCATION:The Shaar\, 1981 Oxford St\, Halifax\, NS\, B3H 4A4\, Canada
CATEGORIES:Services
GEO:44.6442349;-63.599906
X-APPLE-STRUCTURED-LOCATION;VALUE=URI;X-ADDRESS=The Shaar 1981 Oxford St Halifax NS B3H 4A4 Canada;X-APPLE-RADIUS=500;X-TITLE=1981 Oxford St:geo:-63.599906,44.6442349
END:VEVENT
END:VCALENDAR