BEGIN:VCALENDAR
VERSION:2.0
PRODID:-//Shaar Shalom Synagogue - ECPv6.15.20//NONSGML v1.0//EN
CALSCALE:GREGORIAN
METHOD:PUBLISH
X-ORIGINAL-URL:https://theshaar.ca
X-WR-CALDESC:Events for Shaar Shalom Synagogue
REFRESH-INTERVAL;VALUE=DURATION:PT1H
X-Robots-Tag:noindex
X-PUBLISHED-TTL:PT1H
BEGIN:VTIMEZONE
TZID:America/Halifax
BEGIN:DAYLIGHT
TZOFFSETFROM:-0400
TZOFFSETTO:-0300
TZNAME:ADT
DTSTART:20210314T060000
END:DAYLIGHT
BEGIN:STANDARD
TZOFFSETFROM:-0300
TZOFFSETTO:-0400
TZNAME:AST
DTSTART:20211107T050000
END:STANDARD
BEGIN:DAYLIGHT
TZOFFSETFROM:-0400
TZOFFSETTO:-0300
TZNAME:ADT
DTSTART:20220313T060000
END:DAYLIGHT
BEGIN:STANDARD
TZOFFSETFROM:-0300
TZOFFSETTO:-0400
TZNAME:AST
DTSTART:20221106T050000
END:STANDARD
BEGIN:DAYLIGHT
TZOFFSETFROM:-0400
TZOFFSETTO:-0300
TZNAME:ADT
DTSTART:20230312T060000
END:DAYLIGHT
BEGIN:STANDARD
TZOFFSETFROM:-0300
TZOFFSETTO:-0400
TZNAME:AST
DTSTART:20231105T050000
END:STANDARD
BEGIN:DAYLIGHT
TZOFFSETFROM:-0400
TZOFFSETTO:-0300
TZNAME:ADT
DTSTART:20240310T060000
END:DAYLIGHT
BEGIN:STANDARD
TZOFFSETFROM:-0300
TZOFFSETTO:-0400
TZNAME:AST
DTSTART:20241103T050000
END:STANDARD
BEGIN:DAYLIGHT
TZOFFSETFROM:-0400
TZOFFSETTO:-0300
TZNAME:ADT
DTSTART:20250309T060000
END:DAYLIGHT
BEGIN:STANDARD
TZOFFSETFROM:-0300
TZOFFSETTO:-0400
TZNAME:AST
DTSTART:20251102T050000
END:STANDARD
END:VTIMEZONE
BEGIN:VEVENT
DTSTART;TZID=America/Halifax:20240504T091500
DTEND;TZID=America/Halifax:20240504T113000
DTSTAMP:20260425T170624
CREATED:20200730T203714Z
LAST-MODIFIED:20260203T180256Z
UID:10062-1714814100-1714822200@theshaar.ca
SUMMARY:Shabbat Morning Services
DESCRIPTION:All services – Shabbat evenings and mornings – can also be accessed over StreamSpot by clicking here. \nThe StreamSpot platform allows you to log-on before Shabbat/the festival begins\, and keep the stream running untouched for the duration of Shabbat.
URL:https://theshaar.ca/event/shabbat-morning-services-3/2024-05-04/
LOCATION:The Shaar\, 1981 Oxford St\, Halifax\, NS\, B3H 4A4\, Canada
CATEGORIES:Services
GEO:44.6442349;-63.599906
X-APPLE-STRUCTURED-LOCATION;VALUE=URI;X-ADDRESS=The Shaar 1981 Oxford St Halifax NS B3H 4A4 Canada;X-APPLE-RADIUS=500;X-TITLE=1981 Oxford St:geo:-63.599906,44.6442349
END:VEVENT
BEGIN:VEVENT
DTSTART;TZID=America/Halifax:20240503T183000
DTEND;TZID=America/Halifax:20240503T193000
DTSTAMP:20260425T170624
CREATED:20240425T183319Z
LAST-MODIFIED:20240425T183319Z
UID:12127-1714761000-1714764600@theshaar.ca
SUMMARY:Kabbalat Shabbat - Welcoming Shabbat Services
DESCRIPTION:Please join us in person for services on Friday evenings and Saturday mornings. \nAll services – Shabbat evenings and mornings – can also be accessed over StreamSpot by clicking here. \nThe StreamSpot platform allows you to log-on before Shabbat/the festival begins\, and keep the stream running untouched for the duration of Shabbat.
URL:https://theshaar.ca/event/kabbalat-shabbat-welcoming-shabbat-services-6/2024-05-03/
LOCATION:The Shaar\, 1981 Oxford St\, Halifax\, NS\, B3H 4A4\, Canada
CATEGORIES:Services
GEO:44.6442349;-63.599906
X-APPLE-STRUCTURED-LOCATION;VALUE=URI;X-ADDRESS=The Shaar 1981 Oxford St Halifax NS B3H 4A4 Canada;X-APPLE-RADIUS=500;X-TITLE=1981 Oxford St:geo:-63.599906,44.6442349
END:VEVENT
BEGIN:VEVENT
DTSTART;TZID=America/Halifax:20240427T091500
DTEND;TZID=America/Halifax:20240427T113000
DTSTAMP:20260425T170624
CREATED:20200730T203714Z
LAST-MODIFIED:20260203T180256Z
UID:10053-1714209300-1714217400@theshaar.ca
SUMMARY:Shabbat Morning Services
DESCRIPTION:All services – Shabbat evenings and mornings – can also be accessed over StreamSpot by clicking here. \nThe StreamSpot platform allows you to log-on before Shabbat/the festival begins\, and keep the stream running untouched for the duration of Shabbat.
URL:https://theshaar.ca/event/shabbat-morning-services-3/2024-04-27/
LOCATION:The Shaar\, 1981 Oxford St\, Halifax\, NS\, B3H 4A4\, Canada
CATEGORIES:Services
GEO:44.6442349;-63.599906
X-APPLE-STRUCTURED-LOCATION;VALUE=URI;X-ADDRESS=The Shaar 1981 Oxford St Halifax NS B3H 4A4 Canada;X-APPLE-RADIUS=500;X-TITLE=1981 Oxford St:geo:-63.599906,44.6442349
END:VEVENT
BEGIN:VEVENT
DTSTART;TZID=America/Halifax:20240426T183000
DTEND;TZID=America/Halifax:20240426T193000
DTSTAMP:20260425T170624
CREATED:20240425T183319Z
LAST-MODIFIED:20240425T183319Z
UID:12126-1714156200-1714159800@theshaar.ca
SUMMARY:Kabbalat Shabbat - Welcoming Shabbat Services
DESCRIPTION:Please join us in person for services on Friday evenings and Saturday mornings. \nAll services – Shabbat evenings and mornings – can also be accessed over StreamSpot by clicking here. \nThe StreamSpot platform allows you to log-on before Shabbat/the festival begins\, and keep the stream running untouched for the duration of Shabbat.
URL:https://theshaar.ca/event/kabbalat-shabbat-welcoming-shabbat-services-6/2024-04-26/
LOCATION:The Shaar\, 1981 Oxford St\, Halifax\, NS\, B3H 4A4\, Canada
CATEGORIES:Services
GEO:44.6442349;-63.599906
X-APPLE-STRUCTURED-LOCATION;VALUE=URI;X-ADDRESS=The Shaar 1981 Oxford St Halifax NS B3H 4A4 Canada;X-APPLE-RADIUS=500;X-TITLE=1981 Oxford St:geo:-63.599906,44.6442349
END:VEVENT
BEGIN:VEVENT
DTSTART;TZID=America/Halifax:20240315T183000
DTEND;TZID=America/Halifax:20240315T193000
DTSTAMP:20260425T170624
CREATED:20240425T183319Z
LAST-MODIFIED:20240625T161732Z
UID:11930-1710527400-1710531000@theshaar.ca
SUMMARY:Kabbalat Shabbat - Welcoming Shabbat Services
DESCRIPTION:Please join us in person for services on Friday evenings and Saturday mornings. \nAll services – Shabbat evenings and mornings – can also be accessed over StreamSpot by clicking here. \nThe StreamSpot platform allows you to log-on before Shabbat/the festival begins\, and keep the stream running untouched for the duration of Shabbat.
URL:https://theshaar.ca/event/kabbalat-shabbat-welcoming-shabbat-services-6/2024-03-15/
LOCATION:The Shaar\, 1981 Oxford St\, Halifax\, NS\, B3H 4A4\, Canada
CATEGORIES:Services
GEO:44.6442349;-63.599906
X-APPLE-STRUCTURED-LOCATION;VALUE=URI;X-ADDRESS=The Shaar 1981 Oxford St Halifax NS B3H 4A4 Canada;X-APPLE-RADIUS=500;X-TITLE=1981 Oxford St:geo:-63.599906,44.6442349
END:VEVENT
BEGIN:VEVENT
DTSTART;TZID=America/Halifax:20231110T173000
DTEND;TZID=America/Halifax:20231110T183000
DTSTAMP:20260425T170624
CREATED:20230907T144204Z
LAST-MODIFIED:20230907T144204Z
UID:11690-1699637400-1699641000@theshaar.ca
SUMMARY:Kabbalat Shabbat - Welcoming Shabbat Services
DESCRIPTION:Please join us in person for services on Friday evenings and Saturday mornings. \nAll services – Shabbat evenings and mornings – can also be accessed over StreamSpot by clicking here. \nThe StreamSpot platform allows you to log-on before Shabbat/the festival begins\, and keep the stream running untouched for the duration of Shabbat.
URL:https://theshaar.ca/event/kabbalat-shabbat-welcoming-shabbat-services-5/2023-11-10/
LOCATION:The Shaar\, 1981 Oxford St\, Halifax\, NS\, B3H 4A4\, Canada
CATEGORIES:Services
GEO:44.6442349;-63.599906
X-APPLE-STRUCTURED-LOCATION;VALUE=URI;X-ADDRESS=The Shaar 1981 Oxford St Halifax NS B3H 4A4 Canada;X-APPLE-RADIUS=500;X-TITLE=1981 Oxford St:geo:-63.599906,44.6442349
END:VEVENT
BEGIN:VEVENT
DTSTART;TZID=America/Halifax:20231008T091500
DTEND;TZID=America/Halifax:20231008T233000
DTSTAMP:20260425T170624
CREATED:20230906T201342Z
LAST-MODIFIED:20230906T225406Z
UID:11586-1696756500-1696807800@theshaar.ca
SUMMARY:Simchat Torah Morning Service with Special Torah Honours
DESCRIPTION:Please join us for Simchat Torah morning service with special Torah honours in person or over StreamSpot by clicking here. \nThe StreamSpot platform allows you to log-on before Shabbat/the festival begins\, and keep the stream running untouched for the duration of Shabbat.
URL:https://theshaar.ca/event/simchat-torah-morning-service-with-special-torah-honours/
LOCATION:The Shaar\, 1981 Oxford St\, Halifax\, NS\, B3H 4A4\, Canada
CATEGORIES:Services
GEO:44.6442349;-63.599906
X-APPLE-STRUCTURED-LOCATION;VALUE=URI;X-ADDRESS=The Shaar 1981 Oxford St Halifax NS B3H 4A4 Canada;X-APPLE-RADIUS=500;X-TITLE=1981 Oxford St:geo:-63.599906,44.6442349
END:VEVENT
BEGIN:VEVENT
DTSTART;TZID=America/Halifax:20231007T190000
DTEND;TZID=America/Halifax:20231007T203000
DTSTAMP:20260425T170624
CREATED:20230906T200532Z
LAST-MODIFIED:20230906T200854Z
UID:11583-1696705200-1696710600@theshaar.ca
SUMMARY:Erev Simchat Torah (with children's procession)
DESCRIPTION:Please join us for Erev Simchat Torah with the children’s procession in person or over StreamSpot by clicking here. \nThe StreamSpot platform allows you to log-on before Shabbat/the festival begins\, and keep the stream running untouched for the duration of Shabbat.
URL:https://theshaar.ca/event/erev-simhat-torah-with-childrens-procession/
LOCATION:The Shaar\, 1981 Oxford St\, Halifax\, NS\, B3H 4A4\, Canada
CATEGORIES:Services
GEO:44.6442349;-63.599906
X-APPLE-STRUCTURED-LOCATION;VALUE=URI;X-ADDRESS=The Shaar 1981 Oxford St Halifax NS B3H 4A4 Canada;X-APPLE-RADIUS=500;X-TITLE=1981 Oxford St:geo:-63.599906,44.6442349
END:VEVENT
BEGIN:VEVENT
DTSTART;TZID=America/Halifax:20231001T091500
DTEND;TZID=America/Halifax:20231001T113000
DTSTAMP:20260425T170624
CREATED:20230906T195357Z
LAST-MODIFIED:20230906T195357Z
UID:11576-1696151700-1696159800@theshaar.ca
SUMMARY:Sukkot Day 2 Service
DESCRIPTION:Please join us for Day 2 Sukkot service in person or over StreamSpot by clicking here. \nThe StreamSpot platform allows you to log-on before Shabbat/the festival begins\, and keep the stream running untouched for the duration of Shabbat.
URL:https://theshaar.ca/event/sukkot-day-2-service/
LOCATION:The Shaar\, 1981 Oxford St\, Halifax\, NS\, B3H 4A4\, Canada
CATEGORIES:Services
GEO:44.6442349;-63.599906
X-APPLE-STRUCTURED-LOCATION;VALUE=URI;X-ADDRESS=The Shaar 1981 Oxford St Halifax NS B3H 4A4 Canada;X-APPLE-RADIUS=500;X-TITLE=1981 Oxford St:geo:-63.599906,44.6442349
END:VEVENT
BEGIN:VEVENT
DTSTART;TZID=America/Halifax:20230925T173000
DTEND;TZID=America/Halifax:20230925T213000
DTSTAMP:20260425T170624
CREATED:20230906T193700Z
LAST-MODIFIED:20230906T225153Z
UID:11567-1695663000-1695677400@theshaar.ca
SUMMARY:Yom Kippur Minchah & Neilah
DESCRIPTION:Please join us for Yom Kippur Minchah and Neilah service in person or over StreamSpot by clicking here. The Shofar will sound at 7:50pm.\n \nThe StreamSpot platform allows you to log-on before Shabbat/the festival begins\, and keep the stream running untouched for the duration of Shabbat.
URL:https://theshaar.ca/event/yom-kippur-minhah-neilah-2/
LOCATION:The Shaar\, 1981 Oxford St\, Halifax\, NS\, B3H 4A4\, Canada
CATEGORIES:Services
GEO:44.6442349;-63.599906
X-APPLE-STRUCTURED-LOCATION;VALUE=URI;X-ADDRESS=The Shaar 1981 Oxford St Halifax NS B3H 4A4 Canada;X-APPLE-RADIUS=500;X-TITLE=1981 Oxford St:geo:-63.599906,44.6442349
END:VEVENT
BEGIN:VEVENT
DTSTART;TZID=America/Halifax:20230925T090000
DTEND;TZID=America/Halifax:20230925T130000
DTSTAMP:20260425T170624
CREATED:20230906T193400Z
LAST-MODIFIED:20230906T193400Z
UID:11565-1695632400-1695646800@theshaar.ca
SUMMARY:Yom Kippur Morning Service
DESCRIPTION:  \nPlease join us for Yom Kippur morning service in person or over StreamSpot by clicking here. \nThe StreamSpot platform allows you to log-on before Shabbat/the festival begins\, and keep the stream running untouched for the duration of Shabbat.
URL:https://theshaar.ca/event/yom-kippur-morning-service/
LOCATION:The Shaar\, 1981 Oxford St\, Halifax\, NS\, B3H 4A4\, Canada
CATEGORIES:Services
GEO:44.6442349;-63.599906
X-APPLE-STRUCTURED-LOCATION;VALUE=URI;X-ADDRESS=The Shaar 1981 Oxford St Halifax NS B3H 4A4 Canada;X-APPLE-RADIUS=500;X-TITLE=1981 Oxford St:geo:-63.599906,44.6442349
END:VEVENT
BEGIN:VEVENT
DTSTART;TZID=America/Halifax:20230924T182000
DTEND;TZID=America/Halifax:20230924T210000
DTSTAMP:20260425T170624
CREATED:20230906T193122Z
LAST-MODIFIED:20230906T193122Z
UID:11563-1695579600-1695589200@theshaar.ca
SUMMARY:Kol Nidrei
DESCRIPTION:  \n \n  \nPlease join us for Kol Nidrei service in person or over StreamSpot by clicking here. Music begins at 6:20pm and services at 6:40pm.\n \nThe StreamSpot platform allows you to log-on before Shabbat/the festival begins\, and keep the stream running untouched for the duration of Shabbat.
URL:https://theshaar.ca/event/kol-nidrei-6/
LOCATION:The Shaar\, 1981 Oxford St\, Halifax\, NS\, B3H 4A4\, Canada
CATEGORIES:Services
GEO:44.6442349;-63.599906
X-APPLE-STRUCTURED-LOCATION;VALUE=URI;X-ADDRESS=The Shaar 1981 Oxford St Halifax NS B3H 4A4 Canada;X-APPLE-RADIUS=500;X-TITLE=1981 Oxford St:geo:-63.599906,44.6442349
END:VEVENT
BEGIN:VEVENT
DTSTART;TZID=America/Halifax:20230909T210000
DTEND;TZID=America/Halifax:20230909T220000
DTSTAMP:20260425T170624
CREATED:20230906T184951Z
LAST-MODIFIED:20230906T192430Z
UID:11554-1694293200-1694296800@theshaar.ca
SUMMARY:Selihot Service
DESCRIPTION:Now that we’re in the month of Elul\, preceding the Tishrei High Holidays\, we begin to prepare ourselves spiritually and ethically for this Season of Repentance. Join us on Saturday night\, September 9 at 9:00\, as we usher in the final countdown to the Yamim haNora’im (the “Days of Awe”) with our yearly Seliḥot (“Penitential”) service. This year we have the good fortune to attend in-person\, or to participate remotely over StreamSpot. \nSeliḥot is a ideal way to get into the mood of these “Days of Awe\,” as well as refamiliarize ourselves with some of the beautiful High Holiday melodies we’ll soon sing together on Rosh haShanah and Yom Kippur in synagogue
URL:https://theshaar.ca/event/selihot-service-2/
LOCATION:The Shaar\, 1981 Oxford St\, Halifax\, NS\, B3H 4A4\, Canada
CATEGORIES:Services
GEO:44.6442349;-63.599906
X-APPLE-STRUCTURED-LOCATION;VALUE=URI;X-ADDRESS=The Shaar 1981 Oxford St Halifax NS B3H 4A4 Canada;X-APPLE-RADIUS=500;X-TITLE=1981 Oxford St:geo:-63.599906,44.6442349
END:VEVENT
BEGIN:VEVENT
DTSTART;TZID=America/Halifax:20230527T103000
DTEND;TZID=America/Halifax:20230527T113000
DTSTAMP:20260425T170624
CREATED:20230501T211644Z
LAST-MODIFIED:20230501T211853Z
UID:10743-1685183400-1685187000@theshaar.ca
SUMMARY:Jr. Congregation
DESCRIPTION:All Hebrew School aged kids are welcome to join on the last Saturday of the month at 10:30 am for a youth-focused Shabbat service. All our kids will have an opportunity to experience\, learn and lead different parts of Shabbat services alongside community leaders. And of course\, following the tefillah we will have our regular nationally famous kiddush for everyone. 
URL:https://theshaar.ca/event/jr-congregation-2/
LOCATION:The Shaar\, 1981 Oxford St\, Halifax\, NS\, B3H 4A4\, Canada
CATEGORIES:Services
ATTACH;FMTTYPE=image/png:/wp-content/uploads/2023/03/Junior-Congregation-2.png
GEO:44.6442349;-63.599906
X-APPLE-STRUCTURED-LOCATION;VALUE=URI;X-ADDRESS=The Shaar 1981 Oxford St Halifax NS B3H 4A4 Canada;X-APPLE-RADIUS=500;X-TITLE=1981 Oxford St:geo:-63.599906,44.6442349
END:VEVENT
BEGIN:VEVENT
DTSTART;TZID=America/Halifax:20230429T103000
DTEND;TZID=America/Halifax:20230429T233000
DTSTAMP:20260425T170624
CREATED:20230428T205512Z
LAST-MODIFIED:20230428T205726Z
UID:10684-1682764200-1682811000@theshaar.ca
SUMMARY:Jr. Congregation
DESCRIPTION:All Hebrew School aged kids are welcome to join on the last Saturday of the month at 10:30 am for a youth-focused Shabbat service. All our kids will have an opportunity to experience\, learn and lead different parts of Shabbat services alongside community leaders. And of course\, following the tefillah we will have our regular nationally famous kiddush for everyone. 
URL:https://theshaar.ca/event/jr-congregation/
LOCATION:The Shaar\, 1981 Oxford St\, Halifax\, NS\, B3H 4A4\, Canada
CATEGORIES:Services
ATTACH;FMTTYPE=image/png:/wp-content/uploads/2023/03/Junior-Congregation-2.png
GEO:44.6442349;-63.599906
X-APPLE-STRUCTURED-LOCATION;VALUE=URI;X-ADDRESS=The Shaar 1981 Oxford St Halifax NS B3H 4A4 Canada;X-APPLE-RADIUS=500;X-TITLE=1981 Oxford St:geo:-63.599906,44.6442349
END:VEVENT
BEGIN:VEVENT
DTSTART;TZID=America/Halifax:20230317T180000
DTEND;TZID=America/Halifax:20230317T190000
DTSTAMP:20260425T170624
CREATED:20230312T162441Z
LAST-MODIFIED:20230312T162441Z
UID:10553-1679076000-1679079600@theshaar.ca
SUMMARY:Kabbalat Shabbat – Welcoming Shabbat Services
DESCRIPTION:Please join us in person for services on Friday evenings and Saturday mornings. \nAll services – Shabbat evenings and mornings – can also be accessed over StreamSpot by clicking here. \nThe StreamSpot platform allows you to log-on before Shabbat/the festival begins\, and keep the stream running untouched for the duration of Shabbat.
URL:https://theshaar.ca/event/kabbalat-shabbat-welcoming-shabbat-services-4/2023-03-17/
LOCATION:The Shaar\, 1981 Oxford St\, Halifax\, NS\, B3H 4A4\, Canada
CATEGORIES:Services
GEO:44.6442349;-63.599906
X-APPLE-STRUCTURED-LOCATION;VALUE=URI;X-ADDRESS=The Shaar 1981 Oxford St Halifax NS B3H 4A4 Canada;X-APPLE-RADIUS=500;X-TITLE=1981 Oxford St:geo:-63.599906,44.6442349
END:VEVENT
BEGIN:VEVENT
DTSTART;TZID=America/Halifax:20221223T170000
DTEND;TZID=America/Halifax:20221223T180000
DTSTAMP:20260425T170624
CREATED:20221103T141954Z
LAST-MODIFIED:20221212T225652Z
UID:10306-1671814800-1671818400@theshaar.ca
SUMMARY:Kabbalat Shabbat - Welcoming Shabbat Services
DESCRIPTION:Please join us in person for an early Kabbalat Shabbat service this Friday evening. \nAll services – Shabbat evenings and mornings – can also be accessed over StreamSpot by clicking here. \nThe StreamSpot platform allows you to log-on before Shabbat/the festival begins\, and keep the stream running untouched for the duration of Shabbat.
URL:https://theshaar.ca/event/kabbalat-shabbat-welcoming-shabbat-services-2022-12-23/
LOCATION:The Shaar\, 1981 Oxford St\, Halifax\, NS\, B3H 4A4\, Canada
CATEGORIES:Services
GEO:44.6442349;-63.599906
X-APPLE-STRUCTURED-LOCATION;VALUE=URI;X-ADDRESS=The Shaar 1981 Oxford St Halifax NS B3H 4A4 Canada;X-APPLE-RADIUS=500;X-TITLE=1981 Oxford St:geo:-63.599906,44.6442349
END:VEVENT
BEGIN:VEVENT
DTSTART;TZID=America/Halifax:20221111T173000
DTEND;TZID=America/Halifax:20221111T183000
DTSTAMP:20260425T170624
CREATED:20221103T141954Z
LAST-MODIFIED:20221103T142150Z
UID:10294-1668187800-1668191400@theshaar.ca
SUMMARY:Kabbalat Shabbat - Welcoming Shabbat Services
DESCRIPTION:Please join us in person for services on Friday evenings and Saturday mornings. \nAll services – Shabbat evenings and mornings – can also be accessed over StreamSpot by clicking here. \nThe StreamSpot platform allows you to log-on before Shabbat/the festival begins\, and keep the stream running untouched for the duration of Shabbat.
URL:https://theshaar.ca/event/kabbalat-shabbat-welcoming-shabbat-services/2022-11-11/
LOCATION:The Shaar\, 1981 Oxford St\, Halifax\, NS\, B3H 4A4\, Canada
CATEGORIES:Services
GEO:44.6442349;-63.599906
X-APPLE-STRUCTURED-LOCATION;VALUE=URI;X-ADDRESS=The Shaar 1981 Oxford St Halifax NS B3H 4A4 Canada;X-APPLE-RADIUS=500;X-TITLE=1981 Oxford St:geo:-63.599906,44.6442349
END:VEVENT
BEGIN:VEVENT
DTSTART;TZID=America/Halifax:20221018T091500
DTEND;TZID=America/Halifax:20221018T130000
DTSTAMP:20260425T170624
CREATED:20220915T173716Z
LAST-MODIFIED:20220916T191624Z
UID:10234-1666084500-1666098000@theshaar.ca
SUMMARY:Simchat Torah morning
DESCRIPTION:
URL:https://theshaar.ca/event/simhat-torah-morning/
LOCATION:The Shaar\, 1981 Oxford St\, Halifax\, NS\, B3H 4A4\, Canada
CATEGORIES:Services
GEO:44.6442349;-63.599906
X-APPLE-STRUCTURED-LOCATION;VALUE=URI;X-ADDRESS=The Shaar 1981 Oxford St Halifax NS B3H 4A4 Canada;X-APPLE-RADIUS=500;X-TITLE=1981 Oxford St:geo:-63.599906,44.6442349
END:VEVENT
BEGIN:VEVENT
DTSTART;TZID=America/Halifax:20221017T180000
DTEND;TZID=America/Halifax:20221017T193000
DTSTAMP:20260425T170624
CREATED:20220916T190117Z
LAST-MODIFIED:20220916T190117Z
UID:10251-1666029600-1666035000@theshaar.ca
SUMMARY:Erev Simchat Torah (Children's Procession)
DESCRIPTION:
URL:https://theshaar.ca/event/erev-simchat-torah-childrens-procession/
LOCATION:The Shaar\, 1981 Oxford St\, Halifax\, NS\, B3H 4A4\, Canada
CATEGORIES:Services
GEO:44.6442349;-63.599906
X-APPLE-STRUCTURED-LOCATION;VALUE=URI;X-ADDRESS=The Shaar 1981 Oxford St Halifax NS B3H 4A4 Canada;X-APPLE-RADIUS=500;X-TITLE=1981 Oxford St:geo:-63.599906,44.6442349
END:VEVENT
BEGIN:VEVENT
DTSTART;TZID=America/Halifax:20221017T091500
DTEND;TZID=America/Halifax:20221017T113000
DTSTAMP:20260425T170624
CREATED:20220916T185941Z
LAST-MODIFIED:20220916T185941Z
UID:10249-1665998100-1666006200@theshaar.ca
SUMMARY:Shemini Atzeret
DESCRIPTION:
URL:https://theshaar.ca/event/shemini-atzeret-2/
LOCATION:The Shaar\, 1981 Oxford St\, Halifax\, NS\, B3H 4A4\, Canada
CATEGORIES:Services
GEO:44.6442349;-63.599906
X-APPLE-STRUCTURED-LOCATION;VALUE=URI;X-ADDRESS=The Shaar 1981 Oxford St Halifax NS B3H 4A4 Canada;X-APPLE-RADIUS=500;X-TITLE=1981 Oxford St:geo:-63.599906,44.6442349
END:VEVENT
BEGIN:VEVENT
DTSTART;TZID=America/Halifax:20221016T180000
DTEND;TZID=America/Halifax:20221016T190000
DTSTAMP:20260425T170624
CREATED:20220916T185819Z
LAST-MODIFIED:20220916T185819Z
UID:10247-1665943200-1665946800@theshaar.ca
SUMMARY:Erev Shemini Atzeret
DESCRIPTION:
URL:https://theshaar.ca/event/erev-shemini-atzeret-2/
LOCATION:The Shaar\, 1981 Oxford St\, Halifax\, NS\, B3H 4A4\, Canada
CATEGORIES:Services
GEO:44.6442349;-63.599906
X-APPLE-STRUCTURED-LOCATION;VALUE=URI;X-ADDRESS=The Shaar 1981 Oxford St Halifax NS B3H 4A4 Canada;X-APPLE-RADIUS=500;X-TITLE=1981 Oxford St:geo:-63.599906,44.6442349
END:VEVENT
BEGIN:VEVENT
DTSTART;TZID=America/Halifax:20221011T091500
DTEND;TZID=America/Halifax:20221011T130000
DTSTAMP:20260425T170624
CREATED:20220915T173613Z
LAST-MODIFIED:20220916T190548Z
UID:10232-1665479700-1665493200@theshaar.ca
SUMMARY:Sukkot Day 2
DESCRIPTION:
URL:https://theshaar.ca/event/sukkot-day-2-5/
LOCATION:The Shaar\, 1981 Oxford St\, Halifax\, NS\, B3H 4A4\, Canada
CATEGORIES:Services
GEO:44.6442349;-63.599906
X-APPLE-STRUCTURED-LOCATION;VALUE=URI;X-ADDRESS=The Shaar 1981 Oxford St Halifax NS B3H 4A4 Canada;X-APPLE-RADIUS=500;X-TITLE=1981 Oxford St:geo:-63.599906,44.6442349
END:VEVENT
BEGIN:VEVENT
DTSTART;TZID=America/Halifax:20221010T091500
DTEND;TZID=America/Halifax:20221010T130000
DTSTAMP:20260425T170624
CREATED:20220915T173532Z
LAST-MODIFIED:20220916T190813Z
UID:10230-1665393300-1665406800@theshaar.ca
SUMMARY:Sukkot Day 1
DESCRIPTION:
URL:https://theshaar.ca/event/sukkot-day-1-5/
LOCATION:The Shaar\, 1981 Oxford St\, Halifax\, NS\, B3H 4A4\, Canada
CATEGORIES:Services
GEO:44.6442349;-63.599906
X-APPLE-STRUCTURED-LOCATION;VALUE=URI;X-ADDRESS=The Shaar 1981 Oxford St Halifax NS B3H 4A4 Canada;X-APPLE-RADIUS=500;X-TITLE=1981 Oxford St:geo:-63.599906,44.6442349
END:VEVENT
BEGIN:VEVENT
DTSTART;TZID=America/Halifax:20221009T180000
DTEND;TZID=America/Halifax:20221009T200000
DTSTAMP:20260425T170624
CREATED:20220915T173445Z
LAST-MODIFIED:20220916T190902Z
UID:10228-1665338400-1665345600@theshaar.ca
SUMMARY:Erev Sukkot
DESCRIPTION:
URL:https://theshaar.ca/event/erev-sukkot-3/
LOCATION:The Shaar\, 1981 Oxford St\, Halifax\, NS\, B3H 4A4\, Canada
CATEGORIES:Services
GEO:44.6442349;-63.599906
X-APPLE-STRUCTURED-LOCATION;VALUE=URI;X-ADDRESS=The Shaar 1981 Oxford St Halifax NS B3H 4A4 Canada;X-APPLE-RADIUS=500;X-TITLE=1981 Oxford St:geo:-63.599906,44.6442349
END:VEVENT
BEGIN:VEVENT
DTSTART;TZID=America/Halifax:20221005T171500
DTEND;TZID=America/Halifax:20221005T210000
DTSTAMP:20260425T170624
CREATED:20220915T173316Z
LAST-MODIFIED:20220916T190951Z
UID:10226-1664990100-1665003600@theshaar.ca
SUMMARY:You Kippur Minhah & Neilah
DESCRIPTION:
URL:https://theshaar.ca/event/you-kippur-minhah-neilah/
LOCATION:The Shaar\, 1981 Oxford St\, Halifax\, NS\, B3H 4A4\, Canada
CATEGORIES:Services
GEO:44.6442349;-63.599906
X-APPLE-STRUCTURED-LOCATION;VALUE=URI;X-ADDRESS=The Shaar 1981 Oxford St Halifax NS B3H 4A4 Canada;X-APPLE-RADIUS=500;X-TITLE=1981 Oxford St:geo:-63.599906,44.6442349
END:VEVENT
BEGIN:VEVENT
DTSTART;TZID=America/Halifax:20221005T090000
DTEND;TZID=America/Halifax:20221005T130000
DTSTAMP:20260425T170624
CREATED:20220915T173206Z
LAST-MODIFIED:20220916T191026Z
UID:10224-1664960400-1664974800@theshaar.ca
SUMMARY:Yom Kippur morning
DESCRIPTION:
URL:https://theshaar.ca/event/yom-kippur-morning-3/
LOCATION:The Shaar\, 1981 Oxford St\, Halifax\, NS\, B3H 4A4\, Canada
CATEGORIES:Services
GEO:44.6442349;-63.599906
X-APPLE-STRUCTURED-LOCATION;VALUE=URI;X-ADDRESS=The Shaar 1981 Oxford St Halifax NS B3H 4A4 Canada;X-APPLE-RADIUS=500;X-TITLE=1981 Oxford St:geo:-63.599906,44.6442349
END:VEVENT
BEGIN:VEVENT
DTSTART;TZID=America/Halifax:20221004T180000
DTEND;TZID=America/Halifax:20221004T200000
DTSTAMP:20260425T170624
CREATED:20220915T173104Z
LAST-MODIFIED:20220916T191110Z
UID:10222-1664906400-1664913600@theshaar.ca
SUMMARY:Kol Nidrei
DESCRIPTION:
URL:https://theshaar.ca/event/kol-nidrei-5/
LOCATION:The Shaar\, 1981 Oxford St\, Halifax\, NS\, B3H 4A4\, Canada
CATEGORIES:Services
GEO:44.6442349;-63.599906
X-APPLE-STRUCTURED-LOCATION;VALUE=URI;X-ADDRESS=The Shaar 1981 Oxford St Halifax NS B3H 4A4 Canada;X-APPLE-RADIUS=500;X-TITLE=1981 Oxford St:geo:-63.599906,44.6442349
END:VEVENT
BEGIN:VEVENT
DTSTART;TZID=America/Halifax:20220927T090000
DTEND;TZID=America/Halifax:20220927T130000
DTSTAMP:20260425T170624
CREATED:20220915T173010Z
LAST-MODIFIED:20220916T191152Z
UID:10220-1664269200-1664283600@theshaar.ca
SUMMARY:Rosh haShanah Day 2
DESCRIPTION:
URL:https://theshaar.ca/event/rosh-hashanah-day-2-5/
LOCATION:The Shaar\, 1981 Oxford St\, Halifax\, NS\, B3H 4A4\, Canada
CATEGORIES:Services
GEO:44.6442349;-63.599906
X-APPLE-STRUCTURED-LOCATION;VALUE=URI;X-ADDRESS=The Shaar 1981 Oxford St Halifax NS B3H 4A4 Canada;X-APPLE-RADIUS=500;X-TITLE=1981 Oxford St:geo:-63.599906,44.6442349
END:VEVENT
BEGIN:VEVENT
DTSTART;TZID=America/Halifax:20220926T163000
DTEND;TZID=America/Halifax:20220926T183000
DTSTAMP:20260425T170624
CREATED:20220915T172850Z
LAST-MODIFIED:20220916T191307Z
UID:10218-1664209800-1664217000@theshaar.ca
SUMMARY:Tashlikh (+Shofar & Minhah\, Bishop's Landing)
DESCRIPTION:
URL:https://theshaar.ca/event/tashlikh-shofar-minhah-bishops-landing/
LOCATION:The Shaar\, 1981 Oxford St\, Halifax\, NS\, B3H 4A4\, Canada
CATEGORIES:Services
GEO:44.6442349;-63.599906
X-APPLE-STRUCTURED-LOCATION;VALUE=URI;X-ADDRESS=The Shaar 1981 Oxford St Halifax NS B3H 4A4 Canada;X-APPLE-RADIUS=500;X-TITLE=1981 Oxford St:geo:-63.599906,44.6442349
END:VEVENT
END:VCALENDAR