BEGIN:VCALENDAR
VERSION:2.0
PRODID:-//Shaar Shalom Synagogue - ECPv6.15.20//NONSGML v1.0//EN
CALSCALE:GREGORIAN
METHOD:PUBLISH
X-WR-CALNAME:Shaar Shalom Synagogue
X-ORIGINAL-URL:https://theshaar.ca
X-WR-CALDESC:Events for Shaar Shalom Synagogue
REFRESH-INTERVAL;VALUE=DURATION:PT1H
X-Robots-Tag:noindex
X-PUBLISHED-TTL:PT1H
BEGIN:VTIMEZONE
TZID:America/Halifax
BEGIN:DAYLIGHT
TZOFFSETFROM:-0400
TZOFFSETTO:-0300
TZNAME:ADT
DTSTART:20230312T060000
END:DAYLIGHT
BEGIN:STANDARD
TZOFFSETFROM:-0300
TZOFFSETTO:-0400
TZNAME:AST
DTSTART:20231105T050000
END:STANDARD
BEGIN:DAYLIGHT
TZOFFSETFROM:-0400
TZOFFSETTO:-0300
TZNAME:ADT
DTSTART:20240310T060000
END:DAYLIGHT
BEGIN:STANDARD
TZOFFSETFROM:-0300
TZOFFSETTO:-0400
TZNAME:AST
DTSTART:20241103T050000
END:STANDARD
BEGIN:DAYLIGHT
TZOFFSETFROM:-0400
TZOFFSETTO:-0300
TZNAME:ADT
DTSTART:20250309T060000
END:DAYLIGHT
BEGIN:STANDARD
TZOFFSETFROM:-0300
TZOFFSETTO:-0400
TZNAME:AST
DTSTART:20251102T050000
END:STANDARD
BEGIN:DAYLIGHT
TZOFFSETFROM:-0400
TZOFFSETTO:-0300
TZNAME:ADT
DTSTART:20260308T060000
END:DAYLIGHT
BEGIN:STANDARD
TZOFFSETFROM:-0300
TZOFFSETTO:-0400
TZNAME:AST
DTSTART:20261101T050000
END:STANDARD
END:VTIMEZONE
BEGIN:VEVENT
DTSTART;TZID=America/Halifax:20250125T091500
DTEND;TZID=America/Halifax:20250125T113000
DTSTAMP:20260424T151729
CREATED:20200730T203714Z
LAST-MODIFIED:20260203T180319Z
UID:10531-1737796500-1737804600@theshaar.ca
SUMMARY:Shabbat Morning Services
DESCRIPTION:All services – Shabbat evenings and mornings – can also be accessed over StreamSpot by clicking here. \nThe StreamSpot platform allows you to log-on before Shabbat/the festival begins\, and keep the stream running untouched for the duration of Shabbat.
URL:https://theshaar.ca/event/shabbat-morning-services-3/2025-01-25/
LOCATION:The Shaar\, 1981 Oxford St\, Halifax\, NS\, B3H 4A4\, Canada
CATEGORIES:Services
GEO:44.6442349;-63.599906
X-APPLE-STRUCTURED-LOCATION;VALUE=URI;X-ADDRESS=The Shaar 1981 Oxford St Halifax NS B3H 4A4 Canada;X-APPLE-RADIUS=500;X-TITLE=1981 Oxford St:geo:-63.599906,44.6442349
END:VEVENT
BEGIN:VEVENT
DTSTART;TZID=America/Halifax:20250124T173000
DTEND;TZID=America/Halifax:20250124T183000
DTSTAMP:20260424T151729
CREATED:20240625T163211Z
LAST-MODIFIED:20240625T163756Z
UID:12163-1737739800-1737743400@theshaar.ca
SUMMARY:Kabbalat Shabbat - Welcoming Shabbat Services
DESCRIPTION:Please join us in person for services on Friday evenings and Saturday mornings. \nAll services – Shabbat evenings and mornings – can also be accessed over StreamSpot by clicking here. \nThe StreamSpot platform allows you to log-on before Shabbat/the festival begins\, and keep the stream running untouched for the duration of Shabbat.
URL:https://theshaar.ca/event/kabbalat-shabbat-welcoming-shabbat-services-7/2025-01-24/
LOCATION:Shaar Shalom Synagogue
CATEGORIES:Services
END:VEVENT
BEGIN:VEVENT
DTSTART;TZID=America/Halifax:20250118T091500
DTEND;TZID=America/Halifax:20250118T113000
DTSTAMP:20260424T151729
CREATED:20200730T203714Z
LAST-MODIFIED:20260203T180318Z
UID:10515-1737191700-1737199800@theshaar.ca
SUMMARY:Shabbat Morning Services
DESCRIPTION:All services – Shabbat evenings and mornings – can also be accessed over StreamSpot by clicking here. \nThe StreamSpot platform allows you to log-on before Shabbat/the festival begins\, and keep the stream running untouched for the duration of Shabbat.
URL:https://theshaar.ca/event/shabbat-morning-services-3/2025-01-18/
LOCATION:The Shaar\, 1981 Oxford St\, Halifax\, NS\, B3H 4A4\, Canada
CATEGORIES:Services
GEO:44.6442349;-63.599906
X-APPLE-STRUCTURED-LOCATION;VALUE=URI;X-ADDRESS=The Shaar 1981 Oxford St Halifax NS B3H 4A4 Canada;X-APPLE-RADIUS=500;X-TITLE=1981 Oxford St:geo:-63.599906,44.6442349
END:VEVENT
BEGIN:VEVENT
DTSTART;TZID=America/Halifax:20250117T173000
DTEND;TZID=America/Halifax:20250117T183000
DTSTAMP:20260424T151729
CREATED:20240625T163211Z
LAST-MODIFIED:20240625T163749Z
UID:12161-1737135000-1737138600@theshaar.ca
SUMMARY:Kabbalat Shabbat - Welcoming Shabbat Services
DESCRIPTION:Please join us in person for services on Friday evenings and Saturday mornings. \nAll services – Shabbat evenings and mornings – can also be accessed over StreamSpot by clicking here. \nThe StreamSpot platform allows you to log-on before Shabbat/the festival begins\, and keep the stream running untouched for the duration of Shabbat.
URL:https://theshaar.ca/event/kabbalat-shabbat-welcoming-shabbat-services-7/2025-01-17/
LOCATION:Shaar Shalom Synagogue
CATEGORIES:Services
END:VEVENT
BEGIN:VEVENT
DTSTART;TZID=America/Halifax:20250111T091500
DTEND;TZID=America/Halifax:20250111T113000
DTSTAMP:20260424T151729
CREATED:20200730T203714Z
LAST-MODIFIED:20260203T180318Z
UID:10514-1736586900-1736595000@theshaar.ca
SUMMARY:Shabbat Morning Services
DESCRIPTION:All services – Shabbat evenings and mornings – can also be accessed over StreamSpot by clicking here. \nThe StreamSpot platform allows you to log-on before Shabbat/the festival begins\, and keep the stream running untouched for the duration of Shabbat.
URL:https://theshaar.ca/event/shabbat-morning-services-3/2025-01-11/
LOCATION:The Shaar\, 1981 Oxford St\, Halifax\, NS\, B3H 4A4\, Canada
CATEGORIES:Services
GEO:44.6442349;-63.599906
X-APPLE-STRUCTURED-LOCATION;VALUE=URI;X-ADDRESS=The Shaar 1981 Oxford St Halifax NS B3H 4A4 Canada;X-APPLE-RADIUS=500;X-TITLE=1981 Oxford St:geo:-63.599906,44.6442349
END:VEVENT
BEGIN:VEVENT
DTSTART;TZID=America/Halifax:20250110T173000
DTEND;TZID=America/Halifax:20250110T183000
DTSTAMP:20260424T151729
CREATED:20240625T163211Z
LAST-MODIFIED:20240625T163748Z
UID:12160-1736530200-1736533800@theshaar.ca
SUMMARY:Kabbalat Shabbat - Welcoming Shabbat Services
DESCRIPTION:Please join us in person for services on Friday evenings and Saturday mornings. \nAll services – Shabbat evenings and mornings – can also be accessed over StreamSpot by clicking here. \nThe StreamSpot platform allows you to log-on before Shabbat/the festival begins\, and keep the stream running untouched for the duration of Shabbat.
URL:https://theshaar.ca/event/kabbalat-shabbat-welcoming-shabbat-services-7/2025-01-10/
LOCATION:Shaar Shalom Synagogue
CATEGORIES:Services
END:VEVENT
BEGIN:VEVENT
DTSTART;TZID=America/Halifax:20250104T091500
DTEND;TZID=America/Halifax:20250104T113000
DTSTAMP:20260424T151729
CREATED:20200730T203714Z
LAST-MODIFIED:20260203T180317Z
UID:10507-1735982100-1735990200@theshaar.ca
SUMMARY:Shabbat Morning Services
DESCRIPTION:All services – Shabbat evenings and mornings – can also be accessed over StreamSpot by clicking here. \nThe StreamSpot platform allows you to log-on before Shabbat/the festival begins\, and keep the stream running untouched for the duration of Shabbat.
URL:https://theshaar.ca/event/shabbat-morning-services-3/2025-01-04/
LOCATION:The Shaar\, 1981 Oxford St\, Halifax\, NS\, B3H 4A4\, Canada
CATEGORIES:Services
GEO:44.6442349;-63.599906
X-APPLE-STRUCTURED-LOCATION;VALUE=URI;X-ADDRESS=The Shaar 1981 Oxford St Halifax NS B3H 4A4 Canada;X-APPLE-RADIUS=500;X-TITLE=1981 Oxford St:geo:-63.599906,44.6442349
END:VEVENT
BEGIN:VEVENT
DTSTART;TZID=America/Halifax:20250103T173000
DTEND;TZID=America/Halifax:20250103T183000
DTSTAMP:20260424T151729
CREATED:20240625T163211Z
LAST-MODIFIED:20240625T163748Z
UID:12159-1735925400-1735929000@theshaar.ca
SUMMARY:Kabbalat Shabbat - Welcoming Shabbat Services
DESCRIPTION:Please join us in person for services on Friday evenings and Saturday mornings. \nAll services – Shabbat evenings and mornings – can also be accessed over StreamSpot by clicking here. \nThe StreamSpot platform allows you to log-on before Shabbat/the festival begins\, and keep the stream running untouched for the duration of Shabbat.
URL:https://theshaar.ca/event/kabbalat-shabbat-welcoming-shabbat-services-7/2025-01-03/
LOCATION:Shaar Shalom Synagogue
CATEGORIES:Services
END:VEVENT
BEGIN:VEVENT
DTSTART;TZID=America/Halifax:20241228T091500
DTEND;TZID=America/Halifax:20241228T113000
DTSTAMP:20260424T151729
CREATED:20200730T203714Z
LAST-MODIFIED:20260203T180317Z
UID:10481-1735377300-1735385400@theshaar.ca
SUMMARY:Shabbat Morning Services
DESCRIPTION:All services – Shabbat evenings and mornings – can also be accessed over StreamSpot by clicking here. \nThe StreamSpot platform allows you to log-on before Shabbat/the festival begins\, and keep the stream running untouched for the duration of Shabbat.
URL:https://theshaar.ca/event/shabbat-morning-services-3/2024-12-28/
LOCATION:The Shaar\, 1981 Oxford St\, Halifax\, NS\, B3H 4A4\, Canada
CATEGORIES:Services
GEO:44.6442349;-63.599906
X-APPLE-STRUCTURED-LOCATION;VALUE=URI;X-ADDRESS=The Shaar 1981 Oxford St Halifax NS B3H 4A4 Canada;X-APPLE-RADIUS=500;X-TITLE=1981 Oxford St:geo:-63.599906,44.6442349
END:VEVENT
BEGIN:VEVENT
DTSTART;TZID=America/Halifax:20241227T173000
DTEND;TZID=America/Halifax:20241227T183000
DTSTAMP:20260424T151729
CREATED:20240625T163211Z
LAST-MODIFIED:20240625T163748Z
UID:12158-1735320600-1735324200@theshaar.ca
SUMMARY:Kabbalat Shabbat - Welcoming Shabbat Services
DESCRIPTION:Please join us in person for services on Friday evenings and Saturday mornings. \nAll services – Shabbat evenings and mornings – can also be accessed over StreamSpot by clicking here. \nThe StreamSpot platform allows you to log-on before Shabbat/the festival begins\, and keep the stream running untouched for the duration of Shabbat.
URL:https://theshaar.ca/event/kabbalat-shabbat-welcoming-shabbat-services-7/2024-12-27/
LOCATION:Shaar Shalom Synagogue
CATEGORIES:Services
END:VEVENT
BEGIN:VEVENT
DTSTART;TZID=America/Halifax:20241221T091500
DTEND;TZID=America/Halifax:20241221T113000
DTSTAMP:20260424T151729
CREATED:20200730T203714Z
LAST-MODIFIED:20260203T180317Z
UID:10475-1734772500-1734780600@theshaar.ca
SUMMARY:Shabbat Morning Services
DESCRIPTION:All services – Shabbat evenings and mornings – can also be accessed over StreamSpot by clicking here. \nThe StreamSpot platform allows you to log-on before Shabbat/the festival begins\, and keep the stream running untouched for the duration of Shabbat.
URL:https://theshaar.ca/event/shabbat-morning-services-3/2024-12-21/
LOCATION:The Shaar\, 1981 Oxford St\, Halifax\, NS\, B3H 4A4\, Canada
CATEGORIES:Services
GEO:44.6442349;-63.599906
X-APPLE-STRUCTURED-LOCATION;VALUE=URI;X-ADDRESS=The Shaar 1981 Oxford St Halifax NS B3H 4A4 Canada;X-APPLE-RADIUS=500;X-TITLE=1981 Oxford St:geo:-63.599906,44.6442349
END:VEVENT
BEGIN:VEVENT
DTSTART;TZID=America/Halifax:20241220T173000
DTEND;TZID=America/Halifax:20241220T183000
DTSTAMP:20260424T151729
CREATED:20240625T163211Z
LAST-MODIFIED:20240625T163747Z
UID:12157-1734715800-1734719400@theshaar.ca
SUMMARY:Kabbalat Shabbat - Welcoming Shabbat Services
DESCRIPTION:Please join us in person for services on Friday evenings and Saturday mornings. \nAll services – Shabbat evenings and mornings – can also be accessed over StreamSpot by clicking here. \nThe StreamSpot platform allows you to log-on before Shabbat/the festival begins\, and keep the stream running untouched for the duration of Shabbat.
URL:https://theshaar.ca/event/kabbalat-shabbat-welcoming-shabbat-services-7/2024-12-20/
LOCATION:Shaar Shalom Synagogue
CATEGORIES:Services
END:VEVENT
BEGIN:VEVENT
DTSTART;TZID=America/Halifax:20241214T091500
DTEND;TZID=America/Halifax:20241214T113000
DTSTAMP:20260424T151729
CREATED:20200730T203714Z
LAST-MODIFIED:20260203T180316Z
UID:10471-1734167700-1734175800@theshaar.ca
SUMMARY:Shabbat Morning Services
DESCRIPTION:All services – Shabbat evenings and mornings – can also be accessed over StreamSpot by clicking here. \nThe StreamSpot platform allows you to log-on before Shabbat/the festival begins\, and keep the stream running untouched for the duration of Shabbat.
URL:https://theshaar.ca/event/shabbat-morning-services-3/2024-12-14/
LOCATION:The Shaar\, 1981 Oxford St\, Halifax\, NS\, B3H 4A4\, Canada
CATEGORIES:Services
GEO:44.6442349;-63.599906
X-APPLE-STRUCTURED-LOCATION;VALUE=URI;X-ADDRESS=The Shaar 1981 Oxford St Halifax NS B3H 4A4 Canada;X-APPLE-RADIUS=500;X-TITLE=1981 Oxford St:geo:-63.599906,44.6442349
END:VEVENT
BEGIN:VEVENT
DTSTART;TZID=America/Halifax:20241213T173000
DTEND;TZID=America/Halifax:20241213T183000
DTSTAMP:20260424T151729
CREATED:20240625T163211Z
LAST-MODIFIED:20240625T163747Z
UID:12156-1734111000-1734114600@theshaar.ca
SUMMARY:Kabbalat Shabbat - Welcoming Shabbat Services
DESCRIPTION:Please join us in person for services on Friday evenings and Saturday mornings. \nAll services – Shabbat evenings and mornings – can also be accessed over StreamSpot by clicking here. \nThe StreamSpot platform allows you to log-on before Shabbat/the festival begins\, and keep the stream running untouched for the duration of Shabbat.
URL:https://theshaar.ca/event/kabbalat-shabbat-welcoming-shabbat-services-7/2024-12-13/
LOCATION:Shaar Shalom Synagogue
CATEGORIES:Services
END:VEVENT
BEGIN:VEVENT
DTSTART;TZID=America/Halifax:20241207T091500
DTEND;TZID=America/Halifax:20241207T113000
DTSTAMP:20260424T151729
CREATED:20200730T203714Z
LAST-MODIFIED:20260203T180314Z
UID:10458-1733562900-1733571000@theshaar.ca
SUMMARY:Shabbat Morning Services
DESCRIPTION:All services – Shabbat evenings and mornings – can also be accessed over StreamSpot by clicking here. \nThe StreamSpot platform allows you to log-on before Shabbat/the festival begins\, and keep the stream running untouched for the duration of Shabbat.
URL:https://theshaar.ca/event/shabbat-morning-services-3/2024-12-07/
LOCATION:The Shaar\, 1981 Oxford St\, Halifax\, NS\, B3H 4A4\, Canada
CATEGORIES:Services
GEO:44.6442349;-63.599906
X-APPLE-STRUCTURED-LOCATION;VALUE=URI;X-ADDRESS=The Shaar 1981 Oxford St Halifax NS B3H 4A4 Canada;X-APPLE-RADIUS=500;X-TITLE=1981 Oxford St:geo:-63.599906,44.6442349
END:VEVENT
BEGIN:VEVENT
DTSTART;TZID=America/Halifax:20241206T173000
DTEND;TZID=America/Halifax:20241206T183000
DTSTAMP:20260424T151729
CREATED:20240625T163211Z
LAST-MODIFIED:20240625T163747Z
UID:12155-1733506200-1733509800@theshaar.ca
SUMMARY:Kabbalat Shabbat - Welcoming Shabbat Services
DESCRIPTION:Please join us in person for services on Friday evenings and Saturday mornings. \nAll services – Shabbat evenings and mornings – can also be accessed over StreamSpot by clicking here. \nThe StreamSpot platform allows you to log-on before Shabbat/the festival begins\, and keep the stream running untouched for the duration of Shabbat.
URL:https://theshaar.ca/event/kabbalat-shabbat-welcoming-shabbat-services-7/2024-12-06/
LOCATION:Shaar Shalom Synagogue
CATEGORIES:Services
END:VEVENT
BEGIN:VEVENT
DTSTART;TZID=America/Halifax:20241130T091500
DTEND;TZID=America/Halifax:20241130T113000
DTSTAMP:20260424T151730
CREATED:20200730T203714Z
LAST-MODIFIED:20260203T180313Z
UID:10454-1732958100-1732966200@theshaar.ca
SUMMARY:Shabbat Morning Services
DESCRIPTION:All services – Shabbat evenings and mornings – can also be accessed over StreamSpot by clicking here. \nThe StreamSpot platform allows you to log-on before Shabbat/the festival begins\, and keep the stream running untouched for the duration of Shabbat.
URL:https://theshaar.ca/event/shabbat-morning-services-3/2024-11-30/
LOCATION:The Shaar\, 1981 Oxford St\, Halifax\, NS\, B3H 4A4\, Canada
CATEGORIES:Services
GEO:44.6442349;-63.599906
X-APPLE-STRUCTURED-LOCATION;VALUE=URI;X-ADDRESS=The Shaar 1981 Oxford St Halifax NS B3H 4A4 Canada;X-APPLE-RADIUS=500;X-TITLE=1981 Oxford St:geo:-63.599906,44.6442349
END:VEVENT
BEGIN:VEVENT
DTSTART;TZID=America/Halifax:20241129T173000
DTEND;TZID=America/Halifax:20241129T183000
DTSTAMP:20260424T151730
CREATED:20240625T163211Z
LAST-MODIFIED:20240625T163746Z
UID:12154-1732901400-1732905000@theshaar.ca
SUMMARY:Kabbalat Shabbat - Welcoming Shabbat Services
DESCRIPTION:Please join us in person for services on Friday evenings and Saturday mornings. \nAll services – Shabbat evenings and mornings – can also be accessed over StreamSpot by clicking here. \nThe StreamSpot platform allows you to log-on before Shabbat/the festival begins\, and keep the stream running untouched for the duration of Shabbat.
URL:https://theshaar.ca/event/kabbalat-shabbat-welcoming-shabbat-services-7/2024-11-29/
LOCATION:Shaar Shalom Synagogue
CATEGORIES:Services
END:VEVENT
BEGIN:VEVENT
DTSTART;TZID=America/Halifax:20241123T091500
DTEND;TZID=America/Halifax:20241123T113000
DTSTAMP:20260424T151730
CREATED:20200730T203714Z
LAST-MODIFIED:20260203T180313Z
UID:10442-1732353300-1732361400@theshaar.ca
SUMMARY:Shabbat Morning Services
DESCRIPTION:All services – Shabbat evenings and mornings – can also be accessed over StreamSpot by clicking here. \nThe StreamSpot platform allows you to log-on before Shabbat/the festival begins\, and keep the stream running untouched for the duration of Shabbat.
URL:https://theshaar.ca/event/shabbat-morning-services-3/2024-11-23/
LOCATION:The Shaar\, 1981 Oxford St\, Halifax\, NS\, B3H 4A4\, Canada
CATEGORIES:Services
GEO:44.6442349;-63.599906
X-APPLE-STRUCTURED-LOCATION;VALUE=URI;X-ADDRESS=The Shaar 1981 Oxford St Halifax NS B3H 4A4 Canada;X-APPLE-RADIUS=500;X-TITLE=1981 Oxford St:geo:-63.599906,44.6442349
END:VEVENT
BEGIN:VEVENT
DTSTART;TZID=America/Halifax:20241122T173000
DTEND;TZID=America/Halifax:20241122T183000
DTSTAMP:20260424T151730
CREATED:20240625T163211Z
LAST-MODIFIED:20240625T163746Z
UID:12153-1732296600-1732300200@theshaar.ca
SUMMARY:Kabbalat Shabbat - Welcoming Shabbat Services
DESCRIPTION:Please join us in person for services on Friday evenings and Saturday mornings. \nAll services – Shabbat evenings and mornings – can also be accessed over StreamSpot by clicking here. \nThe StreamSpot platform allows you to log-on before Shabbat/the festival begins\, and keep the stream running untouched for the duration of Shabbat.
URL:https://theshaar.ca/event/kabbalat-shabbat-welcoming-shabbat-services-7/2024-11-22/
LOCATION:Shaar Shalom Synagogue
CATEGORIES:Services
END:VEVENT
BEGIN:VEVENT
DTSTART;TZID=America/Halifax:20241116T091500
DTEND;TZID=America/Halifax:20241116T113000
DTSTAMP:20260424T151730
CREATED:20200730T203714Z
LAST-MODIFIED:20260203T180313Z
UID:10360-1731748500-1731756600@theshaar.ca
SUMMARY:Shabbat Morning Services
DESCRIPTION:All services – Shabbat evenings and mornings – can also be accessed over StreamSpot by clicking here. \nThe StreamSpot platform allows you to log-on before Shabbat/the festival begins\, and keep the stream running untouched for the duration of Shabbat.
URL:https://theshaar.ca/event/shabbat-morning-services-3/2024-11-16/
LOCATION:The Shaar\, 1981 Oxford St\, Halifax\, NS\, B3H 4A4\, Canada
CATEGORIES:Services
GEO:44.6442349;-63.599906
X-APPLE-STRUCTURED-LOCATION;VALUE=URI;X-ADDRESS=The Shaar 1981 Oxford St Halifax NS B3H 4A4 Canada;X-APPLE-RADIUS=500;X-TITLE=1981 Oxford St:geo:-63.599906,44.6442349
END:VEVENT
BEGIN:VEVENT
DTSTART;TZID=America/Halifax:20241115T173000
DTEND;TZID=America/Halifax:20241115T183000
DTSTAMP:20260424T151730
CREATED:20240625T163211Z
LAST-MODIFIED:20240625T163745Z
UID:12152-1731691800-1731695400@theshaar.ca
SUMMARY:Kabbalat Shabbat - Welcoming Shabbat Services
DESCRIPTION:Please join us in person for services on Friday evenings and Saturday mornings. \nAll services – Shabbat evenings and mornings – can also be accessed over StreamSpot by clicking here. \nThe StreamSpot platform allows you to log-on before Shabbat/the festival begins\, and keep the stream running untouched for the duration of Shabbat.
URL:https://theshaar.ca/event/kabbalat-shabbat-welcoming-shabbat-services-7/2024-11-15/
LOCATION:Shaar Shalom Synagogue
CATEGORIES:Services
END:VEVENT
BEGIN:VEVENT
DTSTART;TZID=America/Halifax:20241109T091500
DTEND;TZID=America/Halifax:20241109T113000
DTSTAMP:20260424T151730
CREATED:20200730T203714Z
LAST-MODIFIED:20260203T180312Z
UID:10355-1731143700-1731151800@theshaar.ca
SUMMARY:Shabbat Morning Services
DESCRIPTION:All services – Shabbat evenings and mornings – can also be accessed over StreamSpot by clicking here. \nThe StreamSpot platform allows you to log-on before Shabbat/the festival begins\, and keep the stream running untouched for the duration of Shabbat.
URL:https://theshaar.ca/event/shabbat-morning-services-3/2024-11-09/
LOCATION:The Shaar\, 1981 Oxford St\, Halifax\, NS\, B3H 4A4\, Canada
CATEGORIES:Services
GEO:44.6442349;-63.599906
X-APPLE-STRUCTURED-LOCATION;VALUE=URI;X-ADDRESS=The Shaar 1981 Oxford St Halifax NS B3H 4A4 Canada;X-APPLE-RADIUS=500;X-TITLE=1981 Oxford St:geo:-63.599906,44.6442349
END:VEVENT
BEGIN:VEVENT
DTSTART;TZID=America/Halifax:20241108T173000
DTEND;TZID=America/Halifax:20241108T183000
DTSTAMP:20260424T151730
CREATED:20240625T163211Z
LAST-MODIFIED:20240625T163745Z
UID:12115-1731087000-1731090600@theshaar.ca
SUMMARY:Kabbalat Shabbat - Welcoming Shabbat Services
DESCRIPTION:Please join us in person for services on Friday evenings and Saturday mornings. \nAll services – Shabbat evenings and mornings – can also be accessed over StreamSpot by clicking here. \nThe StreamSpot platform allows you to log-on before Shabbat/the festival begins\, and keep the stream running untouched for the duration of Shabbat.
URL:https://theshaar.ca/event/kabbalat-shabbat-welcoming-shabbat-services-7/2024-11-08/
LOCATION:Shaar Shalom Synagogue
CATEGORIES:Services
END:VEVENT
BEGIN:VEVENT
DTSTART;TZID=America/Halifax:20241102T091500
DTEND;TZID=America/Halifax:20241102T113000
DTSTAMP:20260424T151730
CREATED:20200730T203714Z
LAST-MODIFIED:20260203T180312Z
UID:10349-1730538900-1730547000@theshaar.ca
SUMMARY:Shabbat Morning Services
DESCRIPTION:All services – Shabbat evenings and mornings – can also be accessed over StreamSpot by clicking here. \nThe StreamSpot platform allows you to log-on before Shabbat/the festival begins\, and keep the stream running untouched for the duration of Shabbat.
URL:https://theshaar.ca/event/shabbat-morning-services-3/2024-11-02/
LOCATION:The Shaar\, 1981 Oxford St\, Halifax\, NS\, B3H 4A4\, Canada
CATEGORIES:Services
GEO:44.6442349;-63.599906
X-APPLE-STRUCTURED-LOCATION;VALUE=URI;X-ADDRESS=The Shaar 1981 Oxford St Halifax NS B3H 4A4 Canada;X-APPLE-RADIUS=500;X-TITLE=1981 Oxford St:geo:-63.599906,44.6442349
END:VEVENT
BEGIN:VEVENT
DTSTART;TZID=America/Halifax:20241101T183000
DTEND;TZID=America/Halifax:20241101T193000
DTSTAMP:20260424T151730
CREATED:20240425T183319Z
LAST-MODIFIED:20240425T183319Z
UID:12151-1730485800-1730489400@theshaar.ca
SUMMARY:Kabbalat Shabbat - Welcoming Shabbat Services
DESCRIPTION:Please join us in person for services on Friday evenings and Saturday mornings. \nAll services – Shabbat evenings and mornings – can also be accessed over StreamSpot by clicking here. \nThe StreamSpot platform allows you to log-on before Shabbat/the festival begins\, and keep the stream running untouched for the duration of Shabbat.
URL:https://theshaar.ca/event/kabbalat-shabbat-welcoming-shabbat-services-6/2024-11-01/
LOCATION:The Shaar\, 1981 Oxford St\, Halifax\, NS\, B3H 4A4\, Canada
CATEGORIES:Services
GEO:44.6442349;-63.599906
X-APPLE-STRUCTURED-LOCATION;VALUE=URI;X-ADDRESS=The Shaar 1981 Oxford St Halifax NS B3H 4A4 Canada;X-APPLE-RADIUS=500;X-TITLE=1981 Oxford St:geo:-63.599906,44.6442349
END:VEVENT
BEGIN:VEVENT
DTSTART;TZID=America/Halifax:20241026T091500
DTEND;TZID=America/Halifax:20241026T113000
DTSTAMP:20260424T151730
CREATED:20200730T203714Z
LAST-MODIFIED:20240924T214428Z
UID:10288-1729934100-1729942200@theshaar.ca
SUMMARY:Shabbat Bereshit Morning Service
DESCRIPTION:Please join us for the Shabbat Bereshit morning service in person or over StreamSpot by clicking here. \nThe StreamSpot platform allows you to log-on before Shabbat/the festival begins\, and keep the stream running untouched for the duration of Shabbat.
URL:https://theshaar.ca/event/shabbat-morning-services-3-2024-10-26/
LOCATION:The Shaar\, 1981 Oxford St\, Halifax\, NS\, B3H 4A4\, Canada
CATEGORIES:Services
GEO:44.6442349;-63.599906
X-APPLE-STRUCTURED-LOCATION;VALUE=URI;X-ADDRESS=The Shaar 1981 Oxford St Halifax NS B3H 4A4 Canada;X-APPLE-RADIUS=500;X-TITLE=1981 Oxford St:geo:-63.599906,44.6442349
END:VEVENT
BEGIN:VEVENT
DTSTART;TZID=America/Halifax:20241025T183000
DTEND;TZID=America/Halifax:20241025T193000
DTSTAMP:20260424T151730
CREATED:20240425T183319Z
LAST-MODIFIED:20240425T183319Z
UID:12150-1729881000-1729884600@theshaar.ca
SUMMARY:Kabbalat Shabbat - Welcoming Shabbat Services
DESCRIPTION:Please join us in person for services on Friday evenings and Saturday mornings. \nAll services – Shabbat evenings and mornings – can also be accessed over StreamSpot by clicking here. \nThe StreamSpot platform allows you to log-on before Shabbat/the festival begins\, and keep the stream running untouched for the duration of Shabbat.
URL:https://theshaar.ca/event/kabbalat-shabbat-welcoming-shabbat-services-6/2024-10-25/
LOCATION:The Shaar\, 1981 Oxford St\, Halifax\, NS\, B3H 4A4\, Canada
CATEGORIES:Services
GEO:44.6442349;-63.599906
X-APPLE-STRUCTURED-LOCATION;VALUE=URI;X-ADDRESS=The Shaar 1981 Oxford St Halifax NS B3H 4A4 Canada;X-APPLE-RADIUS=500;X-TITLE=1981 Oxford St:geo:-63.599906,44.6442349
END:VEVENT
BEGIN:VEVENT
DTSTART;TZID=America/Halifax:20241025T091500
DTEND;TZID=America/Halifax:20241025T113000
DTSTAMP:20260424T151730
CREATED:20240924T214017Z
LAST-MODIFIED:20240924T214017Z
UID:12357-1729847700-1729855800@theshaar.ca
SUMMARY:Simchat Torah Morning Service with Special Torah Honours
DESCRIPTION:Please join us for Simchat Torah morning service (with Special Torah Honours) in person or over StreamSpot by clicking here. \nThe StreamSpot platform allows you to log-on before Shabbat/the festival begins\, and keep the stream running untouched for the duration of Shabbat.
URL:https://theshaar.ca/event/simchat-torah-morning-service-with-special-torah-honours-2/
LOCATION:The Shaar\, 1981 Oxford St\, Halifax\, NS\, B3H 4A4\, Canada
CATEGORIES:Services
GEO:44.6442349;-63.599906
X-APPLE-STRUCTURED-LOCATION;VALUE=URI;X-ADDRESS=The Shaar 1981 Oxford St Halifax NS B3H 4A4 Canada;X-APPLE-RADIUS=500;X-TITLE=1981 Oxford St:geo:-63.599906,44.6442349
END:VEVENT
BEGIN:VEVENT
DTSTART;TZID=America/Halifax:20241024T180000
DTEND;TZID=America/Halifax:20241024T200000
DTSTAMP:20260424T151730
CREATED:20240924T213741Z
LAST-MODIFIED:20240924T213741Z
UID:12354-1729792800-1729800000@theshaar.ca
SUMMARY:Erev Simchat Torah Service (Children's Procession)
DESCRIPTION:Please join us for Erev Simchat Torah Service with the children’s procession in person or over StreamSpot by clicking here. \nThe StreamSpot platform allows you to log-on before Shabbat/the festival begins\, and keep the stream running untouched for the duration of Shabbat.
URL:https://theshaar.ca/event/erev-simchat-torah-service-childrens-procession/
LOCATION:The Shaar\, 1981 Oxford St\, Halifax\, NS\, B3H 4A4\, Canada
CATEGORIES:Services
GEO:44.6442349;-63.599906
X-APPLE-STRUCTURED-LOCATION;VALUE=URI;X-ADDRESS=The Shaar 1981 Oxford St Halifax NS B3H 4A4 Canada;X-APPLE-RADIUS=500;X-TITLE=1981 Oxford St:geo:-63.599906,44.6442349
END:VEVENT
END:VCALENDAR