BEGIN:VCALENDAR
VERSION:2.0
PRODID:-//Shaar Shalom Synagogue - ECPv6.15.20//NONSGML v1.0//EN
CALSCALE:GREGORIAN
METHOD:PUBLISH
X-WR-CALNAME:Shaar Shalom Synagogue
X-ORIGINAL-URL:https://theshaar.ca
X-WR-CALDESC:Events for Shaar Shalom Synagogue
REFRESH-INTERVAL;VALUE=DURATION:PT1H
X-Robots-Tag:noindex
X-PUBLISHED-TTL:PT1H
BEGIN:VTIMEZONE
TZID:America/Halifax
BEGIN:DAYLIGHT
TZOFFSETFROM:-0400
TZOFFSETTO:-0300
TZNAME:ADT
DTSTART:20240310T060000
END:DAYLIGHT
BEGIN:STANDARD
TZOFFSETFROM:-0300
TZOFFSETTO:-0400
TZNAME:AST
DTSTART:20241103T050000
END:STANDARD
BEGIN:DAYLIGHT
TZOFFSETFROM:-0400
TZOFFSETTO:-0300
TZNAME:ADT
DTSTART:20250309T060000
END:DAYLIGHT
BEGIN:STANDARD
TZOFFSETFROM:-0300
TZOFFSETTO:-0400
TZNAME:AST
DTSTART:20251102T050000
END:STANDARD
BEGIN:DAYLIGHT
TZOFFSETFROM:-0400
TZOFFSETTO:-0300
TZNAME:ADT
DTSTART:20260308T060000
END:DAYLIGHT
BEGIN:STANDARD
TZOFFSETFROM:-0300
TZOFFSETTO:-0400
TZNAME:AST
DTSTART:20261101T050000
END:STANDARD
END:VTIMEZONE
BEGIN:VEVENT
DTSTART;TZID=America/Halifax:20250727T100000
DTEND;TZID=America/Halifax:20250727T120000
DTSTAMP:20260424T195213
CREATED:20250717T145443Z
LAST-MODIFIED:20250717T145443Z
UID:12513-1753610400-1753617600@theshaar.ca
SUMMARY:BOOK CLUB MEETING
DESCRIPTION:Our next meeting will be Sunday\, July 27 at 10:00am in the comfort of your own home via Zoom! \nWe will be discussing Iddo Gefen’s: Mrs. Lilienblum’s Cloud Factory \nJOIN ZOOM MEETING \nhttps://us06web.zoom.us/j/85858525861?pwd=5du1Rr3x504kwXrEZy8nxs483yFZwK.1 \nMeeting ID: 858 5852 5861 \nPassword: 1955 \nSYNOPSIS \n“[A] comic masterpiece . . . the novel’s many savvy moments . . . reveal its undeniable humanity and make it such a delight.”\n—Harvey Freedenberg\, Shelf Awareness \n“[Mrs. Lilienblum’s Cloud Factory is] an endlessly entertaining send-up of startup culture as well as a story about families\, love\, and secrets.”\n—Naomi Firestone-Teeter\, GOLDA \n“Iddo Gefen has produced a marvelous novel­—wise\, surreal\, funny and a fascinating story. Mrs. Lilienblum’s Cloud Factory has traces of Gabriel García Márquez\, mixed with the wise men of Chelm\, and a dash of Sunset Boulevard. A spectacular achievement.”\n—Max Gross\, author of The Lost Shtetl \nA comic novel for fans of Adelle Waldman about a tech startup that turns sand into rain clouds from Sami Rohr prize winner Iddo Gefen. \nOur story opens with Mrs. Lilienblum discovered drinking a martini in a crater in the Israeli desert. Eli\, her adult son\, tries to understand what happened to his wacky mother\, while he also tackles the legend of a missing hiker named McMurphy\, and whether he might be in love with Tamara\, a visitor to his family’s hostel on the edge of a crater. \nThe story races forward as the Lilienblum family builds a company around Eli’s mother’s invention and makes comedy out of startup culture\, the obsession with company valuation and funding\, the secrets families keep\, romantic and family love–all with humor\, warmth and compassion. \n  \nABOUT THE AUTHOR \n Iddo Gefen is an author and a Ph.D. student in cognitive neuroscience at Columbia University\, currently based in New York City. His research explores the intricate relationship between narrative understanding\, human memory\, and decision-making. Gefen’s debut short story collection\, Jerusalem Beach\, won the 2023 Sami Rohr Prize for Jewish Literature. One of the stories from the book is currently being adapted into a film by Ryan Gosling’s production company.
URL:https://theshaar.ca/event/book-club-meeting-33/
LOCATION:The Shaar\, 1981 Oxford St\, Halifax\, NS\, B3H 4A4\, Canada
ATTACH;FMTTYPE=image/jpeg:/wp-content/uploads/2025/07/July-1.jpeg
GEO:44.6442349;-63.599906
X-APPLE-STRUCTURED-LOCATION;VALUE=URI;X-ADDRESS=The Shaar 1981 Oxford St Halifax NS B3H 4A4 Canada;X-APPLE-RADIUS=500;X-TITLE=1981 Oxford St:geo:-63.599906,44.6442349
END:VEVENT
END:VCALENDAR