BEGIN:VCALENDAR
VERSION:2.0
PRODID:-//Shaar Shalom Synagogue - ECPv6.15.20//NONSGML v1.0//EN
CALSCALE:GREGORIAN
METHOD:PUBLISH
X-WR-CALNAME:Shaar Shalom Synagogue
X-ORIGINAL-URL:https://theshaar.ca
X-WR-CALDESC:Events for Shaar Shalom Synagogue
REFRESH-INTERVAL;VALUE=DURATION:PT1H
X-Robots-Tag:noindex
X-PUBLISHED-TTL:PT1H
BEGIN:VTIMEZONE
TZID:America/Halifax
BEGIN:DAYLIGHT
TZOFFSETFROM:-0400
TZOFFSETTO:-0300
TZNAME:ADT
DTSTART:20230312T060000
END:DAYLIGHT
BEGIN:STANDARD
TZOFFSETFROM:-0300
TZOFFSETTO:-0400
TZNAME:AST
DTSTART:20231105T050000
END:STANDARD
BEGIN:DAYLIGHT
TZOFFSETFROM:-0400
TZOFFSETTO:-0300
TZNAME:ADT
DTSTART:20240310T060000
END:DAYLIGHT
BEGIN:STANDARD
TZOFFSETFROM:-0300
TZOFFSETTO:-0400
TZNAME:AST
DTSTART:20241103T050000
END:STANDARD
BEGIN:DAYLIGHT
TZOFFSETFROM:-0400
TZOFFSETTO:-0300
TZNAME:ADT
DTSTART:20250309T060000
END:DAYLIGHT
BEGIN:STANDARD
TZOFFSETFROM:-0300
TZOFFSETTO:-0400
TZNAME:AST
DTSTART:20251102T050000
END:STANDARD
END:VTIMEZONE
BEGIN:VEVENT
DTSTART;TZID=America/Halifax:20241229T100000
DTEND;TZID=America/Halifax:20241229T120000
DTSTAMP:20260425T210338
CREATED:20241218T182408Z
LAST-MODIFIED:20241218T182408Z
UID:12408-1735466400-1735473600@theshaar.ca
SUMMARY:December Book Club
DESCRIPTION:Our next meeting will be Sunday\, December 29 at 10:00am in the comfort of your own home via Zoom! \nWe will be discussing Cherise Wolas’: The Family Tabor \nJOIN ZOOM MEETING \nhttps://us06web.zoom.us/j/85340911086?pwd=qD7HpIrXQiQboQZDdYvaybPJKjLJDs.1 \nMeeting ID: 853 4091 1086 \nPassword: 1955 \nSYNOPSIS \nHarry Tabor is about to be named Man of the Decade\, a distinction that feels like the culmination of a life well lived. Gathering together in Palm Springs for the celebration are his wife Roma\, a distinguished child psychologist\, and their children: Phoebe\, a high-powered attorney; Camille\, a brilliant social anthropologist; and Simon\, a big-firm lawyer\, who brings his glamorous wife and two young daughters. Set over the course of a single weekend\, and … alternating between the five Tabors\, this novel reckons with the nature of the stories we tell ourselves and our family and the price we pay for second chances. \nABOUT THE AUTHOR \n Cherise Wolas is a writer\, edi­tor and film pro­duc­er whose movies include the SXSW Audi­ence Award win­ner Dark­on. A native of Los Ange­les\, she holds a BFA in film from New York Uni­ver­si­ty’s Tisch School of the Arts and a JD from Loy­ola Law School. She lives in New York City with her husband.
URL:https://theshaar.ca/event/december-book-club/
LOCATION:The Shaar\, 1981 Oxford St\, Halifax\, NS\, B3H 4A4\, Canada
ATTACH;FMTTYPE=image/jpeg:/wp-content/uploads/2024/12/The-Family-Tabor-scaled.jpg
GEO:44.6442349;-63.599906
X-APPLE-STRUCTURED-LOCATION;VALUE=URI;X-ADDRESS=The Shaar 1981 Oxford St Halifax NS B3H 4A4 Canada;X-APPLE-RADIUS=500;X-TITLE=1981 Oxford St:geo:-63.599906,44.6442349
END:VEVENT
END:VCALENDAR